BEGIN:VCALENDAR
VERSION:2.0
PRODID:-//Karlstads Allmänna Schacksällskap - ECPv6.15.20//NONSGML v1.0//EN
CALSCALE:GREGORIAN
METHOD:PUBLISH
X-WR-CALNAME:Karlstads Allmänna Schacksällskap
X-ORIGINAL-URL:https://karlstad.schack.se
X-WR-CALDESC:Händelser för Karlstads Allmänna Schacksällskap
REFRESH-INTERVAL;VALUE=DURATION:PT1H
X-Robots-Tag:noindex
X-PUBLISHED-TTL:PT1H
BEGIN:VTIMEZONE
TZID:Europe/Stockholm
BEGIN:DAYLIGHT
TZOFFSETFROM:+0100
TZOFFSETTO:+0200
TZNAME:CEST
DTSTART:20250330T010000
END:DAYLIGHT
BEGIN:STANDARD
TZOFFSETFROM:+0200
TZOFFSETTO:+0100
TZNAME:CET
DTSTART:20251026T010000
END:STANDARD
BEGIN:DAYLIGHT
TZOFFSETFROM:+0100
TZOFFSETTO:+0200
TZNAME:CEST
DTSTART:20260329T010000
END:DAYLIGHT
BEGIN:STANDARD
TZOFFSETFROM:+0200
TZOFFSETTO:+0100
TZNAME:CET
DTSTART:20261025T010000
END:STANDARD
BEGIN:DAYLIGHT
TZOFFSETFROM:+0100
TZOFFSETTO:+0200
TZNAME:CEST
DTSTART:20270328T010000
END:DAYLIGHT
BEGIN:STANDARD
TZOFFSETFROM:+0200
TZOFFSETTO:+0100
TZNAME:CET
DTSTART:20271031T010000
END:STANDARD
END:VTIMEZONE
BEGIN:VEVENT
DTSTART;TZID=Europe/Stockholm:20260602T190000
DTEND;TZID=Europe/Stockholm:20260602T210000
DTSTAMP:20260419T214050
CREATED:20260219T234728Z
LAST-MODIFIED:20260220T000023Z
UID:11021-1780426800-1780434000@karlstad.schack.se
SUMMARY:Säsongsavslutning för tisdagar
DESCRIPTION:Fika och spel\, oavsett tidigare erfarenhet. Avslut innan sommaruppehåll.
URL:https://karlstad.schack.se/evenemang/sasongsavslutning-tisdagar/
LOCATION:Karlstad AS spellokal\, Sundbergsgatan 12b\, Karlstad\, 652 19\, Sverige
ORGANIZER;CN="Karlstads Allm%C3%A4nna Schacks%C3%A4llskap":MAILTO:karlstad.schacksallskap@gmail.com
END:VEVENT
BEGIN:VEVENT
DTSTART;TZID=Europe/Stockholm:20260604T180000
DTEND;TZID=Europe/Stockholm:20260604T200000
DTSTAMP:20260419T214050
CREATED:20260219T223026Z
LAST-MODIFIED:20260219T234938Z
UID:10985-1780596000-1780603200@karlstad.schack.se
SUMMARY:Terminsavslutning Juniorgrupp
DESCRIPTION:Säsongsavslutning innan sommaruppehåll.
URL:https://karlstad.schack.se/evenemang/terminsavslutning-juniorgrupp/
LOCATION:Karlstad AS spellokal\, Sundbergsgatan 12b\, Karlstad\, 652 19\, Sverige
ORGANIZER;CN="Juniorledare Karlstad AS":MAILTO:karlstad.schacksallskap@gmail.com; arvpas@gmail.com; kjellake.andersson56@outlook.com; andrewwegerif@gmail.com
END:VEVENT
END:VCALENDAR