BEGIN:VCALENDAR
VERSION:2.0
PRODID:-//Karlstads Allmänna Schacksällskap - ECPv6.15.20//NONSGML v1.0//EN
CALSCALE:GREGORIAN
METHOD:PUBLISH
X-WR-CALNAME:Karlstads Allmänna Schacksällskap
X-ORIGINAL-URL:https://karlstad.schack.se
X-WR-CALDESC:Händelser för Karlstads Allmänna Schacksällskap
REFRESH-INTERVAL;VALUE=DURATION:PT1H
X-Robots-Tag:noindex
X-PUBLISHED-TTL:PT1H
BEGIN:VTIMEZONE
TZID:Europe/Stockholm
BEGIN:DAYLIGHT
TZOFFSETFROM:+0100
TZOFFSETTO:+0200
TZNAME:CEST
DTSTART:20250330T010000
END:DAYLIGHT
BEGIN:STANDARD
TZOFFSETFROM:+0200
TZOFFSETTO:+0100
TZNAME:CET
DTSTART:20251026T010000
END:STANDARD
BEGIN:DAYLIGHT
TZOFFSETFROM:+0100
TZOFFSETTO:+0200
TZNAME:CEST
DTSTART:20260329T010000
END:DAYLIGHT
BEGIN:STANDARD
TZOFFSETFROM:+0200
TZOFFSETTO:+0100
TZNAME:CET
DTSTART:20261025T010000
END:STANDARD
BEGIN:DAYLIGHT
TZOFFSETFROM:+0100
TZOFFSETTO:+0200
TZNAME:CEST
DTSTART:20270328T010000
END:DAYLIGHT
BEGIN:STANDARD
TZOFFSETFROM:+0200
TZOFFSETTO:+0100
TZNAME:CET
DTSTART:20271031T010000
END:STANDARD
END:VTIMEZONE
BEGIN:VEVENT
DTSTART;TZID=Europe/Stockholm:20260106T100000
DTEND;TZID=Europe/Stockholm:20260106T130000
DTSTAMP:20260419T190645
CREATED:20251213T144253Z
LAST-MODIFIED:20251213T144641Z
UID:10646-1767693600-1767704400@karlstad.schack.se
SUMMARY:Lagblixt-DM
DESCRIPTION:Värmlands schackförbund inbjuder till lagblixt-DM 2026. \nAvprickning 9.45 \n3 min + 2 sek . 4-mannalag\, två divisioner. \nStartavgift 200 kr/lag. För medlemmar i Karlstad AS så står klubben för avgifter\, dvs gratis att delta. \nSwish 1236803613 eller bankgiro 525-0717 \nAnmälan till kjellake.andersson56@outlook.com senast 2 jan 2026
URL:https://karlstad.schack.se/evenemang/lagblixt-dm-2/
LOCATION:Hammarö Sockenstuga\, Sverres väg 5\, Hammarö\, 663 41\, Sverige
ORGANIZER;CN="V%C3%A4rmlands Schackf%C3%B6rbund":MAILTO:kjellake.andersson56@outlook.com
END:VEVENT
BEGIN:VEVENT
DTSTART;TZID=Europe/Stockholm:20260111T100000
DTEND;TZID=Europe/Stockholm:20260111T143000
DTSTAMP:20260419T190645
CREATED:20251023T150520Z
LAST-MODIFIED:20251023T150653Z
UID:10413-1768125600-1768141800@karlstad.schack.se
SUMMARY:Allsvenskan R5
DESCRIPTION:Div II Grupp 4 \nBortamatch mot Säffle SK
URL:https://karlstad.schack.se/evenemang/allsvenskan-r5/
LOCATION:Säffle Schackklubb\, Västra Storgatan 10\, Säffle\, 661 30\, Sverige
ORGANIZER;CN="Henrik Norberg":MAILTO:norbergh@hotmail.com
END:VEVENT
BEGIN:VEVENT
DTSTART;TZID=Europe/Stockholm:20260113T190000
DTEND;TZID=Europe/Stockholm:20260113T210000
DTSTAMP:20260419T190645
CREATED:20251213T145719Z
LAST-MODIFIED:20251213T145820Z
UID:10653-1768330800-1768338000@karlstad.schack.se
SUMMARY:Midvinterblixt / Nybörjarträning
DESCRIPTION:Säsongstart tisdagskvällar. Blixtturnering för de som vill. \nTräning för nya spelare parallellt.
URL:https://karlstad.schack.se/evenemang/midvinterblixt-nyborjartraning/
LOCATION:Karlstad AS spellokal\, Sundbergsgatan 12b\, Karlstad\, 652 19\, Sverige
ORGANIZER;CN="Lars-Erik Johansson":MAILTO:larserik21.johansson@gmail.com
END:VEVENT
BEGIN:VEVENT
DTSTART;TZID=Europe/Stockholm:20260115T180000
DTEND;TZID=Europe/Stockholm:20260115T200000
DTSTAMP:20260419T190645
CREATED:20251213T144916Z
LAST-MODIFIED:20260113T232136Z
UID:10651-1768500000-1768507200@karlstad.schack.se
SUMMARY:Juniorgrupp säsongstart
DESCRIPTION:Alla är välkomna mellan 18.00 och 20.00. Generellt ligger fokus på \nKl 18-19 de allra yngsta (<10 år) och nybörjare. Mittenrum och kök. \nKl 19-20 äldre juniorer och/eller juniorer med spelvana. \nValfritt spelrum för alla efter kl 19 om ej turnering pågår. \nCa varannan torsdagskväll har vi en förannonserad turnering. Turneringar hålls i bortre spelrummet\, och startar ca 18.30. \nFör att delta behöver du anmäla dig personligen minst 5 min innan start.
URL:https://karlstad.schack.se/evenemang/juniorgrupp-sasongstart/
LOCATION:Karlstad AS spellokal\, Sundbergsgatan 12b\, Karlstad\, 652 19\, Sverige
ORGANIZER;CN="Juniorledare Karlstad AS":MAILTO:karlstad.schacksallskap@gmail.com; arvpas@gmail.com; kjellake.andersson56@outlook.com; andrewwegerif@gmail.com
END:VEVENT
BEGIN:VEVENT
DTSTART;TZID=Europe/Stockholm:20260117T100000
DTEND;TZID=Europe/Stockholm:20260117T140000
DTSTAMP:20260419T190645
CREATED:20251023T143702Z
LAST-MODIFIED:20251023T143702Z
UID:10399-1768644000-1768658400@karlstad.schack.se
SUMMARY:Värmlandsserien Rond 3
DESCRIPTION:Turneringslänk
URL:https://karlstad.schack.se/evenemang/varmlandsserien-rond-3/
ORGANIZER;CN="Arvid P%C3%A5sse":MAILTO:arvpas@gmail.com
END:VEVENT
BEGIN:VEVENT
DTSTART;TZID=Europe/Stockholm:20260120T190000
DTEND;TZID=Europe/Stockholm:20260120T210000
DTSTAMP:20260419T190645
CREATED:20260111T163940Z
LAST-MODIFIED:20260112T173025Z
UID:10692-1768935600-1768942800@karlstad.schack.se
SUMMARY:Snabbschack / Nybörjarträning
DESCRIPTION:Spellokalen är öppen från kl 18.30 \nSnabbschack tidskontroll 10 min + 2 sek tillägg. \nTräning för de som vill\, separat från turneringen.
URL:https://karlstad.schack.se/evenemang/snabbschack-nyborjargrupp/
LOCATION:Karlstad AS spellokal\, Sundbergsgatan 12b\, Karlstad\, 652 19\, Sverige
ORGANIZER;CN="Lars-Erik Johansson":MAILTO:larserik21.johansson@gmail.com
END:VEVENT
BEGIN:VEVENT
DTSTART;TZID=Europe/Stockholm:20260122T180000
DTEND;TZID=Europe/Stockholm:20260122T200000
DTSTAMP:20260419T190645
CREATED:20260110T184033Z
LAST-MODIFIED:20260124T130914Z
UID:10669-1769104800-1769112000@karlstad.schack.se
SUMMARY:Juniorgrupp/Turnering Anti-schack
DESCRIPTION:Alla är välkomna mellan 18.00 och 20.00. \nKl 18-19 under 10 år och nybörjare. Mittenrum\, kök. \nÄldre juniorer och/eller juniorer med spelvana\, bortre spelrum. \nValfritt spelrum för alla efter kl 19 om ej turnering pågår. \nUngefär varannan torsdagskväll har vi en förannonserad turnering i bortre spelrummet. \nFör att delta behöver du anmäla dig personligen minst 5 min innan start. \nTurnering i anti-schack startar kl 19.00. 7 ronder\, betänketid är 3 min + 2 sek tilläggstid per drag. \nRegler anti-schack: https://en.wikipedia.org/wiki/Losing_chess \n 
URL:https://karlstad.schack.se/evenemang/juniorgrupp-turnering-anti-schack/
LOCATION:Karlstad AS spellokal\, Sundbergsgatan 12b\, Karlstad\, 652 19\, Sverige
ORGANIZER;CN="Juniorledare Karlstad AS":MAILTO:karlstad.schacksallskap@gmail.com; arvpas@gmail.com; kjellake.andersson56@outlook.com; andrewwegerif@gmail.com
END:VEVENT
BEGIN:VEVENT
DTSTART;TZID=Europe/Stockholm:20260127T183000
DTEND;TZID=Europe/Stockholm:20260127T210000
DTSTAMP:20260419T190645
CREATED:20260113T205902Z
LAST-MODIFIED:20260124T125349Z
UID:10773-1769538600-1769547600@karlstad.schack.se
SUMMARY:Bullet 2+1  / Nybörjare
DESCRIPTION:Tidskontroll 2 min + 1 sek tilläggstid per drag. Ev dubbelrond beroende på antal. \nTräning för nya spelare i andra rummet. \n 
URL:https://karlstad.schack.se/evenemang/bullet-21-nyborjartraning/
LOCATION:Karlstad AS spellokal\, Sundbergsgatan 12b\, Karlstad\, 652 19\, Sverige
ORGANIZER;CN="Lars-Erik Johansson":MAILTO:larserik21.johansson@gmail.com
END:VEVENT
BEGIN:VEVENT
DTSTART;TZID=Europe/Stockholm:20260129T180000
DTEND;TZID=Europe/Stockholm:20260129T200000
DTSTAMP:20260419T190645
CREATED:20260110T184523Z
LAST-MODIFIED:20260110T190348Z
UID:10673-1769709600-1769716800@karlstad.schack.se
SUMMARY:Juniorgrupp
DESCRIPTION:Alla är välkomna mellan 18.00 och 20.00\, men generellt gäller vårt fokus \nKl 18-19 de allra yngsta (<10 år) och nybörjare. \nKl 19-20 äldre juniorer och/eller juniorer med spelvana. Valfritt spelrum. \nCa varannan torsdagskväll har vi förannonserad turnering/event. Det kommer i så fall hållas i bortre spelrummet\, och starta kl 18.30.\nFör att delta i en turnering behöver du anmäla dig minst 10 min innan start.
URL:https://karlstad.schack.se/evenemang/juniorgrupp-47/
LOCATION:Karlstad AS spellokal\, Sundbergsgatan 12b\, Karlstad\, 652 19\, Sverige
ORGANIZER;CN="Juniorledare Karlstad AS":MAILTO:karlstad.schacksallskap@gmail.com; arvpas@gmail.com; kjellake.andersson56@outlook.com; andrewwegerif@gmail.com
END:VEVENT
END:VCALENDAR