BEGIN:VCALENDAR
VERSION:2.0
PRODID:-//Karlstads Allmänna Schacksällskap - ECPv6.15.20//NONSGML v1.0//EN
CALSCALE:GREGORIAN
METHOD:PUBLISH
X-WR-CALNAME:Karlstads Allmänna Schacksällskap
X-ORIGINAL-URL:https://karlstad.schack.se
X-WR-CALDESC:Händelser för Karlstads Allmänna Schacksällskap
REFRESH-INTERVAL;VALUE=DURATION:PT1H
X-Robots-Tag:noindex
X-PUBLISHED-TTL:PT1H
BEGIN:VTIMEZONE
TZID:Europe/Stockholm
BEGIN:DAYLIGHT
TZOFFSETFROM:+0100
TZOFFSETTO:+0200
TZNAME:CEST
DTSTART:20240331T010000
END:DAYLIGHT
BEGIN:STANDARD
TZOFFSETFROM:+0200
TZOFFSETTO:+0100
TZNAME:CET
DTSTART:20241027T010000
END:STANDARD
BEGIN:DAYLIGHT
TZOFFSETFROM:+0100
TZOFFSETTO:+0200
TZNAME:CEST
DTSTART:20250330T010000
END:DAYLIGHT
BEGIN:STANDARD
TZOFFSETFROM:+0200
TZOFFSETTO:+0100
TZNAME:CET
DTSTART:20251026T010000
END:STANDARD
BEGIN:DAYLIGHT
TZOFFSETFROM:+0100
TZOFFSETTO:+0200
TZNAME:CEST
DTSTART:20260329T010000
END:DAYLIGHT
BEGIN:STANDARD
TZOFFSETFROM:+0200
TZOFFSETTO:+0100
TZNAME:CET
DTSTART:20261025T010000
END:STANDARD
END:VTIMEZONE
BEGIN:VEVENT
DTSTART;TZID=Europe/Stockholm:20250902T203000
DTEND;TZID=Europe/Stockholm:20250902T210000
DTSTAMP:20260420T034743
CREATED:20250820T175612Z
LAST-MODIFIED:20250820T193026Z
UID:9412-1756845000-1756846800@karlstad.schack.se
SUMMARY:Blixtuppstart & Nybörjarträning
DESCRIPTION:Välkommen till säsongstart! \nLokalen är öppen från 18.30\, spel och träning börjar kl 19.00 \nBåde nya och vana spelare är lika välkomna.
URL:https://karlstad.schack.se/evenemang/blixtuppstart-nyborjare/
END:VEVENT
BEGIN:VEVENT
DTSTART;TZID=Europe/Stockholm:20250904T180000
DTEND;TZID=Europe/Stockholm:20250904T200000
DTSTAMP:20260420T034743
CREATED:20250823T121600Z
LAST-MODIFIED:20250824T175010Z
UID:9481-1757008800-1757016000@karlstad.schack.se
SUMMARY:Juniorgrupp
DESCRIPTION:Vi välkomnar alla juniorer\, oavsett erfarenhet. För nya och yngre spelare rekommenderar vi tiden 18-19. Vi har alltid ledare på plats och håller öppet till 20.
URL:https://karlstad.schack.se/evenemang/juniorgrupp-33/
LOCATION:Karlstad AS spellokal\, Sundbergsgatan 12b\, Karlstad\, 652 19\, Sverige
ORGANIZER;CN="Juniorledare Karlstad AS":MAILTO:karlstad.schacksallskap@gmail.com; arvpas@gmail.com; kjellake.andersson56@outlook.com; andrewwegerif@gmail.com
END:VEVENT
BEGIN:VEVENT
DTSTART;TZID=Europe/Stockholm:20250909T190000
DTEND;TZID=Europe/Stockholm:20250909T210000
DTSTAMP:20260420T034743
CREATED:20250820T190407Z
LAST-MODIFIED:20250820T191313Z
UID:9421-1757444400-1757451600@karlstad.schack.se
SUMMARY:Snabbschack & Nybörjarträning
DESCRIPTION:
URL:https://karlstad.schack.se/evenemang/snabbschack-nyborjartraning/
LOCATION:Karlstad AS spellokal\, Sundbergsgatan 12b\, Karlstad\, 652 19\, Sverige
END:VEVENT
BEGIN:VEVENT
DTSTART;TZID=Europe/Stockholm:20250911T180000
DTEND;TZID=Europe/Stockholm:20250911T200000
DTSTAMP:20260420T034743
CREATED:20250824T175852Z
LAST-MODIFIED:20250824T190045Z
UID:9488-1757613600-1757620800@karlstad.schack.se
SUMMARY:Juniorgrupp
DESCRIPTION:Alla juniorer är välkomna\, oavsett erfarenhet. För nya och yngre spelare rekommenderar vi tiden 18-19. Vi har alltid ledare på plats och håller öppet till 20.
URL:https://karlstad.schack.se/evenemang/juniorgrupp-34/
LOCATION:Karlstad AS spellokal\, Sundbergsgatan 12b\, Karlstad\, 652 19\, Sverige
ORGANIZER;CN="Juniorledare Karlstad AS":MAILTO:karlstad.schacksallskap@gmail.com; arvpas@gmail.com; kjellake.andersson56@outlook.com; andrewwegerif@gmail.com
END:VEVENT
BEGIN:VEVENT
DTSTART;TZID=Europe/Stockholm:20250913T140000
DTEND;TZID=Europe/Stockholm:20250913T170000
DTSTAMP:20260420T034743
CREATED:20250213T034257Z
LAST-MODIFIED:20250911T154046Z
UID:8887-1757772000-1757782800@karlstad.schack.se
SUMMARY:Juniorturnering Säffleträffen
DESCRIPTION:Inbjudan
URL:https://karlstad.schack.se/evenemang/wjgp-deltavling-3/
LOCATION:Säffle Schackklubb\, Västra Storgatan 10\, Säffle\, 661 30\, Sverige
ORGANIZER;CN="S%C3%A4ffle Schackklubb":MAILTO:saffleschackskola@gmail.com
END:VEVENT
BEGIN:VEVENT
DTSTART;TZID=Europe/Stockholm:20250916T190000
DTEND;TZID=Europe/Stockholm:20250916T210000
DTSTAMP:20260420T034743
CREATED:20250820T191715Z
LAST-MODIFIED:20250820T213748Z
UID:9423-1758049200-1758056400@karlstad.schack.se
SUMMARY:Studie/Problemlösning & Nybörjarträning
DESCRIPTION:Studie- och problemlösning i varierande svårighetsgrad. \nStöd och anpassade problem finns för nya spelare. \n Spellokalen är öppen från 18.30
URL:https://karlstad.schack.se/evenemang/studie-problemlosning-nyborjartraning/
LOCATION:Karlstad AS spellokal\, Sundbergsgatan 12b\, Karlstad\, 652 19\, Sverige
ORGANIZER;CN="Bo Hedlund":MAILTO:bo.el.hedlund@gmail.com
END:VEVENT
BEGIN:VEVENT
DTSTART;TZID=Europe/Stockholm:20250918T080000
DTEND;TZID=Europe/Stockholm:20250918T170000
DTSTAMP:20260420T034743
CREATED:20250824T190138Z
LAST-MODIFIED:20250824T190138Z
UID:9506-1758182400-1758214800@karlstad.schack.se
SUMMARY:Juniorgrupp
DESCRIPTION:Alla juniorer är välkomna\, oavsett erfarenhet. För nya och yngre spelare rekommenderar vi tiden 18-19. Vi har alltid ledare på plats och håller öppet till 20.
URL:https://karlstad.schack.se/evenemang/juniorgrupp-36/
LOCATION:Karlstad AS spellokal\, Sundbergsgatan 12b\, Karlstad\, 652 19\, Sverige
ORGANIZER;CN="Juniorledare Karlstad AS":MAILTO:karlstad.schacksallskap@gmail.com; arvpas@gmail.com; kjellake.andersson56@outlook.com; andrewwegerif@gmail.com
END:VEVENT
BEGIN:VEVENT
DTSTART;TZID=Europe/Stockholm:20250923T183000
DTEND;TZID=Europe/Stockholm:20250923T210000
DTSTAMP:20260420T034743
CREATED:20250820T193423Z
LAST-MODIFIED:20250820T194528Z
UID:9428-1758652200-1758661200@karlstad.schack.se
SUMMARY:Snabbschack & Nybörjarträning
DESCRIPTION:Vi öppnar lokalen 18.30\, spel och träning börjar kl 19.00 \n 
URL:https://karlstad.schack.se/evenemang/snabbschack-nyborjartraning-2/
END:VEVENT
BEGIN:VEVENT
DTSTART;TZID=Europe/Stockholm:20250925T180000
DTEND;TZID=Europe/Stockholm:20250925T200000
DTSTAMP:20260420T034743
CREATED:20250824T185558Z
LAST-MODIFIED:20250824T185854Z
UID:9501-1758823200-1758830400@karlstad.schack.se
SUMMARY:Juniorgrupp
DESCRIPTION:Alla juniorer är välkomna\, oavsett erfarenhet. För nya och yngre spelare rekommenderar vi tiden 18-19. Vi har alltid ledare på plats och håller öppet till 20.
URL:https://karlstad.schack.se/evenemang/juniorgrupp-35/
LOCATION:Karlstad AS spellokal\, Sundbergsgatan 12b\, Karlstad\, 652 19\, Sverige
ORGANIZER;CN="Juniorledare Karlstad AS":MAILTO:karlstad.schacksallskap@gmail.com; arvpas@gmail.com; kjellake.andersson56@outlook.com; andrewwegerif@gmail.com
END:VEVENT
BEGIN:VEVENT
DTSTART;TZID=Europe/Stockholm:20250930T080000
DTEND;TZID=Europe/Stockholm:20250930T170000
DTSTAMP:20260420T034743
CREATED:20250820T214712Z
LAST-MODIFIED:20251001T211641Z
UID:9439-1759219200-1759251600@karlstad.schack.se
SUMMARY:KM Rond 1 & Nybörjarträning
DESCRIPTION:Klubbmästerskap i långparti (90 min + 30 sek tilläggstid per drag). Rond 1 av 5. \nNybörjarträning hålls parallellt.
URL:https://karlstad.schack.se/evenemang/km-r1-nyborjartraning/
LOCATION:Karlstad AS spellokal\, Sundbergsgatan 12b\, Karlstad\, 652 19\, Sverige
ORGANIZER;CN="Lars-Erik Johansson":MAILTO:larserik21.johansson@gmail.com
END:VEVENT
END:VCALENDAR