BEGIN:VCALENDAR
VERSION:2.0
PRODID:-//Karlstads Allmänna Schacksällskap - ECPv6.15.20//NONSGML v1.0//EN
CALSCALE:GREGORIAN
METHOD:PUBLISH
X-WR-CALNAME:Karlstads Allmänna Schacksällskap
X-ORIGINAL-URL:https://karlstad.schack.se
X-WR-CALDESC:Händelser för Karlstads Allmänna Schacksällskap
REFRESH-INTERVAL;VALUE=DURATION:PT1H
X-Robots-Tag:noindex
X-PUBLISHED-TTL:PT1H
BEGIN:VTIMEZONE
TZID:Europe/Stockholm
BEGIN:DAYLIGHT
TZOFFSETFROM:+0100
TZOFFSETTO:+0200
TZNAME:CEST
DTSTART:20240331T010000
END:DAYLIGHT
BEGIN:STANDARD
TZOFFSETFROM:+0200
TZOFFSETTO:+0100
TZNAME:CET
DTSTART:20241027T010000
END:STANDARD
BEGIN:DAYLIGHT
TZOFFSETFROM:+0100
TZOFFSETTO:+0200
TZNAME:CEST
DTSTART:20250330T010000
END:DAYLIGHT
BEGIN:STANDARD
TZOFFSETFROM:+0200
TZOFFSETTO:+0100
TZNAME:CET
DTSTART:20251026T010000
END:STANDARD
BEGIN:DAYLIGHT
TZOFFSETFROM:+0100
TZOFFSETTO:+0200
TZNAME:CEST
DTSTART:20260329T010000
END:DAYLIGHT
BEGIN:STANDARD
TZOFFSETFROM:+0200
TZOFFSETTO:+0100
TZNAME:CET
DTSTART:20261025T010000
END:STANDARD
END:VTIMEZONE
BEGIN:VEVENT
DTSTART;TZID=Europe/Stockholm:20250821T180000
DTEND;TZID=Europe/Stockholm:20250821T200000
DTSTAMP:20260420T105825
CREATED:20250619T203818Z
LAST-MODIFIED:20250821T090415Z
UID:9396-1755799200-1755806400@karlstad.schack.se
SUMMARY:Juniorgrupp terminstart
DESCRIPTION:Ny säsong! \nVi välkomnar alla juniorer\, oavsett erfarenhet. \nFör nya och yngre spelare rekommenderar vi tiden 18-19. \nVi har alltid ledare på plats och håller öppet till 20.
URL:https://karlstad.schack.se/evenemang/juniorgrupp-terminstart-ht-2025/
LOCATION:Karlstad AS spellokal\, Sundbergsgatan 12b\, Karlstad\, 652 19\, Sverige
ORGANIZER;CN="Juniorledare Karlstad AS":MAILTO:karlstad.schacksallskap@gmail.com; arvpas@gmail.com; kjellake.andersson56@outlook.com; andrewwegerif@gmail.com
END:VEVENT
BEGIN:VEVENT
DTSTART;TZID=Europe/Stockholm:20250828T180000
DTEND;TZID=Europe/Stockholm:20250828T200000
DTSTAMP:20260420T105825
CREATED:20250823T121443Z
LAST-MODIFIED:20250823T121443Z
UID:9479-1756404000-1756411200@karlstad.schack.se
SUMMARY:Juniorgrupp
DESCRIPTION:Vi välkomnar alla juniorer\, oavsett erfarenhet. För nya och yngre spelare rekommenderar vi tiden 18-19. Vi har alltid ledare på plats och håller öppet till 20.
URL:https://karlstad.schack.se/evenemang/juniorgrupp-32/
LOCATION:Karlstad AS spellokal\, Sundbergsgatan 12b\, Karlstad\, 652 19\, Sverige
ORGANIZER;CN="Juniorledare Karlstad AS":MAILTO:karlstad.schacksallskap@gmail.com; arvpas@gmail.com; kjellake.andersson56@outlook.com; andrewwegerif@gmail.com
END:VEVENT
END:VCALENDAR