BEGIN:VCALENDAR
VERSION:2.0
PRODID:-//Karlstads Allmänna Schacksällskap - ECPv6.15.20//NONSGML v1.0//EN
CALSCALE:GREGORIAN
METHOD:PUBLISH
X-WR-CALNAME:Karlstads Allmänna Schacksällskap
X-ORIGINAL-URL:https://karlstad.schack.se
X-WR-CALDESC:Händelser för Karlstads Allmänna Schacksällskap
REFRESH-INTERVAL;VALUE=DURATION:PT1H
X-Robots-Tag:noindex
X-PUBLISHED-TTL:PT1H
BEGIN:VTIMEZONE
TZID:Europe/Stockholm
BEGIN:DAYLIGHT
TZOFFSETFROM:+0100
TZOFFSETTO:+0200
TZNAME:CEST
DTSTART:20240331T010000
END:DAYLIGHT
BEGIN:STANDARD
TZOFFSETFROM:+0200
TZOFFSETTO:+0100
TZNAME:CET
DTSTART:20241027T010000
END:STANDARD
BEGIN:DAYLIGHT
TZOFFSETFROM:+0100
TZOFFSETTO:+0200
TZNAME:CEST
DTSTART:20250330T010000
END:DAYLIGHT
BEGIN:STANDARD
TZOFFSETFROM:+0200
TZOFFSETTO:+0100
TZNAME:CET
DTSTART:20251026T010000
END:STANDARD
BEGIN:DAYLIGHT
TZOFFSETFROM:+0100
TZOFFSETTO:+0200
TZNAME:CEST
DTSTART:20260329T010000
END:DAYLIGHT
BEGIN:STANDARD
TZOFFSETFROM:+0200
TZOFFSETTO:+0100
TZNAME:CET
DTSTART:20261025T010000
END:STANDARD
END:VTIMEZONE
BEGIN:VEVENT
DTSTART;TZID=Europe/Stockholm:20250506T190000
DTEND;TZID=Europe/Stockholm:20250506T210000
DTSTAMP:20260420T190423
CREATED:20250226T182310Z
LAST-MODIFIED:20250226T182310Z
UID:9142-1746558000-1746565200@karlstad.schack.se
SUMMARY:KM i problemlösning + Nybörjare
DESCRIPTION:KM i problemlösning. \nParallell verksamhet för nybörjare i andra rummet.  \nSpellokalen är öppen från 18.30
URL:https://karlstad.schack.se/evenemang/km-i-problemlosning-nyborjare/
LOCATION:Karlstad AS spellokal\, Sundbergsgatan 12b\, Karlstad\, 652 19\, Sverige
ORGANIZER;CN="Bo Hedlund":MAILTO:bo.el.hedlund@gmail.com
END:VEVENT
BEGIN:VEVENT
DTSTART;TZID=Europe/Stockholm:20250508T180000
DTEND;TZID=Europe/Stockholm:20250508T200000
DTSTAMP:20260420T190423
CREATED:20250226T210032Z
LAST-MODIFIED:20250226T210032Z
UID:9166-1746727200-1746734400@karlstad.schack.se
SUMMARY:Juniorgrupp
DESCRIPTION:
URL:https://karlstad.schack.se/evenemang/juniorgrupp-29/
LOCATION:Karlstad AS spellokal\, Sundbergsgatan 12b\, Karlstad\, 652 19\, Sverige
ORGANIZER;CN="Juniorledare Karlstad AS":MAILTO:karlstad.schacksallskap@gmail.com; arvpas@gmail.com; kjellake.andersson56@outlook.com; andrewwegerif@gmail.com
END:VEVENT
BEGIN:VEVENT
DTSTART;TZID=Europe/Stockholm:20250510T140000
DTEND;TZID=Europe/Stockholm:20250510T170000
DTSTAMP:20260420T190423
CREATED:20250213T034015Z
LAST-MODIFIED:20250419T120744Z
UID:8885-1746885600-1746896400@karlstad.schack.se
SUMMARY:Juniorturnering WJGP 2 Karlstad
DESCRIPTION:
URL:https://karlstad.schack.se/evenemang/wjgp-deltavling-2/
LOCATION:Karlstad AS spellokal\, Sundbergsgatan 12b\, Karlstad\, 652 19\, Sverige
ORGANIZER;CN="Juniorledare Karlstad AS":MAILTO:karlstad.schacksallskap@gmail.com; arvpas@gmail.com; kjellake.andersson56@outlook.com; andrewwegerif@gmail.com
END:VEVENT
BEGIN:VEVENT
DTSTART;TZID=Europe/Stockholm:20250513T190000
DTEND;TZID=Europe/Stockholm:20250513T190000
DTSTAMP:20260420T190423
CREATED:20250226T182030Z
LAST-MODIFIED:20250407T232732Z
UID:9140-1747162800-1747162800@karlstad.schack.se
SUMMARY:Vårturneringen R5 + Nybörjare
DESCRIPTION:Vårturneringen rond 5 av 5. Betänketid 90 min + 30 sek tillägg.  \nLottning och resultat \nParallell verksamhet för nybörjare i andra rummet.  \nSpellokalen är öppen från 18.30
URL:https://karlstad.schack.se/evenemang/varturneringen-r5-nyborjare/
LOCATION:Karlstad AS spellokal\, Sundbergsgatan 12b\, Karlstad\, 652 19\, Sverige
ORGANIZER;CN="Lars-Erik Johansson":MAILTO:larserik21.johansson@gmail.com
END:VEVENT
BEGIN:VEVENT
DTSTART;TZID=Europe/Stockholm:20250515T180000
DTEND;TZID=Europe/Stockholm:20250515T200000
DTSTAMP:20260420T190423
CREATED:20250226T210136Z
LAST-MODIFIED:20250226T210136Z
UID:9168-1747332000-1747339200@karlstad.schack.se
SUMMARY:Juniorgrupp
DESCRIPTION:
URL:https://karlstad.schack.se/evenemang/juniorgrupp-30/
LOCATION:Karlstad AS spellokal\, Sundbergsgatan 12b\, Karlstad\, 652 19\, Sverige
ORGANIZER;CN="Juniorledare Karlstad AS":MAILTO:karlstad.schacksallskap@gmail.com; arvpas@gmail.com; kjellake.andersson56@outlook.com; andrewwegerif@gmail.com
END:VEVENT
BEGIN:VEVENT
DTSTART;TZID=Europe/Stockholm:20250520T190000
DTEND;TZID=Europe/Stockholm:20250520T213000
DTSTAMP:20260420T190423
CREATED:20250226T182552Z
LAST-MODIFIED:20250226T182552Z
UID:9144-1747767600-1747776600@karlstad.schack.se
SUMMARY:Blixt-KM + Nybörjare
DESCRIPTION:KM i blixt\, betänketid 3 min + 2 sek tillägg. \nParallell verksamhet för nybörjare i andra rummet. \nSpellokalen är öppen från 18.30
URL:https://karlstad.schack.se/evenemang/blixt-km-nyborjare/
LOCATION:Karlstad AS spellokal\, Sundbergsgatan 12b\, Karlstad\, 652 19\, Sverige
ORGANIZER;CN="Lars-Erik Johansson":MAILTO:larserik21.johansson@gmail.com
END:VEVENT
BEGIN:VEVENT
DTSTART;TZID=Europe/Stockholm:20250527T190000
DTEND;TZID=Europe/Stockholm:20250527T210000
DTSTAMP:20260420T190423
CREATED:20250226T183629Z
LAST-MODIFIED:20250226T213835Z
UID:9150-1748372400-1748379600@karlstad.schack.se
SUMMARY:Terminsavslutning tisdagar
DESCRIPTION:Alla är välkomna. Öppet program. \nSpellokalen är öppen från kl 18.30
URL:https://karlstad.schack.se/evenemang/avslutning/
LOCATION:Karlstad AS spellokal\, Sundbergsgatan 12b\, Karlstad\, 652 19\, Sverige
ORGANIZER;CN="Lars-Erik Johansson":MAILTO:larserik21.johansson@gmail.com
END:VEVENT
END:VCALENDAR