BEGIN:VCALENDAR
VERSION:2.0
PRODID:-//Karlstads Allmänna Schacksällskap - ECPv6.15.20//NONSGML v1.0//EN
CALSCALE:GREGORIAN
METHOD:PUBLISH
X-WR-CALNAME:Karlstads Allmänna Schacksällskap
X-ORIGINAL-URL:https://karlstad.schack.se
X-WR-CALDESC:Händelser för Karlstads Allmänna Schacksällskap
REFRESH-INTERVAL;VALUE=DURATION:PT1H
X-Robots-Tag:noindex
X-PUBLISHED-TTL:PT1H
BEGIN:VTIMEZONE
TZID:Europe/Stockholm
BEGIN:DAYLIGHT
TZOFFSETFROM:+0100
TZOFFSETTO:+0200
TZNAME:CEST
DTSTART:20230326T010000
END:DAYLIGHT
BEGIN:STANDARD
TZOFFSETFROM:+0200
TZOFFSETTO:+0100
TZNAME:CET
DTSTART:20231029T010000
END:STANDARD
BEGIN:DAYLIGHT
TZOFFSETFROM:+0100
TZOFFSETTO:+0200
TZNAME:CEST
DTSTART:20240331T010000
END:DAYLIGHT
BEGIN:STANDARD
TZOFFSETFROM:+0200
TZOFFSETTO:+0100
TZNAME:CET
DTSTART:20241027T010000
END:STANDARD
BEGIN:DAYLIGHT
TZOFFSETFROM:+0100
TZOFFSETTO:+0200
TZNAME:CEST
DTSTART:20250330T010000
END:DAYLIGHT
BEGIN:STANDARD
TZOFFSETFROM:+0200
TZOFFSETTO:+0100
TZNAME:CET
DTSTART:20251026T010000
END:STANDARD
END:VTIMEZONE
BEGIN:VEVENT
DTSTART;TZID=Europe/Stockholm:20241105T190000
DTEND;TZID=Europe/Stockholm:20241105T223000
DTSTAMP:20260421T153316
CREATED:20240827T153630Z
LAST-MODIFIED:20241004T185122Z
UID:8134-1730833200-1730845800@karlstad.schack.se
SUMMARY:KM rond 4
DESCRIPTION:Tidskontroll 90 min + 30 sek tilläggstid per drag. \nhttps://member.schack.se/ShowTournamentServlet?id=14748
URL:https://karlstad.schack.se/evenemang/km-rond-4/
LOCATION:Karlstad AS spellokal\, Sundbergsgatan 12b\, Karlstad\, 652 19\, Sverige
ORGANIZER;CN="Lars-Erik Johansson":MAILTO:larserik21.johansson@gmail.com
END:VEVENT
BEGIN:VEVENT
DTSTART;TZID=Europe/Stockholm:20241107T180000
DTEND;TZID=Europe/Stockholm:20241107T200000
DTSTAMP:20260421T153316
CREATED:20240821T195646Z
LAST-MODIFIED:20240821T195646Z
UID:8085-1731002400-1731009600@karlstad.schack.se
SUMMARY:Juniorgrupp
DESCRIPTION:
URL:https://karlstad.schack.se/evenemang/juniorgrupp-11/
LOCATION:Karlstad AS spellokal\, Sundbergsgatan 12b\, Karlstad\, 652 19\, Sverige
ORGANIZER;CN="Juniorledare Karlstad AS":MAILTO:karlstad.schacksallskap@gmail.com; arvpas@gmail.com; kjellake.andersson56@outlook.com; andrewwegerif@gmail.com
END:VEVENT
BEGIN:VEVENT
DTSTART;TZID=Europe/Stockholm:20241110T110000
DTEND;TZID=Europe/Stockholm:20241111T143000
DTSTAMP:20260421T153316
CREATED:20241112T143702Z
LAST-MODIFIED:20241112T150153Z
UID:8315-1731236400-1731335400@karlstad.schack.se
SUMMARY:Värmlandsserien lagmatch
DESCRIPTION:Säffle SK 2 – Karlstad AS 1 (bortamatch) \nKarlstad 2 – Frirond \nFlyttad från lördag 9/11 till söndag 10/11.  \nhttps://member.schack.se/ShowTournamentServlet?id=14734
URL:https://karlstad.schack.se/evenemang/varmlandsserien-lagmatch/
LOCATION:Säffle Schackklubb\, Västra Storgatan 10\, Säffle\, 661 30\, Sverige
ORGANIZER;CN="V%C3%A4rmlands Schackf%C3%B6rbund":MAILTO:kjellake.andersson56@outlook.com
END:VEVENT
BEGIN:VEVENT
DTSTART;TZID=Europe/Stockholm:20241112T080000
DTEND;TZID=Europe/Stockholm:20241112T170000
DTSTAMP:20260421T153316
CREATED:20240827T153749Z
LAST-MODIFIED:20240827T153749Z
UID:8136-1731398400-1731430800@karlstad.schack.se
SUMMARY:Snabbschack
DESCRIPTION:Tidskontroll för snabbschack brukar vara mellan 10-15 min.
URL:https://karlstad.schack.se/evenemang/snabbschack-5/
LOCATION:Karlstad AS spellokal\, Sundbergsgatan 12b\, Karlstad\, 652 19\, Sverige
ORGANIZER;CN="Lars-Erik Johansson":MAILTO:larserik21.johansson@gmail.com
END:VEVENT
BEGIN:VEVENT
DTSTART;TZID=Europe/Stockholm:20241114T180000
DTEND;TZID=Europe/Stockholm:20241114T200000
DTSTAMP:20260421T153316
CREATED:20240821T195822Z
LAST-MODIFIED:20240821T200015Z
UID:8087-1731607200-1731614400@karlstad.schack.se
SUMMARY:Juniorgrupp
DESCRIPTION:
URL:https://karlstad.schack.se/evenemang/juniorgrupp-12/
LOCATION:Karlstad AS spellokal\, Sundbergsgatan 12b\, Karlstad\, 652 19\, Sverige
ORGANIZER;CN="Juniorledare Karlstad AS":MAILTO:karlstad.schacksallskap@gmail.com; arvpas@gmail.com; kjellake.andersson56@outlook.com; andrewwegerif@gmail.com
END:VEVENT
BEGIN:VEVENT
DTSTART;TZID=Europe/Stockholm:20241117T110000
DTEND;TZID=Europe/Stockholm:20241117T170000
DTSTAMP:20260421T153316
CREATED:20241021T232148Z
LAST-MODIFIED:20241021T232148Z
UID:8264-1731841200-1731862800@karlstad.schack.se
SUMMARY:Allsvenskan Rond 2
DESCRIPTION:Bortamatch mot Ervalla SS.
URL:https://karlstad.schack.se/evenemang/allsvenskan-rond-2/
END:VEVENT
BEGIN:VEVENT
DTSTART;TZID=Europe/Stockholm:20241119T183000
DTEND;TZID=Europe/Stockholm:20241119T220000
DTSTAMP:20260421T153316
CREATED:20240827T153919Z
LAST-MODIFIED:20241004T185214Z
UID:8138-1732041000-1732053600@karlstad.schack.se
SUMMARY:KM rond 5
DESCRIPTION:Slutrond. Tidskontroll 90 min + 3+ sek tilläggtid per drag. \nhttps://member.schack.se/ShowTournamentServlet?id=14748
URL:https://karlstad.schack.se/evenemang/km-rond-5/
LOCATION:Karlstad AS spellokal\, Sundbergsgatan 12b\, Karlstad\, 652 19\, Sverige
ORGANIZER;CN="Lars-Erik Johansson":MAILTO:larserik21.johansson@gmail.com
END:VEVENT
BEGIN:VEVENT
DTSTART;TZID=Europe/Stockholm:20241121T180000
DTEND;TZID=Europe/Stockholm:20241121T200000
DTSTAMP:20260421T153316
CREATED:20240821T200053Z
LAST-MODIFIED:20240821T200053Z
UID:8091-1732212000-1732219200@karlstad.schack.se
SUMMARY:Juniorgrupp
DESCRIPTION:
URL:https://karlstad.schack.se/evenemang/juniorgrupp-13/
LOCATION:Karlstad AS spellokal\, Sundbergsgatan 12b\, Karlstad\, 652 19\, Sverige
ORGANIZER;CN="Juniorledare Karlstad AS":MAILTO:karlstad.schacksallskap@gmail.com; arvpas@gmail.com; kjellake.andersson56@outlook.com; andrewwegerif@gmail.com
END:VEVENT
BEGIN:VEVENT
DTSTART;TZID=Europe/Stockholm:20241123T100000
DTEND;TZID=Europe/Stockholm:20241123T133000
DTSTAMP:20260421T153316
CREATED:20241112T144832Z
LAST-MODIFIED:20241121T122233Z
UID:8320-1732356000-1732368600@karlstad.schack.se
SUMMARY:Värmlandsserien lagmatch
DESCRIPTION:Karlstad AS 2 (hemmamatch) – Säffle SK 2 \nKarlstad AS 1 (hemmamatch) – SSK Hammarö \nhttps://member.schack.se/ShowTournamentServlet?id=14734
URL:https://karlstad.schack.se/evenemang/varmlandsserien-lagmatch-2/
LOCATION:Karlstad AS spellokal\, Sundbergsgatan 12b\, Karlstad\, 652 19\, Sverige
ORGANIZER;CN="V%C3%A4rmlands Schackf%C3%B6rbund":MAILTO:kjellake.andersson56@outlook.com
END:VEVENT
BEGIN:VEVENT
DTSTART;TZID=Europe/Stockholm:20241126T183000
DTEND;TZID=Europe/Stockholm:20241126T210000
DTSTAMP:20260421T153316
CREATED:20240827T154308Z
LAST-MODIFIED:20250209T110635Z
UID:8140-1732645800-1732654800@karlstad.schack.se
SUMMARY:Fischer random snabbschack
DESCRIPTION:Tidskontroll ca 15 min. Ny ställning varannan rond\, 4 ronder.
URL:https://karlstad.schack.se/evenemang/fischer-random-snabbschack/
LOCATION:Karlstad AS spellokal\, Sundbergsgatan 12b\, Karlstad\, 652 19\, Sverige
ORGANIZER;CN="Lars-Erik Johansson":MAILTO:larserik21.johansson@gmail.com
END:VEVENT
BEGIN:VEVENT
DTSTART;TZID=Europe/Stockholm:20241128T180000
DTEND;TZID=Europe/Stockholm:20241128T200000
DTSTAMP:20260421T153316
CREATED:20240821T200142Z
LAST-MODIFIED:20240821T200142Z
UID:8093-1732816800-1732824000@karlstad.schack.se
SUMMARY:Juniorgrupp
DESCRIPTION:
URL:https://karlstad.schack.se/evenemang/juniorgrupp-14/
LOCATION:Karlstad AS spellokal\, Sundbergsgatan 12b\, Karlstad\, 652 19\, Sverige
ORGANIZER;CN="Juniorledare Karlstad AS":MAILTO:karlstad.schacksallskap@gmail.com; arvpas@gmail.com; kjellake.andersson56@outlook.com; andrewwegerif@gmail.com
END:VEVENT
BEGIN:VEVENT
DTSTART;TZID=Europe/Stockholm:20241130T130000
DTEND;TZID=Europe/Stockholm:20241130T160000
DTSTAMP:20260421T153316
CREATED:20240101T235446Z
LAST-MODIFIED:20240102T015136Z
UID:6526-1732971600-1732982400@karlstad.schack.se
SUMMARY:WJGP delturnering 4
DESCRIPTION:Fjärde och sista delturneringen i serien Wermland Junior Grand Prix. Inbjudan kommer några veckor innan turneringen.
URL:https://karlstad.schack.se/evenemang/wjgp-delturnering-4/
LOCATION:Hammarö Sockenstuga\, Sverres väg 5\, Hammarö\, 663 41\, Sverige
ORGANIZER;CN="SSK Hammar%C3%B6":MAILTO:adrianmuntean.home@gmail.com
END:VEVENT
END:VCALENDAR