BEGIN:VCALENDAR
VERSION:2.0
PRODID:-//Karlstads Allmänna Schacksällskap - ECPv6.15.20//NONSGML v1.0//EN
CALSCALE:GREGORIAN
METHOD:PUBLISH
X-WR-CALNAME:Karlstads Allmänna Schacksällskap
X-ORIGINAL-URL:https://karlstad.schack.se
X-WR-CALDESC:Händelser för Karlstads Allmänna Schacksällskap
REFRESH-INTERVAL;VALUE=DURATION:PT1H
X-Robots-Tag:noindex
X-PUBLISHED-TTL:PT1H
BEGIN:VTIMEZONE
TZID:Europe/Stockholm
BEGIN:DAYLIGHT
TZOFFSETFROM:+0100
TZOFFSETTO:+0200
TZNAME:CEST
DTSTART:20230326T010000
END:DAYLIGHT
BEGIN:STANDARD
TZOFFSETFROM:+0200
TZOFFSETTO:+0100
TZNAME:CET
DTSTART:20231029T010000
END:STANDARD
BEGIN:DAYLIGHT
TZOFFSETFROM:+0100
TZOFFSETTO:+0200
TZNAME:CEST
DTSTART:20240331T010000
END:DAYLIGHT
BEGIN:STANDARD
TZOFFSETFROM:+0200
TZOFFSETTO:+0100
TZNAME:CET
DTSTART:20241027T010000
END:STANDARD
BEGIN:DAYLIGHT
TZOFFSETFROM:+0100
TZOFFSETTO:+0200
TZNAME:CEST
DTSTART:20250330T010000
END:DAYLIGHT
BEGIN:STANDARD
TZOFFSETFROM:+0200
TZOFFSETTO:+0100
TZNAME:CET
DTSTART:20251026T010000
END:STANDARD
END:VTIMEZONE
BEGIN:VEVENT
DTSTART;TZID=Europe/Stockholm:20240822T180000
DTEND;TZID=Europe/Stockholm:20240822T200000
DTSTAMP:20260422T122312
CREATED:20240821T194217Z
LAST-MODIFIED:20240821T194217Z
UID:8062-1724349600-1724356800@karlstad.schack.se
SUMMARY:Juniorgrupp
DESCRIPTION:
URL:https://karlstad.schack.se/evenemang/juniorgrupp/
LOCATION:Karlstad AS spellokal\, Sundbergsgatan 12b\, Karlstad\, 652 19\, Sverige
ORGANIZER;CN="Juniorledare Karlstad AS":MAILTO:karlstad.schacksallskap@gmail.com; arvpas@gmail.com; kjellake.andersson56@outlook.com; andrewwegerif@gmail.com
END:VEVENT
BEGIN:VEVENT
DTSTART;TZID=Europe/Stockholm:20240827T183000
DTEND;TZID=Europe/Stockholm:20240827T210000
DTSTAMP:20260422T122312
CREATED:20240821T201855Z
LAST-MODIFIED:20240827T150603Z
UID:8101-1724783400-1724792400@karlstad.schack.se
SUMMARY:Blixtuppstart
DESCRIPTION:Uppstart med blixtschack för tisdagsgruppen.
URL:https://karlstad.schack.se/evenemang/tisdagsgrupp/
LOCATION:Karlstad AS spellokal\, Sundbergsgatan 12b\, Karlstad\, 652 19\, Sverige
ORGANIZER;CN="Lars-Erik Johansson":MAILTO:larserik21.johansson@gmail.com
END:VEVENT
BEGIN:VEVENT
DTSTART;TZID=Europe/Stockholm:20240829T180000
DTEND;TZID=Europe/Stockholm:20240829T200000
DTSTAMP:20260422T122312
CREATED:20240821T194404Z
LAST-MODIFIED:20240821T194417Z
UID:8066-1724954400-1724961600@karlstad.schack.se
SUMMARY:Juniorgrupp
DESCRIPTION:
URL:https://karlstad.schack.se/evenemang/juniorgrupp-2/
LOCATION:Karlstad AS spellokal\, Sundbergsgatan 12b\, Karlstad\, 652 19\, Sverige
ORGANIZER;CN="Juniorledare Karlstad AS":MAILTO:karlstad.schacksallskap@gmail.com; arvpas@gmail.com; kjellake.andersson56@outlook.com; andrewwegerif@gmail.com
END:VEVENT
END:VCALENDAR