BEGIN:VCALENDAR
VERSION:2.0
PRODID:-//Karlstads Allmänna Schacksällskap - ECPv6.15.20//NONSGML v1.0//EN
CALSCALE:GREGORIAN
METHOD:PUBLISH
X-ORIGINAL-URL:https://karlstad.schack.se
X-WR-CALDESC:Händelser för Karlstads Allmänna Schacksällskap
REFRESH-INTERVAL;VALUE=DURATION:PT1H
X-Robots-Tag:noindex
X-PUBLISHED-TTL:PT1H
BEGIN:VTIMEZONE
TZID:Europe/Stockholm
BEGIN:DAYLIGHT
TZOFFSETFROM:+0100
TZOFFSETTO:+0200
TZNAME:CEST
DTSTART:20230326T010000
END:DAYLIGHT
BEGIN:STANDARD
TZOFFSETFROM:+0200
TZOFFSETTO:+0100
TZNAME:CET
DTSTART:20231029T010000
END:STANDARD
BEGIN:DAYLIGHT
TZOFFSETFROM:+0100
TZOFFSETTO:+0200
TZNAME:CEST
DTSTART:20240331T010000
END:DAYLIGHT
BEGIN:STANDARD
TZOFFSETFROM:+0200
TZOFFSETTO:+0100
TZNAME:CET
DTSTART:20241027T010000
END:STANDARD
BEGIN:DAYLIGHT
TZOFFSETFROM:+0100
TZOFFSETTO:+0200
TZNAME:CEST
DTSTART:20250330T010000
END:DAYLIGHT
BEGIN:STANDARD
TZOFFSETFROM:+0200
TZOFFSETTO:+0100
TZNAME:CET
DTSTART:20251026T010000
END:STANDARD
END:VTIMEZONE
BEGIN:VEVENT
DTSTART;TZID=Europe/Stockholm:20240201T180000
DTEND;TZID=Europe/Stockholm:20240201T200000
DTSTAMP:20260423T045127
CREATED:20240102T001053Z
LAST-MODIFIED:20240102T001053Z
UID:6537-1706810400-1706817600@karlstad.schack.se
SUMMARY:Juniorgrupper
DESCRIPTION:För barn upp till 10 år gäller tiden kl 18.00-19.00. \nFör barn 11 år och uppåt gäller tiden kl 19.00-20.00. \nVi gör undantag med ålder\, om man nivå- eller kompismässigt känner sig mer hemma i endera gruppen.
URL:https://karlstad.schack.se/evenemang/juniorgrupper-2/
LOCATION:Karlstad AS spellokal\, Sundbergsgatan 12b\, Karlstad\, 652 19\, Sverige
ORGANIZER;CN="Juniorledare Karlstad AS":MAILTO:karlstad.schacksallskap@gmail.com; arvpas@gmail.com; kjellake.andersson56@outlook.com; andrewwegerif@gmail.com
END:VEVENT
BEGIN:VEVENT
DTSTART;TZID=Europe/Stockholm:20240206T190000
DTEND;TZID=Europe/Stockholm:20240206T210000
DTSTAMP:20260423T045127
CREATED:20240101T200101Z
LAST-MODIFIED:20240101T200101Z
UID:6428-1707246000-1707253200@karlstad.schack.se
SUMMARY:Blixt
DESCRIPTION:5 min.
URL:https://karlstad.schack.se/evenemang/blixt/
LOCATION:Karlstad AS spellokal\, Sundbergsgatan 12b\, Karlstad\, 652 19\, Sverige
ORGANIZER;CN="Lars-Erik Johansson":MAILTO:larserik21.johansson@gmail.com
END:VEVENT
BEGIN:VEVENT
DTSTART;TZID=Europe/Stockholm:20240208T180000
DTEND;TZID=Europe/Stockholm:20240208T200000
DTSTAMP:20260423T045127
CREATED:20240102T001220Z
LAST-MODIFIED:20240102T001220Z
UID:6539-1707415200-1707422400@karlstad.schack.se
SUMMARY:Juniorgrupper
DESCRIPTION:För barn upp till 10 år gäller tiden kl 18.00-19.00. \nFör barn 11 år och uppåt gäller tiden kl 19.00-20.00. \nVi gör undantag med ålder\, om man nivå- eller kompismässigt känner sig mer hemma i endera gruppen.
URL:https://karlstad.schack.se/evenemang/juniorgrupper-3/
LOCATION:Karlstad AS spellokal\, Sundbergsgatan 12b\, Karlstad\, 652 19\, Sverige
ORGANIZER;CN="Juniorledare Karlstad AS":MAILTO:karlstad.schacksallskap@gmail.com; arvpas@gmail.com; kjellake.andersson56@outlook.com; andrewwegerif@gmail.com
END:VEVENT
BEGIN:VEVENT
DTSTART;TZID=Europe/Stockholm:20240213T190000
DTEND;TZID=Europe/Stockholm:20240213T210000
DTSTAMP:20260423T045127
CREATED:20240101T200303Z
LAST-MODIFIED:20240101T200303Z
UID:6430-1707850800-1707858000@karlstad.schack.se
SUMMARY:Årsmöte
DESCRIPTION:Alla medlemmar är varmt välkomna till årsmötet.
URL:https://karlstad.schack.se/evenemang/arsmote/
LOCATION:Karlstad AS spellokal\, Sundbergsgatan 12b\, Karlstad\, 652 19\, Sverige
ORGANIZER;CN="Karlstads Allm%C3%A4nna Schacks%C3%A4llskap":MAILTO:karlstad.schacksallskap@gmail.com
END:VEVENT
BEGIN:VEVENT
DTSTART;TZID=Europe/Stockholm:20240215T180000
DTEND;TZID=Europe/Stockholm:20240215T200000
DTSTAMP:20260423T045127
CREATED:20240102T001338Z
LAST-MODIFIED:20240102T001338Z
UID:6541-1708020000-1708027200@karlstad.schack.se
SUMMARY:Juniorgrupper
DESCRIPTION:För barn upp till 10 år gäller tiden kl 18.00-19.00. \nFör barn 11 år och uppåt gäller tiden kl 19.00-20.00. \nVi gör undantag med ålder\, om man nivå- eller kompismässigt känner sig mer hemma i endera gruppen.
URL:https://karlstad.schack.se/evenemang/juniorgrupper-4/
LOCATION:Karlstad AS spellokal\, Sundbergsgatan 12b\, Karlstad\, 652 19\, Sverige
ORGANIZER;CN="Juniorledare Karlstad AS":MAILTO:karlstad.schacksallskap@gmail.com; arvpas@gmail.com; kjellake.andersson56@outlook.com; andrewwegerif@gmail.com
END:VEVENT
BEGIN:VEVENT
DTSTART;TZID=Europe/Stockholm:20240220T190000
DTEND;TZID=Europe/Stockholm:20240220T213000
DTSTAMP:20260423T045127
CREATED:20240101T201409Z
LAST-MODIFIED:20240228T124638Z
UID:6433-1708455600-1708464600@karlstad.schack.se
SUMMARY:Tematurnering R1
DESCRIPTION:Rond 1 . 60 min + 30 sek/drag. \nTematurneringen spelas från en i förväg bestämd position.  Förslag välkomnas och röstning på tema sker senast en vecka innan turneringen startar. \nTotalt spelas turneringen under fyra tisdagskvällar\, en rond per kväll. Spelare kommer om möjligt lottas så att man får spela två partier som vit och två partier som svart. \nTemat är Spanskt. 1. e4 e5 2. Sf6 Sc6 3. Lb5
URL:https://karlstad.schack.se/evenemang/tematurnering-r1/
LOCATION:Karlstad AS spellokal\, Sundbergsgatan 12b\, Karlstad\, 652 19\, Sverige
ORGANIZER;CN="Lars-Erik Johansson":MAILTO:larserik21.johansson@gmail.com
END:VEVENT
BEGIN:VEVENT
DTSTART;TZID=Europe/Stockholm:20240222T180000
DTEND;TZID=Europe/Stockholm:20240222T200000
DTSTAMP:20260423T045127
CREATED:20240102T001526Z
LAST-MODIFIED:20240102T001526Z
UID:6543-1708624800-1708632000@karlstad.schack.se
SUMMARY:Juniorgrupper
DESCRIPTION:För barn upp till 10 år gäller tiden kl 18.00-19.00. \nFör barn 11 år och uppåt gäller tiden kl 19.00-20.00. \nVi gör undantag med ålder\, om man nivå- eller kompismässigt känner sig mer hemma i endera gruppen.
URL:https://karlstad.schack.se/evenemang/juniorgrupper-5/
LOCATION:Karlstad AS spellokal\, Sundbergsgatan 12b\, Karlstad\, 652 19\, Sverige
ORGANIZER;CN="Juniorledare Karlstad AS":MAILTO:karlstad.schacksallskap@gmail.com; arvpas@gmail.com; kjellake.andersson56@outlook.com; andrewwegerif@gmail.com
END:VEVENT
BEGIN:VEVENT
DTSTART;VALUE=DATE:20240225
DTEND;VALUE=DATE:20240226
DTSTAMP:20260423T045127
CREATED:20231223T154354Z
LAST-MODIFIED:20240102T183218Z
UID:6363-1708819200-1708905599@karlstad.schack.se
SUMMARY:Allsvenskan
DESCRIPTION:Hemmamatch mot Linköping ASS III.
URL:https://karlstad.schack.se/evenemang/allsvenskan-3/
LOCATION:Karlstad AS spellokal\, Sundbergsgatan 12b\, Karlstad\, 652 19\, Sverige
ORGANIZER;CN="Lars-Erik Johansson":MAILTO:larserik21.johansson@gmail.com
END:VEVENT
BEGIN:VEVENT
DTSTART;TZID=Europe/Stockholm:20240227T130000
DTEND;TZID=Europe/Stockholm:20240227T150000
DTSTAMP:20260423T045127
CREATED:20240223T153334Z
LAST-MODIFIED:20240223T153938Z
UID:7858-1709038800-1709046000@karlstad.schack.se
SUMMARY:Sportlovsschack
DESCRIPTION:Sportlovsschack på Karlstads stadsbibliotek. Öppet för allmänheten.
URL:https://karlstad.schack.se/evenemang/sportlovsschack/
LOCATION:Stadsbiblioteket\, Västra Torggatan\, Karlstad\, 652 24
ORGANIZER;CN="Karlstads Allm%C3%A4nna Schacks%C3%A4llskap":MAILTO:karlstad.schacksallskap@gmail.com
END:VEVENT
BEGIN:VEVENT
DTSTART;TZID=Europe/Stockholm:20240227T190000
DTEND;TZID=Europe/Stockholm:20240227T213000
DTSTAMP:20260423T045127
CREATED:20240101T201537Z
LAST-MODIFIED:20240101T211807Z
UID:6435-1709060400-1709069400@karlstad.schack.se
SUMMARY:Snabbschack
DESCRIPTION:15 min. 5 ronder
URL:https://karlstad.schack.se/evenemang/tematurnering-r2/
LOCATION:Karlstad AS spellokal\, Sundbergsgatan 12b\, Karlstad\, 652 19\, Sverige
ORGANIZER;CN="Lars-Erik Johansson":MAILTO:larserik21.johansson@gmail.com
END:VEVENT
BEGIN:VEVENT
DTSTART;TZID=Europe/Stockholm:20240229T130000
DTEND;TZID=Europe/Stockholm:20240229T150000
DTSTAMP:20260423T045127
CREATED:20240223T153715Z
LAST-MODIFIED:20240223T153743Z
UID:7863-1709211600-1709218800@karlstad.schack.se
SUMMARY:Sportlovsschack
DESCRIPTION:Sportlovsschack på Karlstads stadsbibliotek. Öppet för allmänheten.
URL:https://karlstad.schack.se/evenemang/sportlovsschack-pa-biblioteket/
LOCATION:Stadsbiblioteket\, Västra Torggatan\, Karlstad\, 652 24
ORGANIZER;CN="Karlstads Allm%C3%A4nna Schacks%C3%A4llskap":MAILTO:karlstad.schacksallskap@gmail.com
END:VEVENT
END:VCALENDAR