BEGIN:VCALENDAR
VERSION:2.0
PRODID:-//Karlstads Allmänna Schacksällskap - ECPv6.15.20//NONSGML v1.0//EN
CALSCALE:GREGORIAN
METHOD:PUBLISH
X-ORIGINAL-URL:https://karlstad.schack.se
X-WR-CALDESC:Händelser för Karlstads Allmänna Schacksällskap
REFRESH-INTERVAL;VALUE=DURATION:PT1H
X-Robots-Tag:noindex
X-PUBLISHED-TTL:PT1H
BEGIN:VTIMEZONE
TZID:Europe/Stockholm
BEGIN:DAYLIGHT
TZOFFSETFROM:+0100
TZOFFSETTO:+0200
TZNAME:CEST
DTSTART:20250330T010000
END:DAYLIGHT
BEGIN:STANDARD
TZOFFSETFROM:+0200
TZOFFSETTO:+0100
TZNAME:CET
DTSTART:20251026T010000
END:STANDARD
BEGIN:DAYLIGHT
TZOFFSETFROM:+0100
TZOFFSETTO:+0200
TZNAME:CEST
DTSTART:20260329T010000
END:DAYLIGHT
BEGIN:STANDARD
TZOFFSETFROM:+0200
TZOFFSETTO:+0100
TZNAME:CET
DTSTART:20261025T010000
END:STANDARD
BEGIN:DAYLIGHT
TZOFFSETFROM:+0100
TZOFFSETTO:+0200
TZNAME:CEST
DTSTART:20270328T010000
END:DAYLIGHT
BEGIN:STANDARD
TZOFFSETFROM:+0200
TZOFFSETTO:+0100
TZNAME:CET
DTSTART:20271031T010000
END:STANDARD
END:VTIMEZONE
BEGIN:VEVENT
DTSTART;TZID=Europe/Stockholm:20260820T180000
DTEND;TZID=Europe/Stockholm:20260820T200000
DTSTAMP:20260420T054528
CREATED:20260219T235716Z
LAST-MODIFIED:20260219T235716Z
UID:11027-1787248800-1787256000@karlstad.schack.se
SUMMARY:Terminsuppstart Juniorgrupp
DESCRIPTION:Juniorgruppen startar upp för hösten.
URL:https://karlstad.schack.se/evenemang/terminsuppstart-juniorgrupp/
LOCATION:Karlstad AS spellokal\, Sundbergsgatan 12b\, Karlstad\, 652 19\, Sverige
ORGANIZER;CN="Juniorledare Karlstad AS":MAILTO:karlstad.schacksallskap@gmail.com; arvpas@gmail.com; kjellake.andersson56@outlook.com; andrewwegerif@gmail.com
END:VEVENT
BEGIN:VEVENT
DTSTART;TZID=Europe/Stockholm:20260825T190000
DTEND;TZID=Europe/Stockholm:20260825T210000
DTSTAMP:20260420T054528
CREATED:20260220T000425Z
LAST-MODIFIED:20260220T000425Z
UID:11032-1787684400-1787691600@karlstad.schack.se
SUMMARY:Höstuppstart tisdagar / Nybörjare
DESCRIPTION:Blixt eller snabbschack? \nTräning för nya spelare i andra rummet.
URL:https://karlstad.schack.se/evenemang/hostuppstart-tisdagar-nyborjare/
LOCATION:Karlstad AS spellokal\, Sundbergsgatan 12b\, Karlstad\, 652 19\, Sverige
ORGANIZER;CN="Karlstads Allm%C3%A4nna Schacks%C3%A4llskap":MAILTO:karlstad.schacksallskap@gmail.com
END:VEVENT
BEGIN:VEVENT
DTSTART;TZID=Europe/Stockholm:20260919T140000
DTEND;TZID=Europe/Stockholm:20260919T170000
DTSTAMP:20260420T054528
CREATED:20260216T130054Z
LAST-MODIFIED:20260219T221334Z
UID:10933-1789826400-1789837200@karlstad.schack.se
SUMMARY:WJGP 3 Säffleträffen
DESCRIPTION:Tredje deltävlingen i Wermland Junior Grand Prix 2026.
URL:https://karlstad.schack.se/evenemang/wjgp-3-saffletraffen/
LOCATION:Säffle Schackklubb\, Västra Storgatan 10\, Säffle\, 661 30\, Sverige
ORGANIZER;CN="S%C3%A4ffle Schackklubb":MAILTO:saffleschackskola@gmail.com
END:VEVENT
BEGIN:VEVENT
DTSTART;TZID=Europe/Stockholm:20261128T140000
DTEND;TZID=Europe/Stockholm:20261128T171500
DTSTAMP:20260420T054528
CREATED:20260216T130244Z
LAST-MODIFIED:20260216T130348Z
UID:10935-1795874400-1795886100@karlstad.schack.se
SUMMARY:WJGP 4
DESCRIPTION:Fjärde och sista deltävlingen i Wermland Junior Grand Prix 2026.
URL:https://karlstad.schack.se/evenemang/wjgp-4/
LOCATION:Hammarö Sockenstuga\, Sverres väg 5\, Hammarö\, 663 41\, Sverige
ORGANIZER;CN="SSK Hammar%C3%B6":MAILTO:adrianmuntean.home@gmail.com
END:VEVENT
END:VCALENDAR