BEGIN:VCALENDAR
VERSION:2.0
PRODID:-//Karlstads Allmänna Schacksällskap - ECPv6.15.20//NONSGML v1.0//EN
CALSCALE:GREGORIAN
METHOD:PUBLISH
X-ORIGINAL-URL:https://karlstad.schack.se
X-WR-CALDESC:Händelser för Karlstads Allmänna Schacksällskap
REFRESH-INTERVAL;VALUE=DURATION:PT1H
X-Robots-Tag:noindex
X-PUBLISHED-TTL:PT1H
BEGIN:VTIMEZONE
TZID:Europe/Stockholm
BEGIN:DAYLIGHT
TZOFFSETFROM:+0100
TZOFFSETTO:+0200
TZNAME:CEST
DTSTART:20240331T010000
END:DAYLIGHT
BEGIN:STANDARD
TZOFFSETFROM:+0200
TZOFFSETTO:+0100
TZNAME:CET
DTSTART:20241027T010000
END:STANDARD
BEGIN:DAYLIGHT
TZOFFSETFROM:+0100
TZOFFSETTO:+0200
TZNAME:CEST
DTSTART:20250330T010000
END:DAYLIGHT
BEGIN:STANDARD
TZOFFSETFROM:+0200
TZOFFSETTO:+0100
TZNAME:CET
DTSTART:20251026T010000
END:STANDARD
BEGIN:DAYLIGHT
TZOFFSETFROM:+0100
TZOFFSETTO:+0200
TZNAME:CEST
DTSTART:20260329T010000
END:DAYLIGHT
BEGIN:STANDARD
TZOFFSETFROM:+0200
TZOFFSETTO:+0100
TZNAME:CET
DTSTART:20261025T010000
END:STANDARD
END:VTIMEZONE
BEGIN:VEVENT
DTSTART;TZID=Europe/Stockholm:20250930T080000
DTEND;TZID=Europe/Stockholm:20250930T170000
DTSTAMP:20260420T071123
CREATED:20250820T214712Z
LAST-MODIFIED:20251001T211641Z
UID:9439-1759219200-1759251600@karlstad.schack.se
SUMMARY:KM Rond 1 & Nybörjarträning
DESCRIPTION:Klubbmästerskap i långparti (90 min + 30 sek tilläggstid per drag). Rond 1 av 5. \nNybörjarträning hålls parallellt.
URL:https://karlstad.schack.se/evenemang/km-r1-nyborjartraning/
LOCATION:Karlstad AS spellokal\, Sundbergsgatan 12b\, Karlstad\, 652 19\, Sverige
ORGANIZER;CN="Lars-Erik Johansson":MAILTO:larserik21.johansson@gmail.com
END:VEVENT
BEGIN:VEVENT
DTSTART;TZID=Europe/Stockholm:20251002T180000
DTEND;TZID=Europe/Stockholm:20251002T200000
DTSTAMP:20260420T071123
CREATED:20250824T190331Z
LAST-MODIFIED:20250824T190331Z
UID:9508-1759428000-1759435200@karlstad.schack.se
SUMMARY:Juniorgrupp
DESCRIPTION:Alla juniorer är välkomna\, oavsett erfarenhet. För nya och yngre spelare rekommenderar vi tiden 18-19. Vi har alltid ledare på plats och håller öppet till 20.
URL:https://karlstad.schack.se/evenemang/juniorgrupp-37/
LOCATION:Karlstad AS spellokal\, Sundbergsgatan 12b\, Karlstad\, 652 19\, Sverige
ORGANIZER;CN="Juniorledare Karlstad AS":MAILTO:karlstad.schacksallskap@gmail.com; arvpas@gmail.com; kjellake.andersson56@outlook.com; andrewwegerif@gmail.com
END:VEVENT
BEGIN:VEVENT
DTSTART;TZID=Europe/Stockholm:20251004T100000
DTEND;TZID=Europe/Stockholm:20251004T140000
DTSTAMP:20260420T071123
CREATED:20251023T142743Z
LAST-MODIFIED:20251023T143243Z
UID:10391-1759572000-1759586400@karlstad.schack.se
SUMMARY:Värmlandsserien Rond 1
DESCRIPTION:Turneringslänk
URL:https://karlstad.schack.se/evenemang/varmlandsserien-rond-1/
LOCATION:Karlstad AS spellokal\, Sundbergsgatan 12b\, Karlstad\, 652 19\, Sverige
ORGANIZER;CN="Arvid P%C3%A5sse":MAILTO:arvpas@gmail.com
END:VEVENT
BEGIN:VEVENT
DTSTART;TZID=Europe/Stockholm:20251007T190000
DTEND;TZID=Europe/Stockholm:20251007T223000
DTSTAMP:20260420T071123
CREATED:20250820T221440Z
LAST-MODIFIED:20251001T210930Z
UID:9446-1759863600-1759876200@karlstad.schack.se
SUMMARY:KM Rond 2 & Nybörjarträning
DESCRIPTION:Klubbmästerskap i långparti (90 min + 30 sek tilläggstid per drag). Rond 2 av 5. \nNybörjarträning hålls parallellt.
URL:https://karlstad.schack.se/evenemang/km-rond-2-nyborjartraning/
LOCATION:Karlstad AS spellokal\, Sundbergsgatan 12b\, Karlstad\, 652 19\, Sverige
ORGANIZER;CN="Lars-Erik Johansson":MAILTO:larserik21.johansson@gmail.com
END:VEVENT
BEGIN:VEVENT
DTSTART;TZID=Europe/Stockholm:20251009T180000
DTEND;TZID=Europe/Stockholm:20251009T200000
DTSTAMP:20260420T071123
CREATED:20250824T190840Z
LAST-MODIFIED:20250824T190840Z
UID:9510-1760032800-1760040000@karlstad.schack.se
SUMMARY:Juniorgrupp
DESCRIPTION:Alla juniorer är välkomna\, oavsett erfarenhet. För nya och yngre spelare rekommenderar vi tiden 18-19. Vi har alltid ledare på plats och håller öppet till 20.
URL:https://karlstad.schack.se/evenemang/juniorgrupp-38/
LOCATION:Karlstad AS spellokal\, Sundbergsgatan 12b\, Karlstad\, 652 19\, Sverige
ORGANIZER;CN="Juniorledare Karlstad AS":MAILTO:karlstad.schacksallskap@gmail.com; arvpas@gmail.com; kjellake.andersson56@outlook.com; andrewwegerif@gmail.com
END:VEVENT
BEGIN:VEVENT
DTSTART;TZID=Europe/Stockholm:20251014T190000
DTEND;TZID=Europe/Stockholm:20251014T210000
DTSTAMP:20260420T071123
CREATED:20250820T232220Z
LAST-MODIFIED:20251008T235805Z
UID:9448-1760468400-1760475600@karlstad.schack.se
SUMMARY:Armageddonsnabb & Nybörjarträning
DESCRIPTION:Vit har 10 min\, svart 8. Vid remi så vinner svart. Sex ronder. \nNybörjarträning hålls parallellt. \n  \n 
URL:https://karlstad.schack.se/evenemang/armageddonsnabb-nyborjartraning/
LOCATION:Karlstad AS spellokal\, Sundbergsgatan 12b\, Karlstad\, 652 19\, Sverige
ORGANIZER;CN="Lars-Erik Johansson":MAILTO:larserik21.johansson@gmail.com
END:VEVENT
BEGIN:VEVENT
DTSTART;TZID=Europe/Stockholm:20251016T180000
DTEND;TZID=Europe/Stockholm:20251016T200000
DTSTAMP:20260420T071123
CREATED:20250824T190949Z
LAST-MODIFIED:20250824T190949Z
UID:9512-1760637600-1760644800@karlstad.schack.se
SUMMARY:Juniorgrupp
DESCRIPTION:Alla juniorer är välkomna\, oavsett erfarenhet. För nya och yngre spelare rekommenderar vi tiden 18-19. Vi har alltid ledare på plats och håller öppet till 20.
URL:https://karlstad.schack.se/evenemang/juniorgrupp-39/
LOCATION:Karlstad AS spellokal\, Sundbergsgatan 12b\, Karlstad\, 652 19\, Sverige
ORGANIZER;CN="Juniorledare Karlstad AS":MAILTO:karlstad.schacksallskap@gmail.com; arvpas@gmail.com; kjellake.andersson56@outlook.com; andrewwegerif@gmail.com
END:VEVENT
BEGIN:VEVENT
DTSTART;TZID=Europe/Stockholm:20251018T110000
DTEND;TZID=Europe/Stockholm:20251018T150000
DTSTAMP:20260420T071123
CREATED:20251023T145218Z
LAST-MODIFIED:20251023T145640Z
UID:10406-1760785200-1760799600@karlstad.schack.se
SUMMARY:Allsvenskan R1
DESCRIPTION:Div II Grupp 4
URL:https://karlstad.schack.se/evenemang/allsvenskan-r1/
ORGANIZER;CN="Henrik Norberg":MAILTO:norbergh@hotmail.com
END:VEVENT
BEGIN:VEVENT
DTSTART;TZID=Europe/Stockholm:20251019T110000
DTEND;TZID=Europe/Stockholm:20251019T150000
DTSTAMP:20260420T071123
CREATED:20251023T145416Z
LAST-MODIFIED:20251023T145416Z
UID:10408-1760871600-1760886000@karlstad.schack.se
SUMMARY:Allsvenskan R2
DESCRIPTION:Div II Grupp 4
URL:https://karlstad.schack.se/evenemang/allsvenskan-r2/
ORGANIZER;CN="Henrik Norberg":MAILTO:norbergh@hotmail.com
END:VEVENT
BEGIN:VEVENT
DTSTART;TZID=Europe/Stockholm:20251021T190000
DTEND;TZID=Europe/Stockholm:20251021T223000
DTSTAMP:20260420T071123
CREATED:20250820T233240Z
LAST-MODIFIED:20251001T211119Z
UID:9452-1761073200-1761085800@karlstad.schack.se
SUMMARY:KM rond 3 & Nybörjarträning
DESCRIPTION:Klubbmästerskap i långparti (90 min + 30 sek tilläggstid per drag). Rond 3 av 5. \nNybörjarträning hålls parallellt.
URL:https://karlstad.schack.se/evenemang/km-rond-3-nyborjartraning/
LOCATION:Karlstad AS spellokal\, Sundbergsgatan 12b\, Karlstad\, 652 19\, Sverige
ORGANIZER;CN="Lars-Erik Johansson":MAILTO:larserik21.johansson@gmail.com
END:VEVENT
BEGIN:VEVENT
DTSTART;TZID=Europe/Stockholm:20251023T180000
DTEND;TZID=Europe/Stockholm:20251023T200000
DTSTAMP:20260420T071123
CREATED:20250824T191222Z
LAST-MODIFIED:20250824T191222Z
UID:9514-1761242400-1761249600@karlstad.schack.se
SUMMARY:Juniorgrupp
DESCRIPTION:Alla juniorer är välkomna\, oavsett erfarenhet. För nya och yngre spelare rekommenderar vi tiden 18-19. Vi har alltid ledare på plats och håller öppet till 20.
URL:https://karlstad.schack.se/evenemang/juniorgrupp-40/
LOCATION:Karlstad AS spellokal\, Sundbergsgatan 12b\, Karlstad\, 652 19\, Sverige
ORGANIZER;CN="Juniorledare Karlstad AS":MAILTO:karlstad.schacksallskap@gmail.com; arvpas@gmail.com; kjellake.andersson56@outlook.com; andrewwegerif@gmail.com
END:VEVENT
BEGIN:VEVENT
DTSTART;TZID=Europe/Stockholm:20251028T140000
DTEND;TZID=Europe/Stockholm:20251028T160000
DTSTAMP:20260420T071123
CREATED:20251023T141145Z
LAST-MODIFIED:20251024T134205Z
UID:10384-1761660000-1761667200@karlstad.schack.se
SUMMARY:Michael Wiander - schack på stadsbiblioteket
DESCRIPTION:Schacktränaren och barnboksförfattaren Michael Wiander besöker Karlstad stadsbibliotek. \nI programmet är kort föredrag\, högläsning ur bok\, och sedan simultanschack.  \nOm Michael Wiander
URL:https://karlstad.schack.se/evenemang/mikael-wiander-pa-stadsbiblioteket/
LOCATION:Stadsbiblioteket\, Västra Torggatan\, Karlstad\, 652 24
ORGANIZER;CN="V%C3%A4rmlands Schackf%C3%B6rbund":MAILTO:kjellake.andersson56@outlook.com
END:VEVENT
BEGIN:VEVENT
DTSTART;TZID=Europe/Stockholm:20251028T190000
DTEND;TZID=Europe/Stockholm:20251028T210000
DTSTAMP:20260420T071123
CREATED:20250820T235751Z
LAST-MODIFIED:20250821T000528Z
UID:9454-1761678000-1761685200@karlstad.schack.se
SUMMARY:Öppen kväll
DESCRIPTION:Öppen kväll på klubben. \nMöjlighet att spela restpartier från KM\, etc. \nKlubblokalen är öppen från 18.30 \n  \n 
URL:https://karlstad.schack.se/evenemang/oppen-kvall/
LOCATION:Karlstad AS spellokal\, Sundbergsgatan 12b\, Karlstad\, 652 19\, Sverige
ORGANIZER;CN="Karlstads Allm%C3%A4nna Schacks%C3%A4llskap":MAILTO:karlstad.schacksallskap@gmail.com
END:VEVENT
BEGIN:VEVENT
DTSTART;TZID=Europe/Stockholm:20251030T130000
DTEND;TZID=Europe/Stockholm:20251030T150000
DTSTAMP:20260420T071123
CREATED:20251023T142155Z
LAST-MODIFIED:20251023T142155Z
UID:10389-1761829200-1761836400@karlstad.schack.se
SUMMARY:Schack på stadsbiblioteket
DESCRIPTION:Öppet för allmänheten\, alla är välkomna.
URL:https://karlstad.schack.se/evenemang/schack-pa-stadsbiblioteket/
LOCATION:Stadsbiblioteket\, Västra Torggatan\, Karlstad\, 652 24
ORGANIZER;CN="V%C3%A4rmlands Schackf%C3%B6rbund":MAILTO:kjellake.andersson56@outlook.com
END:VEVENT
BEGIN:VEVENT
DTSTART;TZID=Europe/Stockholm:20251104T190000
DTEND;TZID=Europe/Stockholm:20251104T223000
DTSTAMP:20260420T071123
CREATED:20250821T000336Z
LAST-MODIFIED:20251001T211857Z
UID:9459-1762282800-1762295400@karlstad.schack.se
SUMMARY:KM rond 4 & Nybörjarträning
DESCRIPTION:Klubbmästerskap i långparti (90 min + 30 sek tilläggstid per drag). Rond 4 av 5. \nNybörjarträning hålls parallellt.
URL:https://karlstad.schack.se/evenemang/km-rond-4-nyborjartraning/
LOCATION:Karlstad AS spellokal\, Sundbergsgatan 12b\, Karlstad\, 652 19\, Sverige
ORGANIZER;CN="Lars-Erik Johansson":MAILTO:larserik21.johansson@gmail.com
END:VEVENT
BEGIN:VEVENT
DTSTART;TZID=Europe/Stockholm:20251106T180000
DTEND;TZID=Europe/Stockholm:20251106T200000
DTSTAMP:20260420T071123
CREATED:20250824T191721Z
LAST-MODIFIED:20250824T191721Z
UID:9516-1762452000-1762459200@karlstad.schack.se
SUMMARY:Juniorgrupp
DESCRIPTION:Alla juniorer är välkomna\, oavsett erfarenhet. För nya och yngre spelare rekommenderar vi tiden 18-19. Vi har alltid ledare på plats och håller öppet till 20.
URL:https://karlstad.schack.se/evenemang/juniorgrupp-41/
LOCATION:Karlstad AS spellokal\, Sundbergsgatan 12b\, Karlstad\, 652 19\, Sverige
ORGANIZER;CN="Juniorledare Karlstad AS":MAILTO:karlstad.schacksallskap@gmail.com; arvpas@gmail.com; kjellake.andersson56@outlook.com; andrewwegerif@gmail.com
END:VEVENT
BEGIN:VEVENT
DTSTART;TZID=Europe/Stockholm:20251108T100000
DTEND;TZID=Europe/Stockholm:20251108T140000
DTSTAMP:20260420T071123
CREATED:20251023T143426Z
LAST-MODIFIED:20251023T143821Z
UID:10397-1762596000-1762610400@karlstad.schack.se
SUMMARY:Värmlandsserien Rond 2
DESCRIPTION:Turneringslänk
URL:https://karlstad.schack.se/evenemang/varmlandsserien-rond-2/
ORGANIZER;CN="Arvid P%C3%A5sse":MAILTO:arvpas@gmail.com
END:VEVENT
BEGIN:VEVENT
DTSTART;TZID=Europe/Stockholm:20251109T094500
DTEND;TZID=Europe/Stockholm:20251109T143000
DTSTAMP:20260420T071123
CREATED:20251023T135143Z
LAST-MODIFIED:20251023T135448Z
UID:10381-1762681500-1762698600@karlstad.schack.se
SUMMARY:Snabbschack-DM
DESCRIPTION:Värmlands schackförbund inbjuder till snabbschack-DM 2025\n7 ronder schweizer 10 min + 5 sek\nPlaketter till de främsta\, inteckning i vandringspris.\nStartavgift 50kr\nSwish 1236803613 eller bg 525-0717\nAnmälan senast 6 nov till\nkjellake.andersson56@outlook.com
URL:https://karlstad.schack.se/evenemang/snabbschack-dm/
LOCATION:Karlstad AS spellokal\, Sundbergsgatan 12b\, Karlstad\, 652 19\, Sverige
ORGANIZER;CN="V%C3%A4rmlands Schackf%C3%B6rbund":MAILTO:kjellake.andersson56@outlook.com
END:VEVENT
BEGIN:VEVENT
DTSTART;TZID=Europe/Stockholm:20251111T190000
DTEND;TZID=Europe/Stockholm:20251111T210000
DTSTAMP:20260420T071123
CREATED:20250821T001754Z
LAST-MODIFIED:20250821T001754Z
UID:9462-1762887600-1762894800@karlstad.schack.se
SUMMARY:Chock & Nybörjarträning
DESCRIPTION:Chock\, då man spelar i tvåmannalag. Vi försöker dela upp lagen så rättvist möjligt. \nPassar bra även för nybörjare. \nKlubblokalen är öppen från 18.30
URL:https://karlstad.schack.se/evenemang/chock-nyborjartraning/
LOCATION:Karlstad AS spellokal\, Sundbergsgatan 12b\, Karlstad\, 652 19\, Sverige
ORGANIZER;CN="Lars-Erik Johansson":MAILTO:larserik21.johansson@gmail.com
END:VEVENT
BEGIN:VEVENT
DTSTART;TZID=Europe/Stockholm:20251113T180000
DTEND;TZID=Europe/Stockholm:20251113T200000
DTSTAMP:20260420T071123
CREATED:20250824T191805Z
LAST-MODIFIED:20251111T202919Z
UID:9518-1763056800-1763064000@karlstad.schack.se
SUMMARY:Juniorgrupp
DESCRIPTION:Alla juniorer är välkomna\, oavsett erfarenhet. För nya och yngre spelare rekommenderar vi tiden 18-19. Vi har alltid ledare på plats och håller öppet till 20.
URL:https://karlstad.schack.se/evenemang/juniorgrupp-42/
LOCATION:Karlstad AS spellokal\, Sundbergsgatan 12b\, Karlstad\, 652 19\, Sverige
ORGANIZER;CN="Juniorledare Karlstad AS":MAILTO:karlstad.schacksallskap@gmail.com; arvpas@gmail.com; kjellake.andersson56@outlook.com; andrewwegerif@gmail.com
END:VEVENT
BEGIN:VEVENT
DTSTART;TZID=Europe/Stockholm:20251116T110000
DTEND;TZID=Europe/Stockholm:20251116T150000
DTSTAMP:20260420T071123
CREATED:20251023T145802Z
LAST-MODIFIED:20251023T150047Z
UID:10410-1763290800-1763305200@karlstad.schack.se
SUMMARY:Allsvenskan R3
DESCRIPTION:Div II Grupp 4 \nHemmamatch mot Ervalla SS
URL:https://karlstad.schack.se/evenemang/allsvenskan-r3/
LOCATION:Karlstad AS spellokal\, Sundbergsgatan 12b\, Karlstad\, 652 19\, Sverige
ORGANIZER;CN="Henrik Norberg":MAILTO:norbergh@hotmail.com
END:VEVENT
BEGIN:VEVENT
DTSTART;TZID=Europe/Stockholm:20251118T190000
DTEND;TZID=Europe/Stockholm:20251118T210000
DTSTAMP:20260420T071123
CREATED:20251112T190123Z
LAST-MODIFIED:20251112T190527Z
UID:10587-1763492400-1763499600@karlstad.schack.se
SUMMARY:Öppen kväll
DESCRIPTION:
URL:https://karlstad.schack.se/evenemang/oppen-kvall-2/
LOCATION:Karlstad AS spellokal\, Sundbergsgatan 12b\, Karlstad\, 652 19\, Sverige
ORGANIZER;CN="Karlstads Allm%C3%A4nna Schacks%C3%A4llskap":MAILTO:karlstad.schacksallskap@gmail.com
END:VEVENT
BEGIN:VEVENT
DTSTART;TZID=Europe/Stockholm:20251120T180000
DTEND;TZID=Europe/Stockholm:20251120T200000
DTSTAMP:20260420T071123
CREATED:20250824T192052Z
LAST-MODIFIED:20250824T192256Z
UID:9522-1763661600-1763668800@karlstad.schack.se
SUMMARY:Juniorgrupp
DESCRIPTION:Alla juniorer är välkomna\, oavsett erfarenhet. För nya och yngre spelare rekommenderar vi tiden 18-19. Vi har alltid ledare på plats och håller öppet till 20.
URL:https://karlstad.schack.se/evenemang/juniorgrupp-44/
LOCATION:Karlstad AS spellokal\, Sundbergsgatan 12b\, Karlstad\, 652 19\, Sverige
ORGANIZER;CN="Juniorledare Karlstad AS":MAILTO:karlstad.schacksallskap@gmail.com; arvpas@gmail.com; kjellake.andersson56@outlook.com; andrewwegerif@gmail.com
END:VEVENT
BEGIN:VEVENT
DTSTART;TZID=Europe/Stockholm:20251125T190000
DTEND;TZID=Europe/Stockholm:20251125T220000
DTSTAMP:20260420T071123
CREATED:20250821T001859Z
LAST-MODIFIED:20251111T202734Z
UID:9464-1764097200-1764108000@karlstad.schack.se
SUMMARY:KM rond 5 & Nybörjarträning
DESCRIPTION:Klubbmästerskap i långparti (90 min + 30 sek tilläggstid per drag). Rond 5 av 5. \nNybörjarträning hålls parallellt.
URL:https://karlstad.schack.se/evenemang/km-rond-5-nyborjartraning/
LOCATION:Karlstad AS spellokal\, Sundbergsgatan 12b\, Karlstad\, 652 19\, Sverige
ORGANIZER;CN="Lars-Erik Johansson":MAILTO:larserik21.johansson@gmail.com
END:VEVENT
BEGIN:VEVENT
DTSTART;TZID=Europe/Stockholm:20251127T180000
DTEND;TZID=Europe/Stockholm:20251127T200000
DTSTAMP:20260420T071123
CREATED:20250824T192208Z
LAST-MODIFIED:20251111T203122Z
UID:9524-1764266400-1764273600@karlstad.schack.se
SUMMARY:Juniorgrupp
DESCRIPTION:Alla juniorer är välkomna\, oavsett erfarenhet. För nya och yngre spelare rekommenderar vi tiden 18-19. Vi har alltid ledare på plats och håller öppet till 20.
URL:https://karlstad.schack.se/evenemang/juniorgrupp-45/
LOCATION:Karlstad AS spellokal\, Sundbergsgatan 12b\, Karlstad\, 652 19\, Sverige
ORGANIZER;CN="Juniorledare Karlstad AS":MAILTO:karlstad.schacksallskap@gmail.com; arvpas@gmail.com; kjellake.andersson56@outlook.com; andrewwegerif@gmail.com
END:VEVENT
BEGIN:VEVENT
DTSTART;TZID=Europe/Stockholm:20251129T140000
DTEND;TZID=Europe/Stockholm:20251129T173000
DTSTAMP:20260420T071123
CREATED:20250213T034732Z
LAST-MODIFIED:20251114T180717Z
UID:8889-1764424800-1764437400@karlstad.schack.se
SUMMARY:Juniorturnering Sockenstugan (WJGP4)
DESCRIPTION:Välkommen till årets sista deltävling av Wermland Junior Grand Prix\, som också går att delta i fristående.\nAvslutas med prisutdelning för serievinnare. \nInbjudan
URL:https://karlstad.schack.se/evenemang/wjgp-deltavling-4/
LOCATION:Hammarö Sockenstuga\, Sverres väg 5\, Hammarö\, 663 41\, Sverige
ORGANIZER;CN="SSK Hammar%C3%B6":MAILTO:adrianmuntean.home@gmail.com
END:VEVENT
BEGIN:VEVENT
DTSTART;TZID=Europe/Stockholm:20251202T190000
DTEND;TZID=Europe/Stockholm:20251202T210000
DTSTAMP:20260420T071123
CREATED:20250821T002100Z
LAST-MODIFIED:20250821T002100Z
UID:9466-1764702000-1764709200@karlstad.schack.se
SUMMARY:KM i snabbschack & Nybörjarträning
DESCRIPTION:
URL:https://karlstad.schack.se/evenemang/km-i-snabbschack-nyborjartraning/
ORGANIZER;CN="Lars-Erik Johansson":MAILTO:larserik21.johansson@gmail.com
END:VEVENT
BEGIN:VEVENT
DTSTART;TZID=Europe/Stockholm:20251204T180000
DTEND;TZID=Europe/Stockholm:20251204T200000
DTSTAMP:20260420T071123
CREATED:20250824T192346Z
LAST-MODIFIED:20250824T192346Z
UID:9526-1764871200-1764878400@karlstad.schack.se
SUMMARY:Juniorgrupp
DESCRIPTION:Alla juniorer är välkomna\, oavsett erfarenhet. För nya och yngre spelare rekommenderar vi tiden 18-19. Vi har alltid ledare på plats och håller öppet till 20.
URL:https://karlstad.schack.se/evenemang/juniorgrupp-43/
LOCATION:Karlstad AS spellokal\, Sundbergsgatan 12b\, Karlstad\, 652 19\, Sverige
ORGANIZER;CN="Juniorledare Karlstad AS":MAILTO:karlstad.schacksallskap@gmail.com; arvpas@gmail.com; kjellake.andersson56@outlook.com; andrewwegerif@gmail.com
END:VEVENT
BEGIN:VEVENT
DTSTART;TZID=Europe/Stockholm:20251209T190000
DTEND;TZID=Europe/Stockholm:20251209T210000
DTSTAMP:20260420T071123
CREATED:20250821T090838Z
LAST-MODIFIED:20250821T092259Z
UID:9469-1765306800-1765314000@karlstad.schack.se
SUMMARY:Lusseblixt & Nybörjarträning
DESCRIPTION:Den traditionella lusseblixten. Alla möter alla\, betänketid 5 min. \nNybörjarträning hålls parallellt. \nLokalen är öppen från 18.30 \n 
URL:https://karlstad.schack.se/evenemang/lusseblixt-nyborjartraning/
LOCATION:Karlstad AS spellokal\, Sundbergsgatan 12b\, Karlstad\, 652 19\, Sverige
ORGANIZER;CN="Lars-Erik Johansson":MAILTO:larserik21.johansson@gmail.com
END:VEVENT
BEGIN:VEVENT
DTSTART;TZID=Europe/Stockholm:20251211T180000
DTEND;TZID=Europe/Stockholm:20251211T200000
DTSTAMP:20260420T071123
CREATED:20250824T192458Z
LAST-MODIFIED:20251111T203303Z
UID:9528-1765476000-1765483200@karlstad.schack.se
SUMMARY:Juniorgrupp
DESCRIPTION:Alla juniorer är välkomna\, oavsett erfarenhet. För nya och yngre spelare rekommenderar vi tiden 18-19. Vi har alltid ledare på plats och håller öppet till 20.
URL:https://karlstad.schack.se/evenemang/juniorgrupp-46/
LOCATION:Karlstad AS spellokal\, Sundbergsgatan 12b\, Karlstad\, 652 19\, Sverige
ORGANIZER;CN="Juniorledare Karlstad AS":MAILTO:karlstad.schacksallskap@gmail.com; arvpas@gmail.com; kjellake.andersson56@outlook.com; andrewwegerif@gmail.com
END:VEVENT
END:VCALENDAR