BEGIN:VCALENDAR
VERSION:2.0
PRODID:-//Karlstads Allmänna Schacksällskap - ECPv6.15.20//NONSGML v1.0//EN
CALSCALE:GREGORIAN
METHOD:PUBLISH
X-ORIGINAL-URL:https://karlstad.schack.se
X-WR-CALDESC:Händelser för Karlstads Allmänna Schacksällskap
REFRESH-INTERVAL;VALUE=DURATION:PT1H
X-Robots-Tag:noindex
X-PUBLISHED-TTL:PT1H
BEGIN:VTIMEZONE
TZID:Europe/Stockholm
BEGIN:DAYLIGHT
TZOFFSETFROM:+0100
TZOFFSETTO:+0200
TZNAME:CEST
DTSTART:20230326T010000
END:DAYLIGHT
BEGIN:STANDARD
TZOFFSETFROM:+0200
TZOFFSETTO:+0100
TZNAME:CET
DTSTART:20231029T010000
END:STANDARD
BEGIN:DAYLIGHT
TZOFFSETFROM:+0100
TZOFFSETTO:+0200
TZNAME:CEST
DTSTART:20240331T010000
END:DAYLIGHT
BEGIN:STANDARD
TZOFFSETFROM:+0200
TZOFFSETTO:+0100
TZNAME:CET
DTSTART:20241027T010000
END:STANDARD
BEGIN:DAYLIGHT
TZOFFSETFROM:+0100
TZOFFSETTO:+0200
TZNAME:CEST
DTSTART:20250330T010000
END:DAYLIGHT
BEGIN:STANDARD
TZOFFSETFROM:+0200
TZOFFSETTO:+0100
TZNAME:CET
DTSTART:20251026T010000
END:STANDARD
BEGIN:DAYLIGHT
TZOFFSETFROM:+0100
TZOFFSETTO:+0200
TZNAME:CEST
DTSTART:20260329T010000
END:DAYLIGHT
BEGIN:STANDARD
TZOFFSETFROM:+0200
TZOFFSETTO:+0100
TZNAME:CET
DTSTART:20261025T010000
END:STANDARD
END:VTIMEZONE
BEGIN:VEVENT
DTSTART;TZID=Europe/Stockholm:20241121T180000
DTEND;TZID=Europe/Stockholm:20241121T200000
DTSTAMP:20260421T213510
CREATED:20240821T200053Z
LAST-MODIFIED:20240821T200053Z
UID:8091-1732212000-1732219200@karlstad.schack.se
SUMMARY:Juniorgrupp
DESCRIPTION:
URL:https://karlstad.schack.se/evenemang/juniorgrupp-13/
LOCATION:Karlstad AS spellokal\, Sundbergsgatan 12b\, Karlstad\, 652 19\, Sverige
ORGANIZER;CN="Juniorledare Karlstad AS":MAILTO:karlstad.schacksallskap@gmail.com; arvpas@gmail.com; kjellake.andersson56@outlook.com; andrewwegerif@gmail.com
END:VEVENT
BEGIN:VEVENT
DTSTART;TZID=Europe/Stockholm:20241123T100000
DTEND;TZID=Europe/Stockholm:20241123T133000
DTSTAMP:20260421T213510
CREATED:20241112T144832Z
LAST-MODIFIED:20241121T122233Z
UID:8320-1732356000-1732368600@karlstad.schack.se
SUMMARY:Värmlandsserien lagmatch
DESCRIPTION:Karlstad AS 2 (hemmamatch) – Säffle SK 2 \nKarlstad AS 1 (hemmamatch) – SSK Hammarö \nhttps://member.schack.se/ShowTournamentServlet?id=14734
URL:https://karlstad.schack.se/evenemang/varmlandsserien-lagmatch-2/
LOCATION:Karlstad AS spellokal\, Sundbergsgatan 12b\, Karlstad\, 652 19\, Sverige
ORGANIZER;CN="V%C3%A4rmlands Schackf%C3%B6rbund":MAILTO:kjellake.andersson56@outlook.com
END:VEVENT
BEGIN:VEVENT
DTSTART;TZID=Europe/Stockholm:20241126T183000
DTEND;TZID=Europe/Stockholm:20241126T210000
DTSTAMP:20260421T213510
CREATED:20240827T154308Z
LAST-MODIFIED:20250209T110635Z
UID:8140-1732645800-1732654800@karlstad.schack.se
SUMMARY:Fischer random snabbschack
DESCRIPTION:Tidskontroll ca 15 min. Ny ställning varannan rond\, 4 ronder.
URL:https://karlstad.schack.se/evenemang/fischer-random-snabbschack/
LOCATION:Karlstad AS spellokal\, Sundbergsgatan 12b\, Karlstad\, 652 19\, Sverige
ORGANIZER;CN="Lars-Erik Johansson":MAILTO:larserik21.johansson@gmail.com
END:VEVENT
BEGIN:VEVENT
DTSTART;TZID=Europe/Stockholm:20241128T180000
DTEND;TZID=Europe/Stockholm:20241128T200000
DTSTAMP:20260421T213510
CREATED:20240821T200142Z
LAST-MODIFIED:20240821T200142Z
UID:8093-1732816800-1732824000@karlstad.schack.se
SUMMARY:Juniorgrupp
DESCRIPTION:
URL:https://karlstad.schack.se/evenemang/juniorgrupp-14/
LOCATION:Karlstad AS spellokal\, Sundbergsgatan 12b\, Karlstad\, 652 19\, Sverige
ORGANIZER;CN="Juniorledare Karlstad AS":MAILTO:karlstad.schacksallskap@gmail.com; arvpas@gmail.com; kjellake.andersson56@outlook.com; andrewwegerif@gmail.com
END:VEVENT
BEGIN:VEVENT
DTSTART;TZID=Europe/Stockholm:20241130T130000
DTEND;TZID=Europe/Stockholm:20241130T160000
DTSTAMP:20260421T213510
CREATED:20240101T235446Z
LAST-MODIFIED:20240102T015136Z
UID:6526-1732971600-1732982400@karlstad.schack.se
SUMMARY:WJGP delturnering 4
DESCRIPTION:Fjärde och sista delturneringen i serien Wermland Junior Grand Prix. Inbjudan kommer några veckor innan turneringen.
URL:https://karlstad.schack.se/evenemang/wjgp-delturnering-4/
LOCATION:Hammarö Sockenstuga\, Sverres väg 5\, Hammarö\, 663 41\, Sverige
ORGANIZER;CN="SSK Hammar%C3%B6":MAILTO:adrianmuntean.home@gmail.com
END:VEVENT
BEGIN:VEVENT
DTSTART;TZID=Europe/Stockholm:20241201T110000
DTEND;TZID=Europe/Stockholm:20241201T150000
DTSTAMP:20260421T213510
CREATED:20241021T232318Z
LAST-MODIFIED:20241021T232318Z
UID:8266-1733050800-1733065200@karlstad.schack.se
SUMMARY:Allsvenskan Rond 3
DESCRIPTION:Hemmamatch mot Säffle SK.
URL:https://karlstad.schack.se/evenemang/allsvenskan-rond-3/
LOCATION:Karlstad AS spellokal\, Sundbergsgatan 12b\, Karlstad\, 652 19\, Sverige
END:VEVENT
BEGIN:VEVENT
DTSTART;TZID=Europe/Stockholm:20241203T183000
DTEND;TZID=Europe/Stockholm:20241203T213000
DTSTAMP:20260421T213510
CREATED:20240827T154405Z
LAST-MODIFIED:20240827T154425Z
UID:8142-1733250600-1733261400@karlstad.schack.se
SUMMARY:KM i snabbschack
DESCRIPTION:Tidskontroll 15 min. 5 ronder.
URL:https://karlstad.schack.se/evenemang/km-i-snabbschack/
LOCATION:Karlstad AS spellokal\, Sundbergsgatan 12b\, Karlstad\, 652 19\, Sverige
ORGANIZER;CN="Lars-Erik Johansson":MAILTO:larserik21.johansson@gmail.com
END:VEVENT
BEGIN:VEVENT
DTSTART;TZID=Europe/Stockholm:20241205T180000
DTEND;TZID=Europe/Stockholm:20241205T220000
DTSTAMP:20260421T213510
CREATED:20240821T200222Z
LAST-MODIFIED:20240821T200222Z
UID:8095-1733421600-1733436000@karlstad.schack.se
SUMMARY:Juniorgrupp
DESCRIPTION:
URL:https://karlstad.schack.se/evenemang/juniorgrupp-15/
LOCATION:Karlstad AS spellokal\, Sundbergsgatan 12b\, Karlstad\, 652 19\, Sverige
ORGANIZER;CN="Juniorledare Karlstad AS":MAILTO:karlstad.schacksallskap@gmail.com; arvpas@gmail.com; kjellake.andersson56@outlook.com; andrewwegerif@gmail.com
END:VEVENT
BEGIN:VEVENT
DTSTART;TZID=Europe/Stockholm:20241210T183000
DTEND;TZID=Europe/Stockholm:20241210T210000
DTSTAMP:20260421T213510
CREATED:20240827T154541Z
LAST-MODIFIED:20240827T154555Z
UID:8144-1733855400-1733864400@karlstad.schack.se
SUMMARY:Lusseblixt
DESCRIPTION:Den traditionella luciablixten. Tidskontroll 5 min.
URL:https://karlstad.schack.se/evenemang/lusseblixt/
END:VEVENT
BEGIN:VEVENT
DTSTART;TZID=Europe/Stockholm:20241212T180000
DTEND;TZID=Europe/Stockholm:20241212T200000
DTSTAMP:20260421T213510
CREATED:20240821T200324Z
LAST-MODIFIED:20240821T200324Z
UID:8097-1734026400-1734033600@karlstad.schack.se
SUMMARY:Juniorgrupp
DESCRIPTION:
URL:https://karlstad.schack.se/evenemang/juniorgrupp-16/
LOCATION:Karlstad AS spellokal\, Sundbergsgatan 12b\, Karlstad\, 652 19\, Sverige
ORGANIZER;CN="Juniorledare Karlstad AS":MAILTO:karlstad.schacksallskap@gmail.com; arvpas@gmail.com; kjellake.andersson56@outlook.com; andrewwegerif@gmail.com
END:VEVENT
BEGIN:VEVENT
DTSTART;TZID=Europe/Stockholm:20241217T183000
DTEND;TZID=Europe/Stockholm:20241217T210000
DTSTAMP:20260421T213510
CREATED:20240827T154758Z
LAST-MODIFIED:20240827T154809Z
UID:8146-1734460200-1734469200@karlstad.schack.se
SUMMARY:Avslutningsblixt
DESCRIPTION:Avslutning med blixtpartier och extra gott fika.
URL:https://karlstad.schack.se/evenemang/avslutningsblixt/
LOCATION:Karlstad AS spellokal\, Sundbergsgatan 12b\, Karlstad\, 652 19\, Sverige
ORGANIZER;CN="Lars-Erik Johansson":MAILTO:larserik21.johansson@gmail.com
END:VEVENT
BEGIN:VEVENT
DTSTART;TZID=Europe/Stockholm:20241219T180000
DTEND;TZID=Europe/Stockholm:20241219T200000
DTSTAMP:20260421T213510
CREATED:20240821T200553Z
LAST-MODIFIED:20240821T200553Z
UID:8099-1734631200-1734638400@karlstad.schack.se
SUMMARY:Juniorgrupp
DESCRIPTION:Terminsavslutning för juniorgruppen.
URL:https://karlstad.schack.se/evenemang/juniorgrupp-17/
LOCATION:Karlstad AS spellokal\, Sundbergsgatan 12b\, Karlstad\, 652 19\, Sverige
ORGANIZER;CN="Juniorledare Karlstad AS":MAILTO:karlstad.schacksallskap@gmail.com; arvpas@gmail.com; kjellake.andersson56@outlook.com; andrewwegerif@gmail.com
END:VEVENT
BEGIN:VEVENT
DTSTART;VALUE=DATE:20241227
DTEND;VALUE=DATE:20241231
DTSTAMP:20260421T213510
CREATED:20241220T144201Z
LAST-MODIFIED:20241220T144201Z
UID:8409-1735257600-1735603199@karlstad.schack.se
SUMMARY:Karlstad Open
DESCRIPTION:https://karlstadopen.se/
URL:https://karlstad.schack.se/evenemang/karlstad-open-2/
LOCATION:Elite Stadshotellet\, Kungsgatan 22\, Karlstad\, 652 24\, Sverige
ORGANIZER;CN="Karlstads Allm%C3%A4nna Schacks%C3%A4llskap":MAILTO:karlstad.schacksallskap@gmail.com
END:VEVENT
BEGIN:VEVENT
DTSTART;TZID=Europe/Stockholm:20241229T133000
DTEND;TZID=Europe/Stockholm:20241229T160000
DTSTAMP:20260421T213510
CREATED:20241220T144405Z
LAST-MODIFIED:20241220T144405Z
UID:8411-1735479000-1735488000@karlstad.schack.se
SUMMARY:Junior Open
DESCRIPTION:https://karlstadopen.se/junior-open/
URL:https://karlstad.schack.se/evenemang/junior-open/
LOCATION:Elite Stadshotellet\, Kungsgatan 22\, Karlstad\, 652 24\, Sverige
END:VEVENT
BEGIN:VEVENT
DTSTART;TZID=Europe/Stockholm:20250109T180000
DTEND;TZID=Europe/Stockholm:20250109T200000
DTSTAMP:20260421T213510
CREATED:20241220T144625Z
LAST-MODIFIED:20241220T144625Z
UID:8413-1736445600-1736452800@karlstad.schack.se
SUMMARY:Juniorgrupp terminstart
DESCRIPTION:
URL:https://karlstad.schack.se/evenemang/juniorgrupp-terminstart/
LOCATION:Karlstad AS spellokal\, Sundbergsgatan 12b\, Karlstad\, 652 19\, Sverige
ORGANIZER;CN="Juniorledare Karlstad AS":MAILTO:karlstad.schacksallskap@gmail.com; arvpas@gmail.com; kjellake.andersson56@outlook.com; andrewwegerif@gmail.com
END:VEVENT
BEGIN:VEVENT
DTSTART;TZID=Europe/Stockholm:20250114T183000
DTEND;TZID=Europe/Stockholm:20250114T210000
DTSTAMP:20260421T213510
CREATED:20241220T144745Z
LAST-MODIFIED:20250112T132811Z
UID:8415-1736879400-1736888400@karlstad.schack.se
SUMMARY:Midvinterblixt - terminsstart tisdagsgrupp
DESCRIPTION:Uppstart med den traditionella midvinterblixten.\nVi försöker som vanligt komma igång med spel vid kl 19.
URL:https://karlstad.schack.se/evenemang/tisdagsgrupp-terminstart/
LOCATION:Karlstad AS spellokal\, Sundbergsgatan 12b\, Karlstad\, 652 19\, Sverige
ORGANIZER;CN="Lars-Erik Johansson":MAILTO:larserik21.johansson@gmail.com
END:VEVENT
BEGIN:VEVENT
DTSTART;TZID=Europe/Stockholm:20250116T180000
DTEND;TZID=Europe/Stockholm:20250116T200000
DTSTAMP:20260421T213510
CREATED:20250112T133412Z
LAST-MODIFIED:20250112T134018Z
UID:8444-1737050400-1737057600@karlstad.schack.se
SUMMARY:Juniorgrupp
DESCRIPTION:Vi föreslår att nybörjare\, särskilt yngre spelare kommer kl 18.00.
URL:https://karlstad.schack.se/evenemang/juniorgrupp-18/
LOCATION:Karlstad AS spellokal\, Sundbergsgatan 12b\, Karlstad\, 652 19\, Sverige
ORGANIZER;CN="Juniorledare Karlstad AS":MAILTO:karlstad.schacksallskap@gmail.com; arvpas@gmail.com; kjellake.andersson56@outlook.com; andrewwegerif@gmail.com
END:VEVENT
BEGIN:VEVENT
DTSTART;TZID=Europe/Stockholm:20250121T183000
DTEND;TZID=Europe/Stockholm:20250121T210000
DTSTAMP:20260421T213510
CREATED:20250112T131845Z
LAST-MODIFIED:20250112T132251Z
UID:8435-1737484200-1737493200@karlstad.schack.se
SUMMARY:Snabbschack
DESCRIPTION:Tidkontroll 10 min + 2 sek tillägg.
URL:https://karlstad.schack.se/evenemang/midvinterblixt/
LOCATION:Karlstad AS spellokal\, Sundbergsgatan 12b\, Karlstad\, 652 19\, Sverige
ORGANIZER;CN="Lars-Erik Johansson":MAILTO:larserik21.johansson@gmail.com
END:VEVENT
BEGIN:VEVENT
DTSTART;TZID=Europe/Stockholm:20250123T180000
DTEND;TZID=Europe/Stockholm:20250123T200000
DTSTAMP:20260421T213510
CREATED:20250112T133554Z
LAST-MODIFIED:20250117T154555Z
UID:8446-1737655200-1737662400@karlstad.schack.se
SUMMARY:Juniorgrupp + turnering Anti-Schack kl 19.00
DESCRIPTION:Yngre och nybörjarträning kl 18-19\, spelrummet i mitten.\nMer spelvana 18-19 i bortre spelrummet.\nMellan 19-20 är bägge spelrummen fria för alla. \nIntern juniorturnering i Anti-schack kl 19.00 (valfritt deltagande i bortre spelrummet)\nAnmälan på plats senast 5 minuter innan start.\nVi slutar ca kl 20.00 som vanligt. \nAnti-Schack regler\n* Den sida som först blir av med alla sina pjäser vinner.\n* Om man vid drag kan ta en av motståndarens pjäser så MÅSTE man göra det. Finns det flera olika pjäser som går att ta\, så väljer man en av dem.\n* Kungen är som vilken pjäs som helst\, och kan slås eller ställa sig under hot. Det finns ingen schack eller schack matt.\n* Bönder promoveras som vanligt\, men kan även promoveras till kung.\n* Rockad är otillåtet.\n* Om spelaren vid drag inte kan flytta någon pjäs alls\, dvs saknar lagliga drag\, så vinner spelaren som inte kan flytta.\n* Dragupprepning är remi enligt standardregler (exakt samma ställning upprepad 3 gånger). Har ingen pjäs slagits på 50 drag så är det också remi.\n* Om ingen av spelarna kan vinna via lagliga drag\, tex har en löpare kvar av olika färg\, så är partiet remi. \nEftersom Anti-Schack inte brukar kräva mycket betänketid\, så är tidkontrollen 3 min + 2 sek tilläggstid per drag för vardera spelare.
URL:https://karlstad.schack.se/evenemang/juniorgrupp-19/
LOCATION:Karlstad AS spellokal\, Sundbergsgatan 12b\, Karlstad\, 652 19\, Sverige
ORGANIZER;CN="Juniorledare Karlstad AS":MAILTO:karlstad.schacksallskap@gmail.com; arvpas@gmail.com; kjellake.andersson56@outlook.com; andrewwegerif@gmail.com
END:VEVENT
BEGIN:VEVENT
DTSTART;TZID=Europe/Stockholm:20250128T183000
DTEND;TZID=Europe/Stockholm:20250128T203000
DTSTAMP:20260421T213510
CREATED:20250112T140931Z
LAST-MODIFIED:20250113T003213Z
UID:8450-1738089000-1738096200@karlstad.schack.se
SUMMARY:Nybörjarkväll
DESCRIPTION:Nybörjarkvällen är i första hand tänkt för vuxna eller juniorer ca 15+\, för yngre juniorer föreslår vi istället juniorgruppen. \nÄr du nyfiken på schack\, men inte spelat så mycket tidigare?\nDu kanske sett filmer som The Queen’s Gambit\, eller streamare som GothamChess\, GMHikaru?\nKanske har du testat att spela lite grann på nätet\, ex chess.com?\nEller har du nästan ingen erfarenhet alls men vill veta mer? \nVi kommer den här kvällen att ha särskilt fokus på att hjälpa nya spelare\, och anpassa efter behov.\nVi bjuder som vanligt på fika/dryck\, och det kostar ingenting att prova på. \nVarmt välkommen!
URL:https://karlstad.schack.se/evenemang/nyborjarkvall-vuxna-juniorer-15/
LOCATION:Karlstad AS spellokal\, Sundbergsgatan 12b\, Karlstad\, 652 19\, Sverige
ORGANIZER;CN="Karlstads Allm%C3%A4nna Schacks%C3%A4llskap":MAILTO:karlstad.schacksallskap@gmail.com
END:VEVENT
BEGIN:VEVENT
DTSTART;TZID=Europe/Stockholm:20250130T180000
DTEND;TZID=Europe/Stockholm:20250130T200000
DTSTAMP:20260421T213510
CREATED:20250112T133706Z
LAST-MODIFIED:20250117T222409Z
UID:8448-1738260000-1738267200@karlstad.schack.se
SUMMARY:Juniorgrupp
DESCRIPTION:Yngre och nybörjarträning kl 18-19\, spelrummet i mitten.\nMer spelvana 18-19 i bortre spelrummet.\nMellan 19-20 är bägge spelrummen fria för alla.
URL:https://karlstad.schack.se/evenemang/juniorgrupp-20/
LOCATION:Karlstad AS spellokal\, Sundbergsgatan 12b\, Karlstad\, 652 19\, Sverige
ORGANIZER;CN="Juniorledare Karlstad AS":MAILTO:karlstad.schacksallskap@gmail.com; arvpas@gmail.com; kjellake.andersson56@outlook.com; andrewwegerif@gmail.com
END:VEVENT
BEGIN:VEVENT
DTSTART;TZID=Europe/Stockholm:20250201T110000
DTEND;TZID=Europe/Stockholm:20250201T143000
DTSTAMP:20260421T213510
CREATED:20241112T145047Z
LAST-MODIFIED:20241112T145047Z
UID:8322-1738407600-1738420200@karlstad.schack.se
SUMMARY:Värmlandsserien lagmatch
DESCRIPTION:Karlstad AS 1 – Karlstad AS 2  \nFramskjuten från 2024-10-05 \nhttps://member.schack.se/ShowTournamentServlet?id=14734
URL:https://karlstad.schack.se/evenemang/varmlandsserien-lagmatch-3/
LOCATION:Karlstad AS spellokal\, Sundbergsgatan 12b\, Karlstad\, 652 19\, Sverige
ORGANIZER;CN="V%C3%A4rmlands Schackf%C3%B6rbund":MAILTO:kjellake.andersson56@outlook.com
END:VEVENT
BEGIN:VEVENT
DTSTART;TZID=Europe/Stockholm:20250204T190000
DTEND;TZID=Europe/Stockholm:20250204T210000
DTSTAMP:20260421T213510
CREATED:20250202T151245Z
LAST-MODIFIED:20250202T171210Z
UID:8639-1738695600-1738702800@karlstad.schack.se
SUMMARY:Nybörjargrupp + Snabbschack
DESCRIPTION:Vissa kommer att assistera nybörjargruppen från förra tisdagen. \nSnabbschack 10 min + 3 sek tillägg för de som vill i bortre spelsalen.  \nStart kl 19.00\, vi har öppet från 18.30. Det finns en ringklocka utanför porten. \nAlla är välkomna.
URL:https://karlstad.schack.se/evenemang/nyborjare-snabbschack/
LOCATION:Karlstad AS spellokal\, Sundbergsgatan 12b\, Karlstad\, 652 19\, Sverige
ORGANIZER;CN="Karlstads Allm%C3%A4nna Schacks%C3%A4llskap":MAILTO:karlstad.schacksallskap@gmail.com
END:VEVENT
BEGIN:VEVENT
DTSTART;TZID=Europe/Stockholm:20250206T180000
DTEND;TZID=Europe/Stockholm:20250206T200000
DTSTAMP:20260421T213510
CREATED:20250117T222903Z
LAST-MODIFIED:20250117T222925Z
UID:8554-1738864800-1738872000@karlstad.schack.se
SUMMARY:Juniorgrupp
DESCRIPTION:Yngre och nybörjarträning kl 18-19\, spelrummet i mitten.\nMer spelvana 18-19 i bortre spelrummet.\nMellan 19-20 är bägge spelrummen fria för alla.
URL:https://karlstad.schack.se/evenemang/8554/
LOCATION:Karlstad AS spellokal\, Sundbergsgatan 12b\, Karlstad\, 652 19\, Sverige
ORGANIZER;CN="Juniorledare Karlstad AS":MAILTO:karlstad.schacksallskap@gmail.com; arvpas@gmail.com; kjellake.andersson56@outlook.com; andrewwegerif@gmail.com
END:VEVENT
BEGIN:VEVENT
DTSTART;TZID=Europe/Stockholm:20250208T130000
DTEND;TZID=Europe/Stockholm:20250208T143000
DTSTAMP:20260421T213510
CREATED:20250205T172956Z
LAST-MODIFIED:20250205T172956Z
UID:8669-1739019600-1739025000@karlstad.schack.se
SUMMARY:Lördagsträff
DESCRIPTION:På plats kör vi under fria former\, ingen agenda.\nKanske vill några spela\, kanske vill andra titta på teori eller analysera.\nTja\, vad vet jag! / Bosse
URL:https://karlstad.schack.se/evenemang/lordagstraff/
LOCATION:Karlstad AS spellokal\, Sundbergsgatan 12b\, Karlstad\, 652 19\, Sverige
ORGANIZER;CN="Karlstads Allm%C3%A4nna Schacks%C3%A4llskap":MAILTO:karlstad.schacksallskap@gmail.com
END:VEVENT
BEGIN:VEVENT
DTSTART;TZID=Europe/Stockholm:20250211T190000
DTEND;TZID=Europe/Stockholm:20250211T203000
DTSTAMP:20260421T213510
CREATED:20250112T165023Z
LAST-MODIFIED:20250117T135824Z
UID:8458-1739300400-1739305800@karlstad.schack.se
SUMMARY:Årsmöte - alla är välkomna
DESCRIPTION:Det är väldigt uppskattat om alla som har möjlighet kommer till årsmötet.\nMötet är öppet för alla som är eller varit medlemmar senaste åren\, även föräldrar till juniorer.\nUnder mötet har alla en chans att få sin röst hörd\, ge synpunkter och påverka beslut som rör allt från medlemsavgifter\, ledning och själva innehållet i vår kärnverksamhet som spelkvällar.\nDet är viktigt för föreningens framtid\, både på kort och lång sikt\, att medlemmar är med på årsmöten.\nIngen behöver känna sig oroad över att bli tilldelad någon slags uppgift eller ansvarspost man inte vill ha\, eller känner sig tveksam inför.   \nMötet startar kl 19.00. \nVi bjuder självklart på fika och dryck. \nVarmt välkommen!
URL:https://karlstad.schack.se/evenemang/arsmote-alla-ar-valkomna/
LOCATION:Karlstad AS spellokal\, Sundbergsgatan 12b\, Karlstad\, 652 19\, Sverige
ORGANIZER;CN="Karlstads Allm%C3%A4nna Schacks%C3%A4llskap":MAILTO:karlstad.schacksallskap@gmail.com
END:VEVENT
BEGIN:VEVENT
DTSTART;TZID=Europe/Stockholm:20250213T180000
DTEND;TZID=Europe/Stockholm:20250213T200000
DTSTAMP:20260421T213510
CREATED:20250205T175308Z
LAST-MODIFIED:20250209T210647Z
UID:8671-1739469600-1739476800@karlstad.schack.se
SUMMARY:Juniorgrupp + Blixtturnering King of the Hill
DESCRIPTION:Yngre och nybörjarträning är välkomna kl 18-19\, spelrummet i mitten.\nMer spelvana kl 18-19\, i bortre spelrummet. \nBlixtturnering i King of the Hill för de som vill kl 19.00 i bortre spelsalen.\nAnmälan senast 5 min innan start. \nKing of the Hill regler\nSamma regler som i vanlig schack\, förutom att man också kan vinna genom att ställa sin egen kung på någon av de fyra mittenrutorna (d4\,d5\,e4\,e5).\nMan får fortfarande inte ställa sin egen kung i schack. Matt och patt gäller som vanligt. \nTidkontroll 3 min + 2 sek tilläggstid per drag.
URL:https://karlstad.schack.se/evenemang/juniorgrupp-blixtturnering-king-of-the-hill/
LOCATION:Karlstad AS spellokal\, Sundbergsgatan 12b\, Karlstad\, 652 19\, Sverige
ORGANIZER;CN="Juniorledare Karlstad AS":MAILTO:karlstad.schacksallskap@gmail.com; arvpas@gmail.com; kjellake.andersson56@outlook.com; andrewwegerif@gmail.com
END:VEVENT
BEGIN:VEVENT
DTSTART;TZID=Europe/Stockholm:20250215T130000
DTEND;TZID=Europe/Stockholm:20250215T143000
DTSTAMP:20260421T213510
CREATED:20250212T232056Z
LAST-MODIFIED:20250212T232056Z
UID:8864-1739624400-1739629800@karlstad.schack.se
SUMMARY:Lördagsträff
DESCRIPTION:Hej på er!\nLördagsträff i klubblokalen igen\, nu på lördag 15:e feb\, kl. 13.00.\nPå plats kör vi under fria former\, ingen agenda.\nKanske vill några spela\, kanske vill andra titta på teori eller analysera.\nTja\, vad vet jag!\nVälkommen till en avslappnad träff  på klubben! \nBosse
URL:https://karlstad.schack.se/evenemang/lordagstraff-2/
LOCATION:Karlstad AS spellokal\, Sundbergsgatan 12b\, Karlstad\, 652 19\, Sverige
ORGANIZER;CN="Karlstads Allm%C3%A4nna Schacks%C3%A4llskap":MAILTO:karlstad.schacksallskap@gmail.com
END:VEVENT
BEGIN:VEVENT
DTSTART;TZID=Europe/Stockholm:20250218T190000
DTEND;TZID=Europe/Stockholm:20250218T210000
DTSTAMP:20260421T213510
CREATED:20250213T043635Z
LAST-MODIFIED:20250213T044112Z
UID:8891-1739905200-1739912400@karlstad.schack.se
SUMMARY:Nybörjare + Binglottoblixt
DESCRIPTION:Vår klubblokal har två separata spelrum\, det finns därför möjlighet till parallell verksamhet.\nEna spelrummet är lite bättre anpassat för lärande och analys\, i det andra brukar vi ha turneringar av olika form. \nKvällens turnering är bingolottoblixt (till minne av Loket).
URL:https://karlstad.schack.se/evenemang/nyborjare-binglottoblixt/
LOCATION:Karlstad AS spellokal\, Sundbergsgatan 12b\, Karlstad\, 652 19\, Sverige
ORGANIZER;CN="Karlstads Allm%C3%A4nna Schacks%C3%A4llskap":MAILTO:karlstad.schacksallskap@gmail.com
END:VEVENT
BEGIN:VEVENT
DTSTART;TZID=Europe/Stockholm:20250220T180000
DTEND;TZID=Europe/Stockholm:20250220T200000
DTSTAMP:20260421T213510
CREATED:20250213T032853Z
LAST-MODIFIED:20250213T043146Z
UID:8881-1740074400-1740081600@karlstad.schack.se
SUMMARY:Juniorgrupp
DESCRIPTION:Det är helt kostnadsfritt att prova på några gånger\, och vi brukar bjuda på lättare fika. \nYngre och nybörjarträning kl 18-19\, spelrummet i mitten.\nMer spelvana kl 18-19\, bortre spelrummet.\nMellan kl 19-20 är bägge spelrummen fria för alla.
URL:https://karlstad.schack.se/evenemang/juniorgrupp-22/
LOCATION:Karlstad AS spellokal\, Sundbergsgatan 12b\, Karlstad\, 652 19\, Sverige
ORGANIZER;CN="Juniorledare Karlstad AS":MAILTO:karlstad.schacksallskap@gmail.com; arvpas@gmail.com; kjellake.andersson56@outlook.com; andrewwegerif@gmail.com
END:VEVENT
END:VCALENDAR