BEGIN:VCALENDAR
VERSION:2.0
PRODID:-//Karlstads Allmänna Schacksällskap - ECPv6.15.20//NONSGML v1.0//EN
CALSCALE:GREGORIAN
METHOD:PUBLISH
X-WR-CALNAME:Karlstads Allmänna Schacksällskap
X-ORIGINAL-URL:https://karlstad.schack.se
X-WR-CALDESC:Händelser för Karlstads Allmänna Schacksällskap
REFRESH-INTERVAL;VALUE=DURATION:PT1H
X-Robots-Tag:noindex
X-PUBLISHED-TTL:PT1H
BEGIN:VTIMEZONE
TZID:Europe/Stockholm
BEGIN:DAYLIGHT
TZOFFSETFROM:+0100
TZOFFSETTO:+0200
TZNAME:CEST
DTSTART:20240331T010000
END:DAYLIGHT
BEGIN:STANDARD
TZOFFSETFROM:+0200
TZOFFSETTO:+0100
TZNAME:CET
DTSTART:20241027T010000
END:STANDARD
BEGIN:DAYLIGHT
TZOFFSETFROM:+0100
TZOFFSETTO:+0200
TZNAME:CEST
DTSTART:20250330T010000
END:DAYLIGHT
BEGIN:STANDARD
TZOFFSETFROM:+0200
TZOFFSETTO:+0100
TZNAME:CET
DTSTART:20251026T010000
END:STANDARD
BEGIN:DAYLIGHT
TZOFFSETFROM:+0100
TZOFFSETTO:+0200
TZNAME:CEST
DTSTART:20260329T010000
END:DAYLIGHT
BEGIN:STANDARD
TZOFFSETFROM:+0200
TZOFFSETTO:+0100
TZNAME:CET
DTSTART:20261025T010000
END:STANDARD
BEGIN:DAYLIGHT
TZOFFSETFROM:+0100
TZOFFSETTO:+0200
TZNAME:CEST
DTSTART:20270328T010000
END:DAYLIGHT
BEGIN:STANDARD
TZOFFSETFROM:+0200
TZOFFSETTO:+0100
TZNAME:CET
DTSTART:20271031T010000
END:STANDARD
END:VTIMEZONE
BEGIN:VEVENT
DTSTART;TZID=Europe/Stockholm:20251216T190000
DTEND;TZID=Europe/Stockholm:20251216T210000
DTSTAMP:20260420T063727
CREATED:20250821T094607Z
LAST-MODIFIED:20250824T193059Z
UID:9474-1765911600-1765918800@karlstad.schack.se
SUMMARY:Julavslutning tisdagar
DESCRIPTION:Öppet program ännu\, innehåll kommer. \nJulfika och säsongsavslutning för alla. \n 
URL:https://karlstad.schack.se/evenemang/avslutning-for-alla/
LOCATION:Karlstad AS spellokal\, Sundbergsgatan 12b\, Karlstad\, 652 19\, Sverige
ORGANIZER;CN="Lars-Erik Johansson":MAILTO:larserik21.johansson@gmail.com
END:VEVENT
BEGIN:VEVENT
DTSTART;TZID=Europe/Stockholm:20251218T180000
DTEND;TZID=Europe/Stockholm:20251218T200000
DTSTAMP:20260420T063727
CREATED:20250824T193433Z
LAST-MODIFIED:20250824T193433Z
UID:9535-1766080800-1766088000@karlstad.schack.se
SUMMARY:Juniorgrupp julavslutning
DESCRIPTION:Extra fika  Alla juniorer är välkomna\, oavsett erfarenhet. För nya och yngre spelare rekommenderar vi tiden 18-19. Vi har alltid ledare på plats och håller öppet till 20.
URL:https://karlstad.schack.se/evenemang/juniorgrupp-julavslutning/
LOCATION:Karlstad AS spellokal\, Sundbergsgatan 12b\, Karlstad\, 652 19\, Sverige
ORGANIZER;CN="Juniorledare Karlstad AS":MAILTO:karlstad.schacksallskap@gmail.com; arvpas@gmail.com; kjellake.andersson56@outlook.com; andrewwegerif@gmail.com
END:VEVENT
BEGIN:VEVENT
DTSTART;VALUE=DATE:20251227
DTEND;VALUE=DATE:20251231
DTSTAMP:20260420T063727
CREATED:20250821T095242Z
LAST-MODIFIED:20250821T095255Z
UID:9476-1766793600-1767139199@karlstad.schack.se
SUMMARY:Karlstad Open
DESCRIPTION:Klubben arrangerar den årliga turneringen Karlstad Open på Elite Stadshotellet.
URL:https://karlstad.schack.se/evenemang/karlstad-open-3/
LOCATION:Elite Stadshotellet\, Kungsgatan 22\, Karlstad\, 652 24\, Sverige
ORGANIZER;CN="Karlstads Allm%C3%A4nna Schacks%C3%A4llskap":MAILTO:karlstad.schacksallskap@gmail.com
END:VEVENT
BEGIN:VEVENT
DTSTART;TZID=Europe/Stockholm:20251229T131500
DTEND;TZID=Europe/Stockholm:20251229T170000
DTSTAMP:20260420T063727
CREATED:20251023T152023Z
LAST-MODIFIED:20251023T152023Z
UID:10424-1767014100-1767027600@karlstad.schack.se
SUMMARY:Junior Open
DESCRIPTION:Inbjudan
URL:https://karlstad.schack.se/evenemang/junior-open-2/
LOCATION:Elite Stadshotellet\, Kungsgatan 22\, Karlstad\, 652 24\, Sverige
ORGANIZER;CN="Karlstads Allm%C3%A4nna Schacks%C3%A4llskap":MAILTO:karlstad.schacksallskap@gmail.com
END:VEVENT
BEGIN:VEVENT
DTSTART;TZID=Europe/Stockholm:20260106T100000
DTEND;TZID=Europe/Stockholm:20260106T130000
DTSTAMP:20260420T063727
CREATED:20251213T144253Z
LAST-MODIFIED:20251213T144641Z
UID:10646-1767693600-1767704400@karlstad.schack.se
SUMMARY:Lagblixt-DM
DESCRIPTION:Värmlands schackförbund inbjuder till lagblixt-DM 2026. \nAvprickning 9.45 \n3 min + 2 sek . 4-mannalag\, två divisioner. \nStartavgift 200 kr/lag. För medlemmar i Karlstad AS så står klubben för avgifter\, dvs gratis att delta. \nSwish 1236803613 eller bankgiro 525-0717 \nAnmälan till kjellake.andersson56@outlook.com senast 2 jan 2026
URL:https://karlstad.schack.se/evenemang/lagblixt-dm-2/
LOCATION:Hammarö Sockenstuga\, Sverres väg 5\, Hammarö\, 663 41\, Sverige
ORGANIZER;CN="V%C3%A4rmlands Schackf%C3%B6rbund":MAILTO:kjellake.andersson56@outlook.com
END:VEVENT
BEGIN:VEVENT
DTSTART;TZID=Europe/Stockholm:20260111T100000
DTEND;TZID=Europe/Stockholm:20260111T143000
DTSTAMP:20260420T063727
CREATED:20251023T150520Z
LAST-MODIFIED:20251023T150653Z
UID:10413-1768125600-1768141800@karlstad.schack.se
SUMMARY:Allsvenskan R5
DESCRIPTION:Div II Grupp 4 \nBortamatch mot Säffle SK
URL:https://karlstad.schack.se/evenemang/allsvenskan-r5/
LOCATION:Säffle Schackklubb\, Västra Storgatan 10\, Säffle\, 661 30\, Sverige
ORGANIZER;CN="Henrik Norberg":MAILTO:norbergh@hotmail.com
END:VEVENT
BEGIN:VEVENT
DTSTART;TZID=Europe/Stockholm:20260113T190000
DTEND;TZID=Europe/Stockholm:20260113T210000
DTSTAMP:20260420T063727
CREATED:20251213T145719Z
LAST-MODIFIED:20251213T145820Z
UID:10653-1768330800-1768338000@karlstad.schack.se
SUMMARY:Midvinterblixt / Nybörjarträning
DESCRIPTION:Säsongstart tisdagskvällar. Blixtturnering för de som vill. \nTräning för nya spelare parallellt.
URL:https://karlstad.schack.se/evenemang/midvinterblixt-nyborjartraning/
LOCATION:Karlstad AS spellokal\, Sundbergsgatan 12b\, Karlstad\, 652 19\, Sverige
ORGANIZER;CN="Lars-Erik Johansson":MAILTO:larserik21.johansson@gmail.com
END:VEVENT
BEGIN:VEVENT
DTSTART;TZID=Europe/Stockholm:20260115T180000
DTEND;TZID=Europe/Stockholm:20260115T200000
DTSTAMP:20260420T063727
CREATED:20251213T144916Z
LAST-MODIFIED:20260113T232136Z
UID:10651-1768500000-1768507200@karlstad.schack.se
SUMMARY:Juniorgrupp säsongstart
DESCRIPTION:Alla är välkomna mellan 18.00 och 20.00. Generellt ligger fokus på \nKl 18-19 de allra yngsta (<10 år) och nybörjare. Mittenrum och kök. \nKl 19-20 äldre juniorer och/eller juniorer med spelvana. \nValfritt spelrum för alla efter kl 19 om ej turnering pågår. \nCa varannan torsdagskväll har vi en förannonserad turnering. Turneringar hålls i bortre spelrummet\, och startar ca 18.30. \nFör att delta behöver du anmäla dig personligen minst 5 min innan start.
URL:https://karlstad.schack.se/evenemang/juniorgrupp-sasongstart/
LOCATION:Karlstad AS spellokal\, Sundbergsgatan 12b\, Karlstad\, 652 19\, Sverige
ORGANIZER;CN="Juniorledare Karlstad AS":MAILTO:karlstad.schacksallskap@gmail.com; arvpas@gmail.com; kjellake.andersson56@outlook.com; andrewwegerif@gmail.com
END:VEVENT
BEGIN:VEVENT
DTSTART;TZID=Europe/Stockholm:20260117T100000
DTEND;TZID=Europe/Stockholm:20260117T140000
DTSTAMP:20260420T063727
CREATED:20251023T143702Z
LAST-MODIFIED:20251023T143702Z
UID:10399-1768644000-1768658400@karlstad.schack.se
SUMMARY:Värmlandsserien Rond 3
DESCRIPTION:Turneringslänk
URL:https://karlstad.schack.se/evenemang/varmlandsserien-rond-3/
ORGANIZER;CN="Arvid P%C3%A5sse":MAILTO:arvpas@gmail.com
END:VEVENT
BEGIN:VEVENT
DTSTART;TZID=Europe/Stockholm:20260120T190000
DTEND;TZID=Europe/Stockholm:20260120T210000
DTSTAMP:20260420T063727
CREATED:20260111T163940Z
LAST-MODIFIED:20260112T173025Z
UID:10692-1768935600-1768942800@karlstad.schack.se
SUMMARY:Snabbschack / Nybörjarträning
DESCRIPTION:Spellokalen är öppen från kl 18.30 \nSnabbschack tidskontroll 10 min + 2 sek tillägg. \nTräning för de som vill\, separat från turneringen.
URL:https://karlstad.schack.se/evenemang/snabbschack-nyborjargrupp/
LOCATION:Karlstad AS spellokal\, Sundbergsgatan 12b\, Karlstad\, 652 19\, Sverige
ORGANIZER;CN="Lars-Erik Johansson":MAILTO:larserik21.johansson@gmail.com
END:VEVENT
BEGIN:VEVENT
DTSTART;TZID=Europe/Stockholm:20260122T180000
DTEND;TZID=Europe/Stockholm:20260122T200000
DTSTAMP:20260420T063727
CREATED:20260110T184033Z
LAST-MODIFIED:20260124T130914Z
UID:10669-1769104800-1769112000@karlstad.schack.se
SUMMARY:Juniorgrupp/Turnering Anti-schack
DESCRIPTION:Alla är välkomna mellan 18.00 och 20.00. \nKl 18-19 under 10 år och nybörjare. Mittenrum\, kök. \nÄldre juniorer och/eller juniorer med spelvana\, bortre spelrum. \nValfritt spelrum för alla efter kl 19 om ej turnering pågår. \nUngefär varannan torsdagskväll har vi en förannonserad turnering i bortre spelrummet. \nFör att delta behöver du anmäla dig personligen minst 5 min innan start. \nTurnering i anti-schack startar kl 19.00. 7 ronder\, betänketid är 3 min + 2 sek tilläggstid per drag. \nRegler anti-schack: https://en.wikipedia.org/wiki/Losing_chess \n 
URL:https://karlstad.schack.se/evenemang/juniorgrupp-turnering-anti-schack/
LOCATION:Karlstad AS spellokal\, Sundbergsgatan 12b\, Karlstad\, 652 19\, Sverige
ORGANIZER;CN="Juniorledare Karlstad AS":MAILTO:karlstad.schacksallskap@gmail.com; arvpas@gmail.com; kjellake.andersson56@outlook.com; andrewwegerif@gmail.com
END:VEVENT
BEGIN:VEVENT
DTSTART;TZID=Europe/Stockholm:20260127T183000
DTEND;TZID=Europe/Stockholm:20260127T210000
DTSTAMP:20260420T063727
CREATED:20260113T205902Z
LAST-MODIFIED:20260124T125349Z
UID:10773-1769538600-1769547600@karlstad.schack.se
SUMMARY:Bullet 2+1  / Nybörjare
DESCRIPTION:Tidskontroll 2 min + 1 sek tilläggstid per drag. Ev dubbelrond beroende på antal. \nTräning för nya spelare i andra rummet. \n 
URL:https://karlstad.schack.se/evenemang/bullet-21-nyborjartraning/
LOCATION:Karlstad AS spellokal\, Sundbergsgatan 12b\, Karlstad\, 652 19\, Sverige
ORGANIZER;CN="Lars-Erik Johansson":MAILTO:larserik21.johansson@gmail.com
END:VEVENT
BEGIN:VEVENT
DTSTART;TZID=Europe/Stockholm:20260129T180000
DTEND;TZID=Europe/Stockholm:20260129T200000
DTSTAMP:20260420T063727
CREATED:20260110T184523Z
LAST-MODIFIED:20260110T190348Z
UID:10673-1769709600-1769716800@karlstad.schack.se
SUMMARY:Juniorgrupp
DESCRIPTION:Alla är välkomna mellan 18.00 och 20.00\, men generellt gäller vårt fokus \nKl 18-19 de allra yngsta (<10 år) och nybörjare. \nKl 19-20 äldre juniorer och/eller juniorer med spelvana. Valfritt spelrum. \nCa varannan torsdagskväll har vi förannonserad turnering/event. Det kommer i så fall hållas i bortre spelrummet\, och starta kl 18.30.\nFör att delta i en turnering behöver du anmäla dig minst 10 min innan start.
URL:https://karlstad.schack.se/evenemang/juniorgrupp-47/
LOCATION:Karlstad AS spellokal\, Sundbergsgatan 12b\, Karlstad\, 652 19\, Sverige
ORGANIZER;CN="Juniorledare Karlstad AS":MAILTO:karlstad.schacksallskap@gmail.com; arvpas@gmail.com; kjellake.andersson56@outlook.com; andrewwegerif@gmail.com
END:VEVENT
BEGIN:VEVENT
DTSTART;TZID=Europe/Stockholm:20260201T110000
DTEND;TZID=Europe/Stockholm:20260201T153000
DTSTAMP:20260420T063727
CREATED:20251023T151043Z
LAST-MODIFIED:20251023T151152Z
UID:10416-1769943600-1769959800@karlstad.schack.se
SUMMARY:Allsvenskan R6
DESCRIPTION:Div II Grupp 4 \nHemmamatch mot Örebro SS II
URL:https://karlstad.schack.se/evenemang/allsvenskan-r6/
LOCATION:Karlstad AS spellokal\, Sundbergsgatan 12b\, Karlstad\, 652 19\, Sverige
ORGANIZER;CN="Henrik Norberg":MAILTO:norbergh@hotmail.com
END:VEVENT
BEGIN:VEVENT
DTSTART;TZID=Europe/Stockholm:20260203T190000
DTEND;TZID=Europe/Stockholm:20260203T213000
DTSTAMP:20260420T063727
CREATED:20260124T120602Z
LAST-MODIFIED:20260124T120802Z
UID:10854-1770145200-1770154200@karlstad.schack.se
SUMMARY:Snabbschack / Nybörjare
DESCRIPTION:Snabbschack 10 min + 2 sek tilläggstid per drag. \nTräning för nya spelare i andra rummet. \nSpellokalen öppen från 18.30
URL:https://karlstad.schack.se/evenemang/snabbschack-nyborjare-2/
LOCATION:Karlstad AS spellokal\, Sundbergsgatan 12b\, Karlstad\, 652 19\, Sverige
ORGANIZER;CN="Lars-Erik Johansson":MAILTO:larserik21.johansson@gmail.com
END:VEVENT
BEGIN:VEVENT
DTSTART;TZID=Europe/Stockholm:20260205T180000
DTEND;TZID=Europe/Stockholm:20260205T200000
DTSTAMP:20260420T063727
CREATED:20260110T191715Z
LAST-MODIFIED:20260124T132420Z
UID:10688-1770314400-1770321600@karlstad.schack.se
SUMMARY:Juniorgrupp/Turnering King of the Hill
DESCRIPTION:Alla är välkomna mellan 18.00 och 20.00. \nKl 18-19 under 10 år och nybörjare. Mittenrum\, kök. \nÄldre juniorer och/eller juniorer med spelvana\, bortre spelrum. \nValfritt spelrum för alla efter kl 19 om ej turnering pågår. \nUngefär varannan torsdagskväll har vi en förannonserad turnering i bortre spelrummet. \nFör att delta behöver du anmäla dig personligen minst 5 min innan start. \nTurnering i King of the Hill startar kl 19.00. 7 ronder\, betänketid 3 min + 2 sek tilläggstid per drag. \nKing of the Hill: Standardregler\, men man vinner också omedelbart om man lyckas placera sin kung på något av de fyra centrumfälten (e4\,d4\,e5\,d5) om kungen inte står i schack.
URL:https://karlstad.schack.se/evenemang/juniorgrupp-turnering-king-of-the-hill/
LOCATION:Karlstad AS spellokal\, Sundbergsgatan 12b\, Karlstad\, 652 19\, Sverige
ORGANIZER;CN="Juniorledare Karlstad AS":MAILTO:karlstad.schacksallskap@gmail.com; arvpas@gmail.com; kjellake.andersson56@outlook.com; andrewwegerif@gmail.com
END:VEVENT
BEGIN:VEVENT
DTSTART;TZID=Europe/Stockholm:20260210T190000
DTEND;TZID=Europe/Stockholm:20260210T210000
DTSTAMP:20260420T063727
CREATED:20260124T123530Z
LAST-MODIFIED:20260124T123731Z
UID:10856-1770750000-1770757200@karlstad.schack.se
SUMMARY:Studie & Problemlösning / Nybörjare
DESCRIPTION:Klurigheter av av varierande svårighetsgrad. \nLättare version för nya spelare. \nSpellokalen är öppen från 18.30 \n 
URL:https://karlstad.schack.se/evenemang/studie-problemlosning-nyborjare/
LOCATION:Karlstad AS spellokal\, Sundbergsgatan 12b\, Karlstad\, 652 19\, Sverige
ORGANIZER;CN="Bo Hedlund":MAILTO:bo.el.hedlund@gmail.com
END:VEVENT
BEGIN:VEVENT
DTSTART;TZID=Europe/Stockholm:20260212T180000
DTEND;TZID=Europe/Stockholm:20260212T200000
DTSTAMP:20260420T063727
CREATED:20260110T191948Z
LAST-MODIFIED:20260129T163551Z
UID:10690-1770919200-1770926400@karlstad.schack.se
SUMMARY:Juniorgrupp
DESCRIPTION:9Alla är välkomna mellan 18.00 och 20.00. \nKl 18-19 de allra yngsta (<10 år) och nybörjare. Mittenrum. \nKl 19-20 äldre juniorer och/eller juniorer med spelvana. Bortre spelrum\, valfritt spelrum efter 19 om ej turnering pågår. \nUngefär varannan torsdag har vi förannonserad turnering eller liknande event. Det kommer i så fall hållas i bortre spelrummet.\nFör att delta i en turnering behöver du anmäla dig minst 10 min innan start.
URL:https://karlstad.schack.se/evenemang/juniorgrupp-48/
LOCATION:Karlstad AS spellokal\, Sundbergsgatan 12b\, Karlstad\, 652 19\, Sverige
ORGANIZER;CN="Juniorledare Karlstad AS":MAILTO:karlstad.schacksallskap@gmail.com; arvpas@gmail.com; kjellake.andersson56@outlook.com; andrewwegerif@gmail.com
END:VEVENT
BEGIN:VEVENT
DTSTART;TZID=Europe/Stockholm:20260214T100000
DTEND;TZID=Europe/Stockholm:20260214T140000
DTSTAMP:20260420T063727
CREATED:20251023T144105Z
LAST-MODIFIED:20251023T144809Z
UID:10402-1771063200-1771077600@karlstad.schack.se
SUMMARY:Värmlandsserien Rond 4
DESCRIPTION:Turneringslänk
URL:https://karlstad.schack.se/evenemang/varmlandsserien-rond-4/
ORGANIZER;CN="Arvid P%C3%A5sse":MAILTO:arvpas@gmail.com
END:VEVENT
BEGIN:VEVENT
DTSTART;TZID=Europe/Stockholm:20260217T190000
DTEND;TZID=Europe/Stockholm:20260217T210000
DTSTAMP:20260420T063727
CREATED:20260124T125021Z
LAST-MODIFIED:20260124T125216Z
UID:10858-1771354800-1771362000@karlstad.schack.se
SUMMARY:Årsmöte
DESCRIPTION:Alla är välkomna\, oavsett ålder och erfarenhet.
URL:https://karlstad.schack.se/evenemang/arsmote-2/
LOCATION:Karlstad AS spellokal\, Sundbergsgatan 12b\, Karlstad\, 652 19\, Sverige
ORGANIZER;CN="Bo Hedlund":MAILTO:bo.el.hedlund@gmail.com
END:VEVENT
BEGIN:VEVENT
DTSTART;TZID=Europe/Stockholm:20260219T180000
DTEND;TZID=Europe/Stockholm:20260219T200000
DTSTAMP:20260420T063727
CREATED:20260216T010041Z
LAST-MODIFIED:20260216T010041Z
UID:10885-1771524000-1771531200@karlstad.schack.se
SUMMARY:Juniorgrupp
DESCRIPTION:Alla är välkomna mellan 18.00 och 20.00. \nKl 18-19 de allra yngsta (<10 år) och nybörjare. Mittenrum. \nKl 19-20 äldre juniorer och/eller juniorer med spelvana. Bortre spelrum\, valfritt spelrum efter 19 om ej turnering pågår. \nUngefär varannan torsdag har vi förannonserad turnering eller liknande event. Det kommer i så fall hållas i bortre spelrummet.\nFör att delta i en turnering behöver du anmäla dig minst 10 min innan start.
URL:https://karlstad.schack.se/evenemang/juniorgrupp-49/
LOCATION:Karlstad AS spellokal\, Sundbergsgatan 12b\, Karlstad\, 652 19\, Sverige
ORGANIZER;CN="Juniorledare Karlstad AS":MAILTO:karlstad.schacksallskap@gmail.com; arvpas@gmail.com; kjellake.andersson56@outlook.com; andrewwegerif@gmail.com
END:VEVENT
BEGIN:VEVENT
DTSTART;TZID=Europe/Stockholm:20260222T120000
DTEND;TZID=Europe/Stockholm:20260222T163000
DTSTAMP:20260420T063727
CREATED:20251023T151341Z
LAST-MODIFIED:20260221T143957Z
UID:10419-1771761600-1771777800@karlstad.schack.se
SUMMARY:Allsvenskan R7
DESCRIPTION:Div II Grupp 4 \nHemmamatch mot Linköpings ASS II
URL:https://karlstad.schack.se/evenemang/allsvenskan-r7/
LOCATION:Karlstad AS spellokal\, Sundbergsgatan 12b\, Karlstad\, 652 19\, Sverige
ORGANIZER;CN="Henrik Norberg":MAILTO:norbergh@hotmail.com
END:VEVENT
BEGIN:VEVENT
DTSTART;TZID=Europe/Stockholm:20260224T130000
DTEND;TZID=Europe/Stockholm:20260224T150000
DTSTAMP:20260420T063727
CREATED:20260216T010649Z
LAST-MODIFIED:20260216T010708Z
UID:10887-1771938000-1771945200@karlstad.schack.se
SUMMARY:Sportlovsschack på stadsbiblioteket
DESCRIPTION:Öppet för allmänheten\, välkommen!
URL:https://karlstad.schack.se/evenemang/sportlovsschack-pa-stadsbiblioteket-2/
LOCATION:Stadsbiblioteket\, Västra Torggatan\, Karlstad\, 652 24
ORGANIZER;CN="Juniorledare Karlstad AS":MAILTO:karlstad.schacksallskap@gmail.com; arvpas@gmail.com; kjellake.andersson56@outlook.com; andrewwegerif@gmail.com
END:VEVENT
BEGIN:VEVENT
DTSTART;TZID=Europe/Stockholm:20260224T190000
DTEND;TZID=Europe/Stockholm:20260224T213000
DTSTAMP:20260420T063727
CREATED:20260216T123445Z
LAST-MODIFIED:20260219T223239Z
UID:10921-1771959600-1771968600@karlstad.schack.se
SUMMARY:Snabbschack / Nybörjare
DESCRIPTION:6 ronder. Betänketid 10 min + 1 sek tilläggstid per drag. \nTräning för nya spelare i andra rummet.
URL:https://karlstad.schack.se/evenemang/snabbschack-gambits-nyborjare/
LOCATION:Karlstad AS spellokal\, Sundbergsgatan 12b\, Karlstad\, 652 19\, Sverige
ORGANIZER;CN="Lars-Erik Johansson":MAILTO:larserik21.johansson@gmail.com
END:VEVENT
BEGIN:VEVENT
DTSTART;TZID=Europe/Stockholm:20260226T130000
DTEND;TZID=Europe/Stockholm:20260226T150000
DTSTAMP:20260420T063727
CREATED:20260216T010904Z
LAST-MODIFIED:20260216T020404Z
UID:10890-1772110800-1772118000@karlstad.schack.se
SUMMARY:Sportlovsschack på stadsbiblioteket
DESCRIPTION:Öppet för allmänheten\, välkommen!
URL:https://karlstad.schack.se/evenemang/sportlovsschack-pa-stadsbiblioteket-3/
LOCATION:Stadsbiblioteket\, Västra Torggatan\, Karlstad\, 652 24
ORGANIZER;CN="Juniorledare Karlstad AS":MAILTO:karlstad.schacksallskap@gmail.com; arvpas@gmail.com; kjellake.andersson56@outlook.com; andrewwegerif@gmail.com
END:VEVENT
BEGIN:VEVENT
DTSTART;TZID=Europe/Stockholm:20260303T190000
DTEND;TZID=Europe/Stockholm:20260303T210000
DTSTAMP:20260420T063727
CREATED:20260219T225444Z
LAST-MODIFIED:20260219T225444Z
UID:10988-1772564400-1772571600@karlstad.schack.se
SUMMARY:Blixt / Nybörjare
DESCRIPTION:Betänketid 5 min + 2 sek tillägg \nTräning för nya spelare i andra rummet.
URL:https://karlstad.schack.se/evenemang/blixt-nyborjare-3/
LOCATION:Karlstad AS spellokal\, Sundbergsgatan 12b\, Karlstad\, 652 19\, Sverige
ORGANIZER;CN="Lars-Erik Johansson":MAILTO:larserik21.johansson@gmail.com
END:VEVENT
BEGIN:VEVENT
DTSTART;TZID=Europe/Stockholm:20260305T180000
DTEND;TZID=Europe/Stockholm:20260305T200000
DTSTAMP:20260420T063727
CREATED:20260219T221511Z
LAST-MODIFIED:20260219T221613Z
UID:10969-1772733600-1772740800@karlstad.schack.se
SUMMARY:Juniorgrupp
DESCRIPTION:
URL:https://karlstad.schack.se/evenemang/juniorgrupp-50/
LOCATION:Karlstad AS spellokal\, Sundbergsgatan 12b\, Karlstad\, 652 19\, Sverige
ORGANIZER;CN="Juniorledare Karlstad AS":MAILTO:karlstad.schacksallskap@gmail.com; arvpas@gmail.com; kjellake.andersson56@outlook.com; andrewwegerif@gmail.com
END:VEVENT
BEGIN:VEVENT
DTSTART;TZID=Europe/Stockholm:20260310T190000
DTEND;TZID=Europe/Stockholm:20260310T210000
DTSTAMP:20260420T063727
CREATED:20260219T225812Z
LAST-MODIFIED:20260228T105930Z
UID:10990-1773169200-1773176400@karlstad.schack.se
SUMMARY:Snabbschack
DESCRIPTION:Betänketid 10 min + 1 sek tillägg. 5 ronder. \n 
URL:https://karlstad.schack.se/evenemang/snabbschack-6/
LOCATION:Karlstad AS spellokal\, Sundbergsgatan 12b\, Karlstad\, 652 19\, Sverige
ORGANIZER;CN="Karlstads Allm%C3%A4nna Schacks%C3%A4llskap":MAILTO:karlstad.schacksallskap@gmail.com
END:VEVENT
BEGIN:VEVENT
DTSTART;TZID=Europe/Stockholm:20260312T180000
DTEND;TZID=Europe/Stockholm:20260312T200000
DTSTAMP:20260420T063727
CREATED:20260219T221709Z
LAST-MODIFIED:20260219T221812Z
UID:10971-1773338400-1773345600@karlstad.schack.se
SUMMARY:Juniorgrupp
DESCRIPTION:
URL:https://karlstad.schack.se/evenemang/juniorgrupp-51/
LOCATION:Karlstad AS spellokal\, Sundbergsgatan 12b\, Karlstad\, 652 19\, Sverige
ORGANIZER;CN="Juniorledare Karlstad AS":MAILTO:karlstad.schacksallskap@gmail.com; arvpas@gmail.com; kjellake.andersson56@outlook.com; andrewwegerif@gmail.com
END:VEVENT
BEGIN:VEVENT
DTSTART;TZID=Europe/Stockholm:20260314T140000
DTEND;TZID=Europe/Stockholm:20260314T170000
DTSTAMP:20260420T063727
CREATED:20260216T125641Z
LAST-MODIFIED:20260308T132630Z
UID:10924-1773496800-1773507600@karlstad.schack.se
SUMMARY:WJGP 1
DESCRIPTION:Första deltävlingen i Wermland Junior Grand Prix 2026. \nInbjudan WJGP1 14/3
URL:https://karlstad.schack.se/evenemang/wjgp-1/
LOCATION:Karlstad AS spellokal\, Sundbergsgatan 12b\, Karlstad\, 652 19\, Sverige
ORGANIZER;CN="Juniorledare Karlstad AS":MAILTO:karlstad.schacksallskap@gmail.com; arvpas@gmail.com; kjellake.andersson56@outlook.com; andrewwegerif@gmail.com
END:VEVENT
END:VCALENDAR