BEGIN:VCALENDAR
VERSION:2.0
PRODID:-//Karlstads Allmänna Schacksällskap - ECPv6.15.20//NONSGML v1.0//EN
CALSCALE:GREGORIAN
METHOD:PUBLISH
X-WR-CALNAME:Karlstads Allmänna Schacksällskap
X-ORIGINAL-URL:https://karlstad.schack.se
X-WR-CALDESC:Händelser för Karlstads Allmänna Schacksällskap
REFRESH-INTERVAL;VALUE=DURATION:PT1H
X-Robots-Tag:noindex
X-PUBLISHED-TTL:PT1H
BEGIN:VTIMEZONE
TZID:Europe/Stockholm
BEGIN:DAYLIGHT
TZOFFSETFROM:+0100
TZOFFSETTO:+0200
TZNAME:CEST
DTSTART:20240331T010000
END:DAYLIGHT
BEGIN:STANDARD
TZOFFSETFROM:+0200
TZOFFSETTO:+0100
TZNAME:CET
DTSTART:20241027T010000
END:STANDARD
BEGIN:DAYLIGHT
TZOFFSETFROM:+0100
TZOFFSETTO:+0200
TZNAME:CEST
DTSTART:20250330T010000
END:DAYLIGHT
BEGIN:STANDARD
TZOFFSETFROM:+0200
TZOFFSETTO:+0100
TZNAME:CET
DTSTART:20251026T010000
END:STANDARD
BEGIN:DAYLIGHT
TZOFFSETFROM:+0100
TZOFFSETTO:+0200
TZNAME:CEST
DTSTART:20260329T010000
END:DAYLIGHT
BEGIN:STANDARD
TZOFFSETFROM:+0200
TZOFFSETTO:+0100
TZNAME:CET
DTSTART:20261025T010000
END:STANDARD
END:VTIMEZONE
BEGIN:VEVENT
DTSTART;TZID=Europe/Stockholm:20250311T190000
DTEND;TZID=Europe/Stockholm:20250311T210000
DTSTAMP:20260421T190658
CREATED:20250226T152956Z
LAST-MODIFIED:20250226T152956Z
UID:9106-1741719600-1741726800@karlstad.schack.se
SUMMARY:Bäckströms minnesturnering + Nybörjare
DESCRIPTION:Mikael Bäckströms minnesturnering\, 15 min med tidshandikapp. \nParallell verksamhet för nybörjare i andra rummet. \nSpellokalen är öppen från 18.30
URL:https://karlstad.schack.se/evenemang/backstroms-minnesturnering-nyborjare/
LOCATION:Karlstad AS spellokal\, Sundbergsgatan 12b\, Karlstad\, 652 19\, Sverige
ORGANIZER;CN="Lars-Erik Johansson":MAILTO:larserik21.johansson@gmail.com
END:VEVENT
BEGIN:VEVENT
DTSTART;TZID=Europe/Stockholm:20250313T180000
DTEND;TZID=Europe/Stockholm:20250313T200000
DTSTAMP:20260421T190658
CREATED:20250220T135840Z
LAST-MODIFIED:20250220T135947Z
UID:9089-1741888800-1741896000@karlstad.schack.se
SUMMARY:Juniorgrupp
DESCRIPTION:
URL:https://karlstad.schack.se/evenemang/juniorgrupp-23/
LOCATION:Karlstad AS spellokal\, Sundbergsgatan 12b\, Karlstad\, 652 19\, Sverige
ORGANIZER;CN="Juniorledare Karlstad AS":MAILTO:karlstad.schacksallskap@gmail.com; arvpas@gmail.com; kjellake.andersson56@outlook.com; andrewwegerif@gmail.com
END:VEVENT
BEGIN:VEVENT
DTSTART;TZID=Europe/Stockholm:20250316T110000
DTEND;TZID=Europe/Stockholm:20250316T180000
DTSTAMP:20260421T190658
CREATED:20241021T233017Z
LAST-MODIFIED:20250226T213121Z
UID:8272-1742122800-1742148000@karlstad.schack.se
SUMMARY:Allsvenskan Rond 7
DESCRIPTION:Bortamatch mot Eskilstuna SK.
URL:https://karlstad.schack.se/evenemang/allsvenskan-rond-7/
ORGANIZER;CN="Henrik Norberg":MAILTO:norbergh@hotmail.com
END:VEVENT
BEGIN:VEVENT
DTSTART;TZID=Europe/Stockholm:20250318T190000
DTEND;TZID=Europe/Stockholm:20250318T213000
DTSTAMP:20260421T190658
CREATED:20250226T153511Z
LAST-MODIFIED:20250318T213025Z
UID:9109-1742324400-1742333400@karlstad.schack.se
SUMMARY:KM Fischer Random + Nybörjare
DESCRIPTION:KM i Fischer Random\, 5 ronder med 15 min betänketid.’ \nParallell verksamhet för nybörjare i andra rummet. \nSpellokalen är öppen från 18.30
URL:https://karlstad.schack.se/evenemang/km-fischer-random-nyborjare/
LOCATION:Karlstad AS spellokal\, Sundbergsgatan 12b\, Karlstad\, 652 19\, Sverige
ORGANIZER;CN="Lars-Erik Johansson":MAILTO:larserik21.johansson@gmail.com
END:VEVENT
BEGIN:VEVENT
DTSTART;TZID=Europe/Stockholm:20250320T180000
DTEND;TZID=Europe/Stockholm:20250320T200000
DTSTAMP:20260421T190658
CREATED:20250226T183802Z
LAST-MODIFIED:20250226T183802Z
UID:9153-1742493600-1742500800@karlstad.schack.se
SUMMARY:Juniorgrupp
DESCRIPTION:
URL:https://karlstad.schack.se/evenemang/juniorgrupp-24/
LOCATION:Karlstad AS spellokal\, Sundbergsgatan 12b\, Karlstad\, 652 19\, Sverige
ORGANIZER;CN="Juniorledare Karlstad AS":MAILTO:karlstad.schacksallskap@gmail.com; arvpas@gmail.com; kjellake.andersson56@outlook.com; andrewwegerif@gmail.com
END:VEVENT
BEGIN:VEVENT
DTSTART;TZID=Europe/Stockholm:20250322T130000
DTEND;TZID=Europe/Stockholm:20250322T150000
DTSTAMP:20260421T190658
CREATED:20250320T203657Z
LAST-MODIFIED:20250320T203657Z
UID:9264-1742648400-1742655600@karlstad.schack.se
SUMMARY:Lördagsträff
DESCRIPTION:Hej på er!\nLördagsträff i klubblokalen igen\, nu på lördag 22:a feb\, kl. 13.00.\nPå plats kör vi under fria former\, ingen agenda.\nKanske vill några spela\, kanske vill andra titta på teori eller analysera.\nTja\, vad vet jag!\nVälkommen till en avslappnad träff  på klubben! \nBosse
URL:https://karlstad.schack.se/evenemang/lordagstraff-4/
LOCATION:Karlstad AS spellokal\, Sundbergsgatan 12b\, Karlstad\, 652 19\, Sverige
ORGANIZER;CN="Bo Hedlund":MAILTO:bo.el.hedlund@gmail.com
END:VEVENT
BEGIN:VEVENT
DTSTART;TZID=Europe/Stockholm:20250325T190000
DTEND;TZID=Europe/Stockholm:20250325T210000
DTSTAMP:20260421T190658
CREATED:20250226T153746Z
LAST-MODIFIED:20250318T212757Z
UID:9111-1742929200-1742936400@karlstad.schack.se
SUMMARY:Snabbschack + Nybörjare
DESCRIPTION:Snabbschack 5 ronder 10 min + 3 sek drag. \nParallell verksamhet för nybörjare i andra rummet. \nSpellokalen är öppen från 18.30
URL:https://karlstad.schack.se/evenemang/snabbschack-nyborjare/
LOCATION:Karlstad AS spellokal\, Sundbergsgatan 12b\, Karlstad\, 652 19\, Sverige
ORGANIZER;CN="Lars-Erik Johansson":MAILTO:larserik21.johansson@gmail.com
END:VEVENT
BEGIN:VEVENT
DTSTART;TZID=Europe/Stockholm:20250327T180000
DTEND;TZID=Europe/Stockholm:20250327T200000
DTSTAMP:20260421T190658
CREATED:20250226T183907Z
LAST-MODIFIED:20250226T183907Z
UID:9155-1743098400-1743105600@karlstad.schack.se
SUMMARY:Juniorgrupp
DESCRIPTION:
URL:https://karlstad.schack.se/evenemang/juniorgrupp-25/
LOCATION:Karlstad AS spellokal\, Sundbergsgatan 12b\, Karlstad\, 652 19\, Sverige
ORGANIZER;CN="Juniorledare Karlstad AS":MAILTO:karlstad.schacksallskap@gmail.com; arvpas@gmail.com; kjellake.andersson56@outlook.com; andrewwegerif@gmail.com
END:VEVENT
BEGIN:VEVENT
DTSTART;TZID=Europe/Stockholm:20250329T110000
DTEND;TZID=Europe/Stockholm:20250329T143000
DTSTAMP:20260421T190658
CREATED:20241112T145611Z
LAST-MODIFIED:20250322T221610Z
UID:8324-1743246000-1743258600@karlstad.schack.se
SUMMARY:Värmlandsserien bortamatch Karlstad I
DESCRIPTION:Säffle SK 1 – Karlstad AS 1 (bortamatch) kl 11.00 Säffle SK \nhttps://member.schack.se/ShowTournamentServlet?id=14734
URL:https://karlstad.schack.se/evenemang/varmlandsserien-lagmatch-4/
LOCATION:Säffle Schackklubb\, Västra Storgatan 10\, Säffle\, 661 30\, Sverige
ORGANIZER;CN="V%C3%A4rmlands Schackf%C3%B6rbund":MAILTO:kjellake.andersson56@outlook.com
END:VEVENT
BEGIN:VEVENT
DTSTART;TZID=Europe/Stockholm:20250329T110000
DTEND;TZID=Europe/Stockholm:20250329T143000
DTSTAMP:20260421T190658
CREATED:20250322T222101Z
LAST-MODIFIED:20250322T224408Z
UID:9274-1743246000-1743258600@karlstad.schack.se
SUMMARY:Värmlandsserien hemmamatch Karlstad II
DESCRIPTION:SSK Hammarö – Karlstad AS 2 (hemmamatch)  \nSSK Hammarö har valt att spela i vår klubblokal.  \nhttps://member.schack.se/ShowTournamentServlet?id=14734
URL:https://karlstad.schack.se/evenemang/varmlandsserien-lagmatch-karlstad-ii/
LOCATION:Karlstad AS spellokal\, Sundbergsgatan 12b\, Karlstad\, 652 19\, Sverige
ORGANIZER;CN="Karlstads Allm%C3%A4nna Schacks%C3%A4llskap":MAILTO:karlstad.schacksallskap@gmail.com
END:VEVENT
BEGIN:VEVENT
DTSTART;TZID=Europe/Stockholm:20250330T100000
DTEND;TZID=Europe/Stockholm:20250330T111500
DTSTAMP:20260421T190658
CREATED:20250322T225438Z
LAST-MODIFIED:20250322T225930Z
UID:9281-1743328800-1743333300@karlstad.schack.se
SUMMARY:Årsmöte Värmlands Schackförbund
DESCRIPTION:Medlemmar från alla klubbar i Värmland är varmt välkomna.  \nOBS! Ny dag (flyttad från 29/2 pga lagmatch) \nSTYRELSEN VSF
URL:https://karlstad.schack.se/evenemang/arsmote-varmlands-schackforbund/
LOCATION:Karlstad AS spellokal\, Sundbergsgatan 12b\, Karlstad\, 652 19\, Sverige
ORGANIZER;CN="V%C3%A4rmlands Schackf%C3%B6rbund":MAILTO:kjellake.andersson56@outlook.com
END:VEVENT
BEGIN:VEVENT
DTSTART;TZID=Europe/Stockholm:20250330T111500
DTEND;TZID=Europe/Stockholm:20250330T133000
DTSTAMP:20260421T190658
CREATED:20250322T202031Z
LAST-MODIFIED:20250322T202031Z
UID:9266-1743333300-1743341400@karlstad.schack.se
SUMMARY:Blixt-DM
DESCRIPTION:Årets blixt-DM spelas 30 mars kl 11.30 i Karlstad AS spellokal.\nAvprickning 11.15 under förutsättning att VSF  årsmöte avslutat.\nOBS! Kom ihåg sommartiden!\n3 min + 2 sek tillägg\, 9 ronder Schweizer.\n100 kr till Swish 123 680 36 13 el bg 525-0717\nFika ingår.\nTvå klasser över under 1600. Alla spelar dock i samma grupp.\nPlaketter till de främsta. Inteckning i vandringspris till DM-segraren.\nAnmälan till kjellake.andersson56@outlook.com senast 25 mars.
URL:https://karlstad.schack.se/evenemang/blixt-dm/
LOCATION:Karlstad AS spellokal\, Sundbergsgatan 12b\, Karlstad\, 652 19\, Sverige
ORGANIZER;CN="V%C3%A4rmlands Schackf%C3%B6rbund":MAILTO:kjellake.andersson56@outlook.com
END:VEVENT
BEGIN:VEVENT
DTSTART;TZID=Europe/Stockholm:20250401T190000
DTEND;TZID=Europe/Stockholm:20250401T220000
DTSTAMP:20260421T190658
CREATED:20250226T154824Z
LAST-MODIFIED:20250407T232329Z
UID:9113-1743534000-1743544800@karlstad.schack.se
SUMMARY:Vårturneringen R1 + Nybörjare
DESCRIPTION:Vårturneringen Rond 1 av 5. Betänketid 90 min + 30 sek tillägg. \nLottning och resultat \nParallell verksamhet för nybörjare i andra rummet. \nSpellokalen är öppen från 18.30
URL:https://karlstad.schack.se/evenemang/varturneringen-r1-nyborjare/
LOCATION:Karlstad AS spellokal\, Sundbergsgatan 12b\, Karlstad\, 652 19\, Sverige
ORGANIZER;CN="Lars-Erik Johansson":MAILTO:larserik21.johansson@gmail.com
END:VEVENT
BEGIN:VEVENT
DTSTART;TZID=Europe/Stockholm:20250403T180000
DTEND;TZID=Europe/Stockholm:20250403T200000
DTSTAMP:20260421T190658
CREATED:20250226T184001Z
LAST-MODIFIED:20250226T205032Z
UID:9157-1743703200-1743710400@karlstad.schack.se
SUMMARY:Juniorgrupp
DESCRIPTION:
URL:https://karlstad.schack.se/evenemang/juniorgrupp-26/
LOCATION:Karlstad AS spellokal\, Sundbergsgatan 12b\, Karlstad\, 652 19\, Sverige
ORGANIZER;CN="Juniorledare Karlstad AS":MAILTO:karlstad.schacksallskap@gmail.com; arvpas@gmail.com; kjellake.andersson56@outlook.com; andrewwegerif@gmail.com
END:VEVENT
BEGIN:VEVENT
DTSTART;TZID=Europe/Stockholm:20250408T190000
DTEND;TZID=Europe/Stockholm:20250408T220000
DTSTAMP:20260421T190658
CREATED:20250226T155037Z
LAST-MODIFIED:20250407T232200Z
UID:9115-1744138800-1744149600@karlstad.schack.se
SUMMARY:Vårturneringen R2 + Nybörjare
DESCRIPTION:Vårturneringen Rond 2 av 5. Betänketid 90 min + 30 sek tillägg. \nLottning och resultat \nParallell verksamhet för nybörjare i andra rummet. \nSpellokalen är öppen från 18.30
URL:https://karlstad.schack.se/evenemang/varturneringen-r2-nyborjare/
LOCATION:Karlstad AS spellokal\, Sundbergsgatan 12b\, Karlstad\, 652 19\, Sverige
ORGANIZER;CN="Lars-Erik Johansson":MAILTO:larserik21.johansson@gmail.com
END:VEVENT
BEGIN:VEVENT
DTSTART;TZID=Europe/Stockholm:20250410T180000
DTEND;TZID=Europe/Stockholm:20250410T200000
DTSTAMP:20260421T190658
CREATED:20250226T205842Z
LAST-MODIFIED:20250313T153009Z
UID:9162-1744308000-1744315200@karlstad.schack.se
SUMMARY:Juniorgrupp
DESCRIPTION:Det är helt kostnadsfritt att prova på några gånger\, och vi brukar bjuda på lättare fika. Yngre och nybörjarträning kl 18-19\, spelrum i mitten. Mer spelvana kl 18-19\, bortre spelrum.\nMellan kl 19-20 är bägge spelrum fria för alla.\nI mittenrum gäller dämpad ljudnivå.
URL:https://karlstad.schack.se/evenemang/juniorgrupp-27/
LOCATION:Karlstad AS spellokal\, Sundbergsgatan 12b\, Karlstad\, 652 19\, Sverige
ORGANIZER;CN="Juniorledare Karlstad AS":MAILTO:karlstad.schacksallskap@gmail.com; arvpas@gmail.com; kjellake.andersson56@outlook.com; andrewwegerif@gmail.com
END:VEVENT
BEGIN:VEVENT
DTSTART;TZID=Europe/Stockholm:20250415T190000
DTEND;TZID=Europe/Stockholm:20250415T210000
DTSTAMP:20260421T190658
CREATED:20250226T183158Z
LAST-MODIFIED:20250226T183158Z
UID:9146-1744743600-1744750800@karlstad.schack.se
SUMMARY:Blixt + Nybörjare
DESCRIPTION:Blixt\, betänketid 3 min + 2 sek tillägg per drag. \nParallell verksamhet för nybörjare i andra rummet. \nSpellokalen är öppen från 18.30
URL:https://karlstad.schack.se/evenemang/blixt-nyborjare-2/
LOCATION:Karlstad AS spellokal\, Sundbergsgatan 12b\, Karlstad\, 652 19\, Sverige
ORGANIZER;CN="Lars-Erik Johansson":MAILTO:larserik21.johansson@gmail.com
END:VEVENT
BEGIN:VEVENT
DTSTART;TZID=Europe/Stockholm:20250417T180000
DTEND;TZID=Europe/Stockholm:20250417T200000
DTSTAMP:20260421T190658
CREATED:20250226T205930Z
LAST-MODIFIED:20250226T205930Z
UID:9164-1744912800-1744920000@karlstad.schack.se
SUMMARY:Juniorgrupp
DESCRIPTION:
URL:https://karlstad.schack.se/evenemang/juniorgrupp-28/
LOCATION:Karlstad AS spellokal\, Sundbergsgatan 12b\, Karlstad\, 652 19\, Sverige
ORGANIZER;CN="Juniorledare Karlstad AS":MAILTO:karlstad.schacksallskap@gmail.com; arvpas@gmail.com; kjellake.andersson56@outlook.com; andrewwegerif@gmail.com
END:VEVENT
BEGIN:VEVENT
DTSTART;TZID=Europe/Stockholm:20250422T190000
DTEND;TZID=Europe/Stockholm:20250422T220000
DTSTAMP:20260421T190658
CREATED:20250226T155214Z
LAST-MODIFIED:20250407T232509Z
UID:9117-1745348400-1745359200@karlstad.schack.se
SUMMARY:Vårturneringen R3 + Nybörjare
DESCRIPTION:Vårturneringen Rond 3 av 5. Betänketid 90 min + 30 sek tillägg. \nLottning och resultat \nParallell verksamhet för nybörjare i andra rummet. \nSpellokalen är öppen från 18.30
URL:https://karlstad.schack.se/evenemang/varturneringen-r3-nyborjare/
LOCATION:Karlstad AS spellokal\, Sundbergsgatan 12b\, Karlstad\, 652 19\, Sverige
ORGANIZER;CN="Lars-Erik Johansson":MAILTO:larserik21.johansson@gmail.com
END:VEVENT
BEGIN:VEVENT
DTSTART;TZID=Europe/Stockholm:20250424T130000
DTEND;TZID=Europe/Stockholm:20250424T150000
DTSTAMP:20260421T190658
CREATED:20250424T102733Z
LAST-MODIFIED:20250424T102756Z
UID:9335-1745499600-1745506800@karlstad.schack.se
SUMMARY:Påsklovschack på stadsbiblioteket
DESCRIPTION:Mellan kl 13-15 så finns det möjlighet att spela på Stadsbiblioteket. \nÖppet för allmänheten.
URL:https://karlstad.schack.se/evenemang/pasklovschack-pa-stadsbiblioteket/
LOCATION:Stadsbiblioteket\, Västra Torggatan\, Karlstad\, 652 24
ORGANIZER;CN="Juniorledare Karlstad AS":MAILTO:karlstad.schacksallskap@gmail.com; arvpas@gmail.com; kjellake.andersson56@outlook.com; andrewwegerif@gmail.com
END:VEVENT
BEGIN:VEVENT
DTSTART;TZID=Europe/Stockholm:20250426T110000
DTEND;TZID=Europe/Stockholm:20250426T143000
DTSTAMP:20260421T190658
CREATED:20241112T145909Z
LAST-MODIFIED:20241112T145909Z
UID:8326-1745665200-1745677800@karlstad.schack.se
SUMMARY:Värmlandsserien lagmatch
DESCRIPTION:Karlstad AS 1 – Frirond \nKarlstad AS 2 (hemmamatch) – Säffle SK 1 \nhttps://member.schack.se/ShowTournamentServlet?id=14734
URL:https://karlstad.schack.se/evenemang/varmlandsserien-lagmatch-5/
LOCATION:Karlstad AS spellokal\, Sundbergsgatan 12b\, Karlstad\, 652 19\, Sverige
ORGANIZER;CN="V%C3%A4rmlands Schackf%C3%B6rbund":MAILTO:kjellake.andersson56@outlook.com
END:VEVENT
BEGIN:VEVENT
DTSTART;TZID=Europe/Stockholm:20250429T190000
DTEND;TZID=Europe/Stockholm:20250429T220000
DTSTAMP:20260421T190658
CREATED:20250226T181655Z
LAST-MODIFIED:20250407T232617Z
UID:9138-1745953200-1745964000@karlstad.schack.se
SUMMARY:Vårturneringen R4 + Nybörjare
DESCRIPTION:Vårturneringen Rond 4 av 5. Betänketid 90 min + 30 sek tillägg.  \nLottning och resultat \nParallell verksamhet för nybörjare i andra rummet.  \nSpellokalen är öppen från 18.30
URL:https://karlstad.schack.se/evenemang/varturneringen-r4-nyborjare/
LOCATION:Karlstad AS spellokal\, Sundbergsgatan 12b\, Karlstad\, 652 19\, Sverige
ORGANIZER;CN="Lars-Erik Johansson":MAILTO:larserik21.johansson@gmail.com
END:VEVENT
BEGIN:VEVENT
DTSTART;TZID=Europe/Stockholm:20250506T190000
DTEND;TZID=Europe/Stockholm:20250506T210000
DTSTAMP:20260421T190658
CREATED:20250226T182310Z
LAST-MODIFIED:20250226T182310Z
UID:9142-1746558000-1746565200@karlstad.schack.se
SUMMARY:KM i problemlösning + Nybörjare
DESCRIPTION:KM i problemlösning. \nParallell verksamhet för nybörjare i andra rummet.  \nSpellokalen är öppen från 18.30
URL:https://karlstad.schack.se/evenemang/km-i-problemlosning-nyborjare/
LOCATION:Karlstad AS spellokal\, Sundbergsgatan 12b\, Karlstad\, 652 19\, Sverige
ORGANIZER;CN="Bo Hedlund":MAILTO:bo.el.hedlund@gmail.com
END:VEVENT
BEGIN:VEVENT
DTSTART;TZID=Europe/Stockholm:20250508T180000
DTEND;TZID=Europe/Stockholm:20250508T200000
DTSTAMP:20260421T190658
CREATED:20250226T210032Z
LAST-MODIFIED:20250226T210032Z
UID:9166-1746727200-1746734400@karlstad.schack.se
SUMMARY:Juniorgrupp
DESCRIPTION:
URL:https://karlstad.schack.se/evenemang/juniorgrupp-29/
LOCATION:Karlstad AS spellokal\, Sundbergsgatan 12b\, Karlstad\, 652 19\, Sverige
ORGANIZER;CN="Juniorledare Karlstad AS":MAILTO:karlstad.schacksallskap@gmail.com; arvpas@gmail.com; kjellake.andersson56@outlook.com; andrewwegerif@gmail.com
END:VEVENT
BEGIN:VEVENT
DTSTART;TZID=Europe/Stockholm:20250510T140000
DTEND;TZID=Europe/Stockholm:20250510T170000
DTSTAMP:20260421T190658
CREATED:20250213T034015Z
LAST-MODIFIED:20250419T120744Z
UID:8885-1746885600-1746896400@karlstad.schack.se
SUMMARY:Juniorturnering WJGP 2 Karlstad
DESCRIPTION:
URL:https://karlstad.schack.se/evenemang/wjgp-deltavling-2/
LOCATION:Karlstad AS spellokal\, Sundbergsgatan 12b\, Karlstad\, 652 19\, Sverige
ORGANIZER;CN="Juniorledare Karlstad AS":MAILTO:karlstad.schacksallskap@gmail.com; arvpas@gmail.com; kjellake.andersson56@outlook.com; andrewwegerif@gmail.com
END:VEVENT
BEGIN:VEVENT
DTSTART;TZID=Europe/Stockholm:20250513T190000
DTEND;TZID=Europe/Stockholm:20250513T190000
DTSTAMP:20260421T190658
CREATED:20250226T182030Z
LAST-MODIFIED:20250407T232732Z
UID:9140-1747162800-1747162800@karlstad.schack.se
SUMMARY:Vårturneringen R5 + Nybörjare
DESCRIPTION:Vårturneringen rond 5 av 5. Betänketid 90 min + 30 sek tillägg.  \nLottning och resultat \nParallell verksamhet för nybörjare i andra rummet.  \nSpellokalen är öppen från 18.30
URL:https://karlstad.schack.se/evenemang/varturneringen-r5-nyborjare/
LOCATION:Karlstad AS spellokal\, Sundbergsgatan 12b\, Karlstad\, 652 19\, Sverige
ORGANIZER;CN="Lars-Erik Johansson":MAILTO:larserik21.johansson@gmail.com
END:VEVENT
BEGIN:VEVENT
DTSTART;TZID=Europe/Stockholm:20250515T180000
DTEND;TZID=Europe/Stockholm:20250515T200000
DTSTAMP:20260421T190658
CREATED:20250226T210136Z
LAST-MODIFIED:20250226T210136Z
UID:9168-1747332000-1747339200@karlstad.schack.se
SUMMARY:Juniorgrupp
DESCRIPTION:
URL:https://karlstad.schack.se/evenemang/juniorgrupp-30/
LOCATION:Karlstad AS spellokal\, Sundbergsgatan 12b\, Karlstad\, 652 19\, Sverige
ORGANIZER;CN="Juniorledare Karlstad AS":MAILTO:karlstad.schacksallskap@gmail.com; arvpas@gmail.com; kjellake.andersson56@outlook.com; andrewwegerif@gmail.com
END:VEVENT
BEGIN:VEVENT
DTSTART;TZID=Europe/Stockholm:20250520T190000
DTEND;TZID=Europe/Stockholm:20250520T213000
DTSTAMP:20260421T190658
CREATED:20250226T182552Z
LAST-MODIFIED:20250226T182552Z
UID:9144-1747767600-1747776600@karlstad.schack.se
SUMMARY:Blixt-KM + Nybörjare
DESCRIPTION:KM i blixt\, betänketid 3 min + 2 sek tillägg. \nParallell verksamhet för nybörjare i andra rummet. \nSpellokalen är öppen från 18.30
URL:https://karlstad.schack.se/evenemang/blixt-km-nyborjare/
LOCATION:Karlstad AS spellokal\, Sundbergsgatan 12b\, Karlstad\, 652 19\, Sverige
ORGANIZER;CN="Lars-Erik Johansson":MAILTO:larserik21.johansson@gmail.com
END:VEVENT
BEGIN:VEVENT
DTSTART;TZID=Europe/Stockholm:20250527T190000
DTEND;TZID=Europe/Stockholm:20250527T210000
DTSTAMP:20260421T190658
CREATED:20250226T183629Z
LAST-MODIFIED:20250226T213835Z
UID:9150-1748372400-1748379600@karlstad.schack.se
SUMMARY:Terminsavslutning tisdagar
DESCRIPTION:Alla är välkomna. Öppet program. \nSpellokalen är öppen från kl 18.30
URL:https://karlstad.schack.se/evenemang/avslutning/
LOCATION:Karlstad AS spellokal\, Sundbergsgatan 12b\, Karlstad\, 652 19\, Sverige
ORGANIZER;CN="Lars-Erik Johansson":MAILTO:larserik21.johansson@gmail.com
END:VEVENT
BEGIN:VEVENT
DTSTART;TZID=Europe/Stockholm:20250605T180000
DTEND;TZID=Europe/Stockholm:20250605T200000
DTSTAMP:20260421T190658
CREATED:20250226T210533Z
LAST-MODIFIED:20250226T211005Z
UID:9170-1749146400-1749153600@karlstad.schack.se
SUMMARY:Juniorgrupp terminsavslutning
DESCRIPTION:Avslutning innan sommarlov!
URL:https://karlstad.schack.se/evenemang/juniorgrupp-31/
LOCATION:Karlstad AS spellokal\, Sundbergsgatan 12b\, Karlstad\, 652 19\, Sverige
ORGANIZER;CN="Juniorledare Karlstad AS":MAILTO:karlstad.schacksallskap@gmail.com; arvpas@gmail.com; kjellake.andersson56@outlook.com; andrewwegerif@gmail.com
END:VEVENT
END:VCALENDAR