BEGIN:VCALENDAR
VERSION:2.0
PRODID:-//Karlstads Allmänna Schacksällskap - ECPv6.15.20//NONSGML v1.0//EN
CALSCALE:GREGORIAN
METHOD:PUBLISH
X-WR-CALNAME:Karlstads Allmänna Schacksällskap
X-ORIGINAL-URL:https://karlstad.schack.se
X-WR-CALDESC:Händelser för Karlstads Allmänna Schacksällskap
REFRESH-INTERVAL;VALUE=DURATION:PT1H
X-Robots-Tag:noindex
X-PUBLISHED-TTL:PT1H
BEGIN:VTIMEZONE
TZID:Europe/Stockholm
BEGIN:DAYLIGHT
TZOFFSETFROM:+0100
TZOFFSETTO:+0200
TZNAME:CEST
DTSTART:20230326T010000
END:DAYLIGHT
BEGIN:STANDARD
TZOFFSETFROM:+0200
TZOFFSETTO:+0100
TZNAME:CET
DTSTART:20231029T010000
END:STANDARD
BEGIN:DAYLIGHT
TZOFFSETFROM:+0100
TZOFFSETTO:+0200
TZNAME:CEST
DTSTART:20240331T010000
END:DAYLIGHT
BEGIN:STANDARD
TZOFFSETFROM:+0200
TZOFFSETTO:+0100
TZNAME:CET
DTSTART:20241027T010000
END:STANDARD
BEGIN:DAYLIGHT
TZOFFSETFROM:+0100
TZOFFSETTO:+0200
TZNAME:CEST
DTSTART:20250330T010000
END:DAYLIGHT
BEGIN:STANDARD
TZOFFSETFROM:+0200
TZOFFSETTO:+0100
TZNAME:CET
DTSTART:20251026T010000
END:STANDARD
END:VTIMEZONE
BEGIN:VEVENT
DTSTART;TZID=Europe/Stockholm:20240208T180000
DTEND;TZID=Europe/Stockholm:20240208T200000
DTSTAMP:20260423T080807
CREATED:20240102T001220Z
LAST-MODIFIED:20240102T001220Z
UID:6539-1707415200-1707422400@karlstad.schack.se
SUMMARY:Juniorgrupper
DESCRIPTION:För barn upp till 10 år gäller tiden kl 18.00-19.00. \nFör barn 11 år och uppåt gäller tiden kl 19.00-20.00. \nVi gör undantag med ålder\, om man nivå- eller kompismässigt känner sig mer hemma i endera gruppen.
URL:https://karlstad.schack.se/evenemang/juniorgrupper-3/
LOCATION:Karlstad AS spellokal\, Sundbergsgatan 12b\, Karlstad\, 652 19\, Sverige
ORGANIZER;CN="Juniorledare Karlstad AS":MAILTO:karlstad.schacksallskap@gmail.com; arvpas@gmail.com; kjellake.andersson56@outlook.com; andrewwegerif@gmail.com
END:VEVENT
BEGIN:VEVENT
DTSTART;TZID=Europe/Stockholm:20240213T190000
DTEND;TZID=Europe/Stockholm:20240213T210000
DTSTAMP:20260423T080807
CREATED:20240101T200303Z
LAST-MODIFIED:20240101T200303Z
UID:6430-1707850800-1707858000@karlstad.schack.se
SUMMARY:Årsmöte
DESCRIPTION:Alla medlemmar är varmt välkomna till årsmötet.
URL:https://karlstad.schack.se/evenemang/arsmote/
LOCATION:Karlstad AS spellokal\, Sundbergsgatan 12b\, Karlstad\, 652 19\, Sverige
ORGANIZER;CN="Karlstads Allm%C3%A4nna Schacks%C3%A4llskap":MAILTO:karlstad.schacksallskap@gmail.com
END:VEVENT
BEGIN:VEVENT
DTSTART;TZID=Europe/Stockholm:20240215T180000
DTEND;TZID=Europe/Stockholm:20240215T200000
DTSTAMP:20260423T080807
CREATED:20240102T001338Z
LAST-MODIFIED:20240102T001338Z
UID:6541-1708020000-1708027200@karlstad.schack.se
SUMMARY:Juniorgrupper
DESCRIPTION:För barn upp till 10 år gäller tiden kl 18.00-19.00. \nFör barn 11 år och uppåt gäller tiden kl 19.00-20.00. \nVi gör undantag med ålder\, om man nivå- eller kompismässigt känner sig mer hemma i endera gruppen.
URL:https://karlstad.schack.se/evenemang/juniorgrupper-4/
LOCATION:Karlstad AS spellokal\, Sundbergsgatan 12b\, Karlstad\, 652 19\, Sverige
ORGANIZER;CN="Juniorledare Karlstad AS":MAILTO:karlstad.schacksallskap@gmail.com; arvpas@gmail.com; kjellake.andersson56@outlook.com; andrewwegerif@gmail.com
END:VEVENT
BEGIN:VEVENT
DTSTART;TZID=Europe/Stockholm:20240220T190000
DTEND;TZID=Europe/Stockholm:20240220T213000
DTSTAMP:20260423T080807
CREATED:20240101T201409Z
LAST-MODIFIED:20240228T124638Z
UID:6433-1708455600-1708464600@karlstad.schack.se
SUMMARY:Tematurnering R1
DESCRIPTION:Rond 1 . 60 min + 30 sek/drag. \nTematurneringen spelas från en i förväg bestämd position.  Förslag välkomnas och röstning på tema sker senast en vecka innan turneringen startar. \nTotalt spelas turneringen under fyra tisdagskvällar\, en rond per kväll. Spelare kommer om möjligt lottas så att man får spela två partier som vit och två partier som svart. \nTemat är Spanskt. 1. e4 e5 2. Sf6 Sc6 3. Lb5
URL:https://karlstad.schack.se/evenemang/tematurnering-r1/
LOCATION:Karlstad AS spellokal\, Sundbergsgatan 12b\, Karlstad\, 652 19\, Sverige
ORGANIZER;CN="Lars-Erik Johansson":MAILTO:larserik21.johansson@gmail.com
END:VEVENT
BEGIN:VEVENT
DTSTART;TZID=Europe/Stockholm:20240222T180000
DTEND;TZID=Europe/Stockholm:20240222T200000
DTSTAMP:20260423T080807
CREATED:20240102T001526Z
LAST-MODIFIED:20240102T001526Z
UID:6543-1708624800-1708632000@karlstad.schack.se
SUMMARY:Juniorgrupper
DESCRIPTION:För barn upp till 10 år gäller tiden kl 18.00-19.00. \nFör barn 11 år och uppåt gäller tiden kl 19.00-20.00. \nVi gör undantag med ålder\, om man nivå- eller kompismässigt känner sig mer hemma i endera gruppen.
URL:https://karlstad.schack.se/evenemang/juniorgrupper-5/
LOCATION:Karlstad AS spellokal\, Sundbergsgatan 12b\, Karlstad\, 652 19\, Sverige
ORGANIZER;CN="Juniorledare Karlstad AS":MAILTO:karlstad.schacksallskap@gmail.com; arvpas@gmail.com; kjellake.andersson56@outlook.com; andrewwegerif@gmail.com
END:VEVENT
BEGIN:VEVENT
DTSTART;VALUE=DATE:20240225
DTEND;VALUE=DATE:20240226
DTSTAMP:20260423T080807
CREATED:20231223T154354Z
LAST-MODIFIED:20240102T183218Z
UID:6363-1708819200-1708905599@karlstad.schack.se
SUMMARY:Allsvenskan
DESCRIPTION:Hemmamatch mot Linköping ASS III.
URL:https://karlstad.schack.se/evenemang/allsvenskan-3/
LOCATION:Karlstad AS spellokal\, Sundbergsgatan 12b\, Karlstad\, 652 19\, Sverige
ORGANIZER;CN="Lars-Erik Johansson":MAILTO:larserik21.johansson@gmail.com
END:VEVENT
BEGIN:VEVENT
DTSTART;TZID=Europe/Stockholm:20240227T130000
DTEND;TZID=Europe/Stockholm:20240227T150000
DTSTAMP:20260423T080807
CREATED:20240223T153334Z
LAST-MODIFIED:20240223T153938Z
UID:7858-1709038800-1709046000@karlstad.schack.se
SUMMARY:Sportlovsschack
DESCRIPTION:Sportlovsschack på Karlstads stadsbibliotek. Öppet för allmänheten.
URL:https://karlstad.schack.se/evenemang/sportlovsschack/
LOCATION:Stadsbiblioteket\, Västra Torggatan\, Karlstad\, 652 24
ORGANIZER;CN="Karlstads Allm%C3%A4nna Schacks%C3%A4llskap":MAILTO:karlstad.schacksallskap@gmail.com
END:VEVENT
BEGIN:VEVENT
DTSTART;TZID=Europe/Stockholm:20240227T190000
DTEND;TZID=Europe/Stockholm:20240227T213000
DTSTAMP:20260423T080807
CREATED:20240101T201537Z
LAST-MODIFIED:20240101T211807Z
UID:6435-1709060400-1709069400@karlstad.schack.se
SUMMARY:Snabbschack
DESCRIPTION:15 min. 5 ronder
URL:https://karlstad.schack.se/evenemang/tematurnering-r2/
LOCATION:Karlstad AS spellokal\, Sundbergsgatan 12b\, Karlstad\, 652 19\, Sverige
ORGANIZER;CN="Lars-Erik Johansson":MAILTO:larserik21.johansson@gmail.com
END:VEVENT
BEGIN:VEVENT
DTSTART;TZID=Europe/Stockholm:20240229T130000
DTEND;TZID=Europe/Stockholm:20240229T150000
DTSTAMP:20260423T080807
CREATED:20240223T153715Z
LAST-MODIFIED:20240223T153743Z
UID:7863-1709211600-1709218800@karlstad.schack.se
SUMMARY:Sportlovsschack
DESCRIPTION:Sportlovsschack på Karlstads stadsbibliotek. Öppet för allmänheten.
URL:https://karlstad.schack.se/evenemang/sportlovsschack-pa-biblioteket/
LOCATION:Stadsbiblioteket\, Västra Torggatan\, Karlstad\, 652 24
ORGANIZER;CN="Karlstads Allm%C3%A4nna Schacks%C3%A4llskap":MAILTO:karlstad.schacksallskap@gmail.com
END:VEVENT
BEGIN:VEVENT
DTSTART;TZID=Europe/Stockholm:20240305T190000
DTEND;TZID=Europe/Stockholm:20240305T213000
DTSTAMP:20260423T080807
CREATED:20240101T202623Z
LAST-MODIFIED:20240228T125325Z
UID:6442-1709665200-1709674200@karlstad.schack.se
SUMMARY:Tematurnering R2
DESCRIPTION:Rond 2. 60 min + 30 sek/drag. \nTemat är Spanskt. 1. e4 e5 2. Sf6 Sc6 3. Lb5  \nLottning rond 2:
URL:https://karlstad.schack.se/evenemang/snabbschack-2/
LOCATION:Karlstad AS spellokal\, Sundbergsgatan 12b\, Karlstad\, 652 19\, Sverige
ORGANIZER;CN="Lars-Erik Johansson":MAILTO:larserik21.johansson@gmail.com
END:VEVENT
BEGIN:VEVENT
DTSTART;TZID=Europe/Stockholm:20240307T180000
DTEND;TZID=Europe/Stockholm:20240307T200000
DTSTAMP:20260423T080807
CREATED:20240102T001744Z
LAST-MODIFIED:20240102T001744Z
UID:6545-1709834400-1709841600@karlstad.schack.se
SUMMARY:Juniorgrupper
DESCRIPTION:För barn upp till 10 år gäller tiden kl 18.00-19.00. \nFör barn 11 år och uppåt gäller tiden kl 19.00-20.00. \nVi gör undantag med ålder\, om man nivå- eller kompismässigt känner sig mer hemma i endera gruppen.
URL:https://karlstad.schack.se/evenemang/juniorgrupper-6/
LOCATION:Karlstad AS spellokal\, Sundbergsgatan 12b\, Karlstad\, 652 19\, Sverige
ORGANIZER;CN="Juniorledare Karlstad AS":MAILTO:karlstad.schacksallskap@gmail.com; arvpas@gmail.com; kjellake.andersson56@outlook.com; andrewwegerif@gmail.com
END:VEVENT
BEGIN:VEVENT
DTSTART;TZID=Europe/Stockholm:20240309T130000
DTEND;TZID=Europe/Stockholm:20240309T163000
DTSTAMP:20260423T080807
CREATED:20240101T234737Z
LAST-MODIFIED:20240305T180657Z
UID:6518-1709989200-1710001800@karlstad.schack.se
SUMMARY:Juniorturnering Fågeltornet
DESCRIPTION:Första delturneringen i serien Wermland Junior Grand Prix. \nhttps://karlstad.schack.se/2024/02/17/inbjudan-juniorturnering-fageltornet-9-3/
URL:https://karlstad.schack.se/evenemang/juniorturnering-fageltornet/
LOCATION:Karlstad AS spellokal\, Sundbergsgatan 12b\, Karlstad\, 652 19\, Sverige
ORGANIZER;CN="Juniorledare Karlstad AS":MAILTO:karlstad.schacksallskap@gmail.com; arvpas@gmail.com; kjellake.andersson56@outlook.com; andrewwegerif@gmail.com
END:VEVENT
BEGIN:VEVENT
DTSTART;TZID=Europe/Stockholm:20240312T190000
DTEND;TZID=Europe/Stockholm:20240312T213000
DTSTAMP:20260423T080807
CREATED:20240101T202309Z
LAST-MODIFIED:20240318T140135Z
UID:6440-1710270000-1710279000@karlstad.schack.se
SUMMARY:Tematurnering R3
DESCRIPTION:Rond 3. 60 min + 30 sek/drag. \nLottning rond 3:
URL:https://karlstad.schack.se/evenemang/tematurnering-r3/
LOCATION:Karlstad AS spellokal\, Sundbergsgatan 12b\, Karlstad\, 652 19\, Sverige
ORGANIZER;CN="Lars-Erik Johansson":MAILTO:larserik21.johansson@gmail.com
END:VEVENT
BEGIN:VEVENT
DTSTART;TZID=Europe/Stockholm:20240314T180000
DTEND;TZID=Europe/Stockholm:20240314T200000
DTSTAMP:20260423T080807
CREATED:20240102T001926Z
LAST-MODIFIED:20240102T001926Z
UID:6547-1710439200-1710446400@karlstad.schack.se
SUMMARY:Juniorgrupper
DESCRIPTION:För barn upp till 10 år gäller tiden kl 18.00-19.00. \nFör barn 11 år och uppåt gäller tiden kl 19.00-20.00. \nVi gör undantag med ålder\, om man nivå- eller kompismässigt känner sig mer hemma i endera gruppen.
URL:https://karlstad.schack.se/evenemang/juniorgrupper-7/
LOCATION:Karlstad AS spellokal\, Sundbergsgatan 12b\, Karlstad\, 652 19\, Sverige
ORGANIZER;CN="Juniorledare Karlstad AS":MAILTO:karlstad.schacksallskap@gmail.com; arvpas@gmail.com; kjellake.andersson56@outlook.com; andrewwegerif@gmail.com
END:VEVENT
BEGIN:VEVENT
DTSTART;VALUE=DATE:20240316
DTEND;VALUE=DATE:20240317
DTSTAMP:20260423T080807
CREATED:20231223T154224Z
LAST-MODIFIED:20240124T210754Z
UID:6361-1710547200-1710633599@karlstad.schack.se
SUMMARY:Allsvenskan
DESCRIPTION:Bortamatch mot Schack 08\, Norrköping II.
URL:https://karlstad.schack.se/evenemang/allsvenskan-2/
ORGANIZER;CN="Lars-Erik Johansson":MAILTO:larserik21.johansson@gmail.com
END:VEVENT
BEGIN:VEVENT
DTSTART;VALUE=DATE:20240317
DTEND;VALUE=DATE:20240318
DTSTAMP:20260423T080807
CREATED:20231223T154532Z
LAST-MODIFIED:20240102T183149Z
UID:6365-1710633600-1710719999@karlstad.schack.se
SUMMARY:Allsvenskan
DESCRIPTION:Bortamatch not SS Allians/Motala SS
URL:https://karlstad.schack.se/evenemang/allsvenskan-4/
ORGANIZER;CN="Lars-Erik Johansson":MAILTO:larserik21.johansson@gmail.com
END:VEVENT
BEGIN:VEVENT
DTSTART;TZID=Europe/Stockholm:20240319T190000
DTEND;TZID=Europe/Stockholm:20240319T210000
DTSTAMP:20260423T080807
CREATED:20240101T203124Z
LAST-MODIFIED:20240101T211944Z
UID:6446-1710874800-1710882000@karlstad.schack.se
SUMMARY:Blixt
DESCRIPTION:5 min.
URL:https://karlstad.schack.se/evenemang/tematurnering-r4/
LOCATION:Karlstad AS spellokal\, Sundbergsgatan 12b\, Karlstad\, 652 19\, Sverige
ORGANIZER;CN="Lars-Erik Johansson":MAILTO:larserik21.johansson@gmail.com
END:VEVENT
BEGIN:VEVENT
DTSTART;TZID=Europe/Stockholm:20240321T180000
DTEND;TZID=Europe/Stockholm:20240321T200000
DTSTAMP:20260423T080807
CREATED:20240102T002031Z
LAST-MODIFIED:20240102T002031Z
UID:6549-1711044000-1711051200@karlstad.schack.se
SUMMARY:Juniorgrupper
DESCRIPTION:För barn upp till 10 år gäller tiden kl 18.00-19.00. \nFör barn 11 år och uppåt gäller tiden kl 19.00-20.00. \nVi gör undantag med ålder\, om man nivå- eller kompismässigt känner sig mer hemma i endera gruppen.
URL:https://karlstad.schack.se/evenemang/juniorgrupper-8/
LOCATION:Karlstad AS spellokal\, Sundbergsgatan 12b\, Karlstad\, 652 19\, Sverige
ORGANIZER;CN="Juniorledare Karlstad AS":MAILTO:karlstad.schacksallskap@gmail.com; arvpas@gmail.com; kjellake.andersson56@outlook.com; andrewwegerif@gmail.com
END:VEVENT
BEGIN:VEVENT
DTSTART;TZID=Europe/Stockholm:20240324T111500
DTEND;TZID=Europe/Stockholm:20240324T141500
DTSTAMP:20260423T080807
CREATED:20240211T151046Z
LAST-MODIFIED:20240211T151443Z
UID:7837-1711278900-1711289700@karlstad.schack.se
SUMMARY:Individuella Blixt-DM
DESCRIPTION:
URL:https://karlstad.schack.se/evenemang/individuella-blixt-dm/
LOCATION:Hammarö Sockenstuga\, Sverres väg 5\, Hammarö\, 663 41\, Sverige
ORGANIZER;CN="V%C3%A4rmlands Schackf%C3%B6rbund":MAILTO:kjellake.andersson56@outlook.com
END:VEVENT
BEGIN:VEVENT
DTSTART;TZID=Europe/Stockholm:20240326T190000
DTEND;TZID=Europe/Stockholm:20240326T213000
DTSTAMP:20260423T080807
CREATED:20240101T205639Z
LAST-MODIFIED:20240325T131726Z
UID:6459-1711479600-1711488600@karlstad.schack.se
SUMMARY:Tematurnering R4
DESCRIPTION:Slutrond 4. 60 min + 30 sek/drag. \nLottning r4:\nL-E johansson – Berth Bråby\nMattias Lestander – Arvid Påsse\nRuben Hermansson – Birger Lundin
URL:https://karlstad.schack.se/evenemang/blixt-2/
LOCATION:Karlstad AS spellokal\, Sundbergsgatan 12b\, Karlstad\, 652 19\, Sverige
ORGANIZER;CN="Lars-Erik Johansson":MAILTO:larserik21.johansson@gmail.com
END:VEVENT
BEGIN:VEVENT
DTSTART;TZID=Europe/Stockholm:20240402T130000
DTEND;TZID=Europe/Stockholm:20240402T150000
DTSTAMP:20260423T080807
CREATED:20240329T141323Z
LAST-MODIFIED:20240329T141323Z
UID:7972-1712062800-1712070000@karlstad.schack.se
SUMMARY:Påsklovsschack på biblioteket
DESCRIPTION:Det är öppet för vem som helst att komma och spela\, kl 13-15.
URL:https://karlstad.schack.se/evenemang/pasklovsschack-pa-biblioteket/
LOCATION:Stadsbiblioteket\, Västra Torggatan\, Karlstad\, 652 24
ORGANIZER;CN="Juniorledare Karlstad AS":MAILTO:karlstad.schacksallskap@gmail.com; arvpas@gmail.com; kjellake.andersson56@outlook.com; andrewwegerif@gmail.com
END:VEVENT
BEGIN:VEVENT
DTSTART;TZID=Europe/Stockholm:20240402T190000
DTEND;TZID=Europe/Stockholm:20240402T210000
DTSTAMP:20260423T080807
CREATED:20240101T211430Z
LAST-MODIFIED:20240101T212258Z
UID:6461-1712084400-1712091600@karlstad.schack.se
SUMMARY:Snabbschack
DESCRIPTION:10 min. 6 ronder.
URL:https://karlstad.schack.se/evenemang/varturnering-r1/
LOCATION:Karlstad AS spellokal\, Sundbergsgatan 12b\, Karlstad\, 652 19\, Sverige
ORGANIZER;CN="Lars-Erik Johansson":MAILTO:larserik21.johansson@gmail.com
END:VEVENT
BEGIN:VEVENT
DTSTART;TZID=Europe/Stockholm:20240404T130000
DTEND;TZID=Europe/Stockholm:20240404T150000
DTSTAMP:20260423T080807
CREATED:20240329T141629Z
LAST-MODIFIED:20240329T141629Z
UID:7974-1712235600-1712242800@karlstad.schack.se
SUMMARY:Påsklovsschack på biblioteket
DESCRIPTION:Det är öppet för vem som helst att komma och spela\, kl 13-15.
URL:https://karlstad.schack.se/evenemang/pasklovsschack-pa-biblioteket-2/
LOCATION:Stadsbiblioteket\, Västra Torggatan\, Karlstad\, 652 24
ORGANIZER;CN="Juniorledare Karlstad AS":MAILTO:karlstad.schacksallskap@gmail.com; arvpas@gmail.com; kjellake.andersson56@outlook.com; andrewwegerif@gmail.com
END:VEVENT
BEGIN:VEVENT
DTSTART;TZID=Europe/Stockholm:20240409T190000
DTEND;TZID=Europe/Stockholm:20240409T220000
DTSTAMP:20260423T080807
CREATED:20240101T212702Z
LAST-MODIFIED:20240101T212702Z
UID:6474-1712689200-1712700000@karlstad.schack.se
SUMMARY:Vårturnering R1
DESCRIPTION:Rond 1. 90 min + 30 sek/drag. Totalt spelas 5 ronder\, 1 rond per spelkväll. Turneringen är Elo-registrerad.
URL:https://karlstad.schack.se/evenemang/varturnering-r1-2/
LOCATION:Karlstad AS spellokal\, Sundbergsgatan 12b\, Karlstad\, 652 19\, Sverige
ORGANIZER;CN="Lars-Erik Johansson":MAILTO:larserik21.johansson@gmail.com
END:VEVENT
BEGIN:VEVENT
DTSTART;TZID=Europe/Stockholm:20240411T180000
DTEND;TZID=Europe/Stockholm:20240411T200000
DTSTAMP:20260423T080807
CREATED:20240102T002459Z
LAST-MODIFIED:20240102T002459Z
UID:6553-1712858400-1712865600@karlstad.schack.se
SUMMARY:Juniorgrupper
DESCRIPTION:För barn upp till 10 år gäller tiden kl 18.00-19.00. \nFör barn 11 år och uppåt gäller tiden kl 19.00-20.00. \nVi gör undantag med ålder\, om man nivå- eller kompismässigt känner sig mer hemma i endera gruppen.
URL:https://karlstad.schack.se/evenemang/juniorgrupper-9/
LOCATION:Karlstad AS spellokal\, Sundbergsgatan 12b\, Karlstad\, 652 19\, Sverige
ORGANIZER;CN="Juniorledare Karlstad AS":MAILTO:karlstad.schacksallskap@gmail.com; arvpas@gmail.com; kjellake.andersson56@outlook.com; andrewwegerif@gmail.com
END:VEVENT
BEGIN:VEVENT
DTSTART;TZID=Europe/Stockholm:20240416T190000
DTEND;TZID=Europe/Stockholm:20240416T220000
DTSTAMP:20260423T080807
CREATED:20240101T212835Z
LAST-MODIFIED:20240410T160032Z
UID:6476-1713294000-1713304800@karlstad.schack.se
SUMMARY:Vårturnering R2
DESCRIPTION:Rond 2. 90 min + 30 sek/drag. \nhttps://member.schack.se/ShowTournamentServlet?id=13927&round=2
URL:https://karlstad.schack.se/evenemang/varturnering-r2/
LOCATION:Karlstad AS spellokal\, Sundbergsgatan 12b\, Karlstad\, 652 19\, Sverige
ORGANIZER;CN="Lars-Erik Johansson":MAILTO:larserik21.johansson@gmail.com
END:VEVENT
BEGIN:VEVENT
DTSTART;TZID=Europe/Stockholm:20240418T180000
DTEND;TZID=Europe/Stockholm:20240418T200000
DTSTAMP:20260423T080807
CREATED:20240102T002653Z
LAST-MODIFIED:20250209T205847Z
UID:6555-1713463200-1713470400@karlstad.schack.se
SUMMARY:Juniorgrupper
DESCRIPTION:För barn upp till 10 år gäller tiden kl 18.00-19.00. \nFör barn 11 år och uppåt gäller tiden kl 19.00-20.00. \nVi gör undantag med ålder\, om man nivå- eller kompismässigt känner sig mer hemma i endera gruppen.
URL:https://karlstad.schack.se/evenemang/juniorgrupper-10/
LOCATION:Karlstad AS spellokal\, Sundbergsgatan 12b\, Karlstad\, 652 19\, Sverige
ORGANIZER;CN="Juniorledare Karlstad AS":MAILTO:karlstad.schacksallskap@gmail.com; arvpas@gmail.com; kjellake.andersson56@outlook.com; andrewwegerif@gmail.com
END:VEVENT
BEGIN:VEVENT
DTSTART;TZID=Europe/Stockholm:20240420T140000
DTEND;TZID=Europe/Stockholm:20240420T170000
DTSTAMP:20260423T080807
CREATED:20240101T234858Z
LAST-MODIFIED:20240329T142239Z
UID:6520-1713621600-1713632400@karlstad.schack.se
SUMMARY:Säffleträffen juniorturnering
DESCRIPTION:Andra delturneringen i serien Wermland Junior Grand Prix. \nInbjudan Säffleträffen 20/4
URL:https://karlstad.schack.se/evenemang/wjgp-delturnering-2/
LOCATION:Säffle Schackklubb\, Västra Storgatan 10\, Säffle\, 661 30\, Sverige
ORGANIZER;CN="S%C3%A4ffle Schackklubb":MAILTO:saffleschackskola@gmail.com
END:VEVENT
BEGIN:VEVENT
DTSTART;TZID=Europe/Stockholm:20240423T190000
DTEND;TZID=Europe/Stockholm:20240423T220000
DTSTAMP:20260423T080807
CREATED:20240101T212955Z
LAST-MODIFIED:20240410T160317Z
UID:6478-1713898800-1713909600@karlstad.schack.se
SUMMARY:Vårturnering R3
DESCRIPTION:Rond 3. 90 min + 30 sek/drag. \nhttps://member.schack.se/ShowTournamentServlet?id=13927
URL:https://karlstad.schack.se/evenemang/varturnering-r3/
LOCATION:Karlstad AS spellokal\, Sundbergsgatan 12b\, Karlstad\, 652 19\, Sverige
ORGANIZER;CN="Lars-Erik Johansson":MAILTO:larserik21.johansson@gmail.com
END:VEVENT
BEGIN:VEVENT
DTSTART;TZID=Europe/Stockholm:20240425T180000
DTEND;TZID=Europe/Stockholm:20240425T200000
DTSTAMP:20260423T080807
CREATED:20240102T002821Z
LAST-MODIFIED:20240102T002821Z
UID:6557-1714068000-1714075200@karlstad.schack.se
SUMMARY:Juniorgrupper
DESCRIPTION:För barn upp till 10 år gäller tiden kl 18.00-19.00. \nFör barn 11 år och uppåt gäller tiden kl 19.00-20.00. \nVi gör undantag med ålder\, om man nivå- eller kompismässigt känner sig mer hemma i endera gruppen.
URL:https://karlstad.schack.se/evenemang/juniorgrupper-11/
LOCATION:Karlstad AS spellokal\, Sundbergsgatan 12b\, Karlstad\, 652 19\, Sverige
ORGANIZER;CN="Juniorledare Karlstad AS":MAILTO:karlstad.schacksallskap@gmail.com; arvpas@gmail.com; kjellake.andersson56@outlook.com; andrewwegerif@gmail.com
END:VEVENT
END:VCALENDAR