BEGIN:VCALENDAR
VERSION:2.0
PRODID:-//Karlstads Allmänna Schacksällskap - ECPv6.15.20//NONSGML v1.0//EN
CALSCALE:GREGORIAN
METHOD:PUBLISH
X-WR-CALNAME:Karlstads Allmänna Schacksällskap
X-ORIGINAL-URL:https://karlstad.schack.se
X-WR-CALDESC:Händelser för Karlstads Allmänna Schacksällskap
REFRESH-INTERVAL;VALUE=DURATION:PT1H
X-Robots-Tag:noindex
X-PUBLISHED-TTL:PT1H
BEGIN:VTIMEZONE
TZID:Europe/Stockholm
BEGIN:DAYLIGHT
TZOFFSETFROM:+0100
TZOFFSETTO:+0200
TZNAME:CEST
DTSTART:20250330T010000
END:DAYLIGHT
BEGIN:STANDARD
TZOFFSETFROM:+0200
TZOFFSETTO:+0100
TZNAME:CET
DTSTART:20251026T010000
END:STANDARD
BEGIN:DAYLIGHT
TZOFFSETFROM:+0100
TZOFFSETTO:+0200
TZNAME:CEST
DTSTART:20260329T010000
END:DAYLIGHT
BEGIN:STANDARD
TZOFFSETFROM:+0200
TZOFFSETTO:+0100
TZNAME:CET
DTSTART:20261025T010000
END:STANDARD
BEGIN:DAYLIGHT
TZOFFSETFROM:+0100
TZOFFSETTO:+0200
TZNAME:CEST
DTSTART:20270328T010000
END:DAYLIGHT
BEGIN:STANDARD
TZOFFSETFROM:+0200
TZOFFSETTO:+0100
TZNAME:CET
DTSTART:20271031T010000
END:STANDARD
END:VTIMEZONE
BEGIN:VEVENT
DTSTART;TZID=Europe/Stockholm:20260205T180000
DTEND;TZID=Europe/Stockholm:20260205T200000
DTSTAMP:20260419T214128
CREATED:20260110T191715Z
LAST-MODIFIED:20260124T132420Z
UID:10688-1770314400-1770321600@karlstad.schack.se
SUMMARY:Juniorgrupp/Turnering King of the Hill
DESCRIPTION:Alla är välkomna mellan 18.00 och 20.00. \nKl 18-19 under 10 år och nybörjare. Mittenrum\, kök. \nÄldre juniorer och/eller juniorer med spelvana\, bortre spelrum. \nValfritt spelrum för alla efter kl 19 om ej turnering pågår. \nUngefär varannan torsdagskväll har vi en förannonserad turnering i bortre spelrummet. \nFör att delta behöver du anmäla dig personligen minst 5 min innan start. \nTurnering i King of the Hill startar kl 19.00. 7 ronder\, betänketid 3 min + 2 sek tilläggstid per drag. \nKing of the Hill: Standardregler\, men man vinner också omedelbart om man lyckas placera sin kung på något av de fyra centrumfälten (e4\,d4\,e5\,d5) om kungen inte står i schack.
URL:https://karlstad.schack.se/evenemang/juniorgrupp-turnering-king-of-the-hill/
LOCATION:Karlstad AS spellokal\, Sundbergsgatan 12b\, Karlstad\, 652 19\, Sverige
ORGANIZER;CN="Juniorledare Karlstad AS":MAILTO:karlstad.schacksallskap@gmail.com; arvpas@gmail.com; kjellake.andersson56@outlook.com; andrewwegerif@gmail.com
END:VEVENT
END:VCALENDAR