BEGIN:VCALENDAR
VERSION:2.0
PRODID:-//Karlstads Allmänna Schacksällskap - ECPv6.15.20//NONSGML v1.0//EN
CALSCALE:GREGORIAN
METHOD:PUBLISH
X-ORIGINAL-URL:https://karlstad.schack.se
X-WR-CALDESC:Händelser för Karlstads Allmänna Schacksällskap
REFRESH-INTERVAL;VALUE=DURATION:PT1H
X-Robots-Tag:noindex
X-PUBLISHED-TTL:PT1H
BEGIN:VTIMEZONE
TZID:Europe/Stockholm
BEGIN:DAYLIGHT
TZOFFSETFROM:+0100
TZOFFSETTO:+0200
TZNAME:CEST
DTSTART:20240331T010000
END:DAYLIGHT
BEGIN:STANDARD
TZOFFSETFROM:+0200
TZOFFSETTO:+0100
TZNAME:CET
DTSTART:20241027T010000
END:STANDARD
BEGIN:DAYLIGHT
TZOFFSETFROM:+0100
TZOFFSETTO:+0200
TZNAME:CEST
DTSTART:20250330T010000
END:DAYLIGHT
BEGIN:STANDARD
TZOFFSETFROM:+0200
TZOFFSETTO:+0100
TZNAME:CET
DTSTART:20251026T010000
END:STANDARD
BEGIN:DAYLIGHT
TZOFFSETFROM:+0100
TZOFFSETTO:+0200
TZNAME:CEST
DTSTART:20260329T010000
END:DAYLIGHT
BEGIN:STANDARD
TZOFFSETFROM:+0200
TZOFFSETTO:+0100
TZNAME:CET
DTSTART:20261025T010000
END:STANDARD
END:VTIMEZONE
BEGIN:VEVENT
DTSTART;TZID=Europe/Stockholm:20251129T140000
DTEND;TZID=Europe/Stockholm:20251129T173000
DTSTAMP:20260420T051545
CREATED:20250213T034732Z
LAST-MODIFIED:20251114T180717Z
UID:8889-1764424800-1764437400@karlstad.schack.se
SUMMARY:Juniorturnering Sockenstugan (WJGP4)
DESCRIPTION:Välkommen till årets sista deltävling av Wermland Junior Grand Prix\, som också går att delta i fristående.\nAvslutas med prisutdelning för serievinnare. \nInbjudan
URL:https://karlstad.schack.se/evenemang/wjgp-deltavling-4/
LOCATION:Hammarö Sockenstuga\, Sverres väg 5\, Hammarö\, 663 41\, Sverige
ORGANIZER;CN="SSK Hammar%C3%B6":MAILTO:adrianmuntean.home@gmail.com
END:VEVENT
END:VCALENDAR