BEGIN:VCALENDAR
VERSION:2.0
PRODID:-//Karlstads Allmänna Schacksällskap - ECPv6.15.20//NONSGML v1.0//EN
CALSCALE:GREGORIAN
METHOD:PUBLISH
X-WR-CALNAME:Karlstads Allmänna Schacksällskap
X-ORIGINAL-URL:https://karlstad.schack.se
X-WR-CALDESC:Händelser för Karlstads Allmänna Schacksällskap
REFRESH-INTERVAL;VALUE=DURATION:PT1H
X-Robots-Tag:noindex
X-PUBLISHED-TTL:PT1H
BEGIN:VTIMEZONE
TZID:Europe/Stockholm
BEGIN:DAYLIGHT
TZOFFSETFROM:+0100
TZOFFSETTO:+0200
TZNAME:CEST
DTSTART:20240331T010000
END:DAYLIGHT
BEGIN:STANDARD
TZOFFSETFROM:+0200
TZOFFSETTO:+0100
TZNAME:CET
DTSTART:20241027T010000
END:STANDARD
BEGIN:DAYLIGHT
TZOFFSETFROM:+0100
TZOFFSETTO:+0200
TZNAME:CEST
DTSTART:20250330T010000
END:DAYLIGHT
BEGIN:STANDARD
TZOFFSETFROM:+0200
TZOFFSETTO:+0100
TZNAME:CET
DTSTART:20251026T010000
END:STANDARD
BEGIN:DAYLIGHT
TZOFFSETFROM:+0100
TZOFFSETTO:+0200
TZNAME:CEST
DTSTART:20260329T010000
END:DAYLIGHT
BEGIN:STANDARD
TZOFFSETFROM:+0200
TZOFFSETTO:+0100
TZNAME:CET
DTSTART:20261025T010000
END:STANDARD
END:VTIMEZONE
BEGIN:VEVENT
DTSTART;TZID=Europe/Stockholm:20251028T140000
DTEND;TZID=Europe/Stockholm:20251028T160000
DTSTAMP:20260420T032515
CREATED:20251023T141145Z
LAST-MODIFIED:20251024T134205Z
UID:10384-1761660000-1761667200@karlstad.schack.se
SUMMARY:Michael Wiander - schack på stadsbiblioteket
DESCRIPTION:Schacktränaren och barnboksförfattaren Michael Wiander besöker Karlstad stadsbibliotek. \nI programmet är kort föredrag\, högläsning ur bok\, och sedan simultanschack.  \nOm Michael Wiander
URL:https://karlstad.schack.se/evenemang/mikael-wiander-pa-stadsbiblioteket/
LOCATION:Stadsbiblioteket\, Västra Torggatan\, Karlstad\, 652 24
ORGANIZER;CN="V%C3%A4rmlands Schackf%C3%B6rbund":MAILTO:kjellake.andersson56@outlook.com
END:VEVENT
BEGIN:VEVENT
DTSTART;TZID=Europe/Stockholm:20251028T190000
DTEND;TZID=Europe/Stockholm:20251028T210000
DTSTAMP:20260420T032515
CREATED:20250820T235751Z
LAST-MODIFIED:20250821T000528Z
UID:9454-1761678000-1761685200@karlstad.schack.se
SUMMARY:Öppen kväll
DESCRIPTION:Öppen kväll på klubben. \nMöjlighet att spela restpartier från KM\, etc. \nKlubblokalen är öppen från 18.30 \n  \n 
URL:https://karlstad.schack.se/evenemang/oppen-kvall/
LOCATION:Karlstad AS spellokal\, Sundbergsgatan 12b\, Karlstad\, 652 19\, Sverige
ORGANIZER;CN="Karlstads Allm%C3%A4nna Schacks%C3%A4llskap":MAILTO:karlstad.schacksallskap@gmail.com
END:VEVENT
END:VCALENDAR