BEGIN:VCALENDAR
VERSION:2.0
PRODID:-//Karlstads Allmänna Schacksällskap - ECPv6.15.20//NONSGML v1.0//EN
CALSCALE:GREGORIAN
METHOD:PUBLISH
X-ORIGINAL-URL:https://karlstad.schack.se
X-WR-CALDESC:Händelser för Karlstads Allmänna Schacksällskap
REFRESH-INTERVAL;VALUE=DURATION:PT1H
X-Robots-Tag:noindex
X-PUBLISHED-TTL:PT1H
BEGIN:VTIMEZONE
TZID:Europe/Stockholm
BEGIN:DAYLIGHT
TZOFFSETFROM:+0100
TZOFFSETTO:+0200
TZNAME:CEST
DTSTART:20240331T010000
END:DAYLIGHT
BEGIN:STANDARD
TZOFFSETFROM:+0200
TZOFFSETTO:+0100
TZNAME:CET
DTSTART:20241027T010000
END:STANDARD
BEGIN:DAYLIGHT
TZOFFSETFROM:+0100
TZOFFSETTO:+0200
TZNAME:CEST
DTSTART:20250330T010000
END:DAYLIGHT
BEGIN:STANDARD
TZOFFSETFROM:+0200
TZOFFSETTO:+0100
TZNAME:CET
DTSTART:20251026T010000
END:STANDARD
BEGIN:DAYLIGHT
TZOFFSETFROM:+0100
TZOFFSETTO:+0200
TZNAME:CEST
DTSTART:20260329T010000
END:DAYLIGHT
BEGIN:STANDARD
TZOFFSETFROM:+0200
TZOFFSETTO:+0100
TZNAME:CET
DTSTART:20261025T010000
END:STANDARD
END:VTIMEZONE
BEGIN:VEVENT
DTSTART;TZID=Europe/Stockholm:20250330T100000
DTEND;TZID=Europe/Stockholm:20250330T111500
DTSTAMP:20260421T071423
CREATED:20250322T225438Z
LAST-MODIFIED:20250322T225930Z
UID:9281-1743328800-1743333300@karlstad.schack.se
SUMMARY:Årsmöte Värmlands Schackförbund
DESCRIPTION:Medlemmar från alla klubbar i Värmland är varmt välkomna.  \nOBS! Ny dag (flyttad från 29/2 pga lagmatch) \nSTYRELSEN VSF
URL:https://karlstad.schack.se/evenemang/arsmote-varmlands-schackforbund/
LOCATION:Karlstad AS spellokal\, Sundbergsgatan 12b\, Karlstad\, 652 19\, Sverige
ORGANIZER;CN="V%C3%A4rmlands Schackf%C3%B6rbund":MAILTO:kjellake.andersson56@outlook.com
END:VEVENT
BEGIN:VEVENT
DTSTART;TZID=Europe/Stockholm:20250330T111500
DTEND;TZID=Europe/Stockholm:20250330T133000
DTSTAMP:20260421T071423
CREATED:20250322T202031Z
LAST-MODIFIED:20250322T202031Z
UID:9266-1743333300-1743341400@karlstad.schack.se
SUMMARY:Blixt-DM
DESCRIPTION:Årets blixt-DM spelas 30 mars kl 11.30 i Karlstad AS spellokal.\nAvprickning 11.15 under förutsättning att VSF  årsmöte avslutat.\nOBS! Kom ihåg sommartiden!\n3 min + 2 sek tillägg\, 9 ronder Schweizer.\n100 kr till Swish 123 680 36 13 el bg 525-0717\nFika ingår.\nTvå klasser över under 1600. Alla spelar dock i samma grupp.\nPlaketter till de främsta. Inteckning i vandringspris till DM-segraren.\nAnmälan till kjellake.andersson56@outlook.com senast 25 mars.
URL:https://karlstad.schack.se/evenemang/blixt-dm/
LOCATION:Karlstad AS spellokal\, Sundbergsgatan 12b\, Karlstad\, 652 19\, Sverige
ORGANIZER;CN="V%C3%A4rmlands Schackf%C3%B6rbund":MAILTO:kjellake.andersson56@outlook.com
END:VEVENT
END:VCALENDAR