BEGIN:VCALENDAR
VERSION:2.0
PRODID:-//Karlstads Allmänna Schacksällskap - ECPv6.15.20//NONSGML v1.0//EN
CALSCALE:GREGORIAN
METHOD:PUBLISH
X-ORIGINAL-URL:https://karlstad.schack.se
X-WR-CALDESC:Händelser för Karlstads Allmänna Schacksällskap
REFRESH-INTERVAL;VALUE=DURATION:PT1H
X-Robots-Tag:noindex
X-PUBLISHED-TTL:PT1H
BEGIN:VTIMEZONE
TZID:Europe/Stockholm
BEGIN:DAYLIGHT
TZOFFSETFROM:+0100
TZOFFSETTO:+0200
TZNAME:CEST
DTSTART:20240331T010000
END:DAYLIGHT
BEGIN:STANDARD
TZOFFSETFROM:+0200
TZOFFSETTO:+0100
TZNAME:CET
DTSTART:20241027T010000
END:STANDARD
BEGIN:DAYLIGHT
TZOFFSETFROM:+0100
TZOFFSETTO:+0200
TZNAME:CEST
DTSTART:20250330T010000
END:DAYLIGHT
BEGIN:STANDARD
TZOFFSETFROM:+0200
TZOFFSETTO:+0100
TZNAME:CET
DTSTART:20251026T010000
END:STANDARD
BEGIN:DAYLIGHT
TZOFFSETFROM:+0100
TZOFFSETTO:+0200
TZNAME:CEST
DTSTART:20260329T010000
END:DAYLIGHT
BEGIN:STANDARD
TZOFFSETFROM:+0200
TZOFFSETTO:+0100
TZNAME:CET
DTSTART:20261025T010000
END:STANDARD
END:VTIMEZONE
BEGIN:VEVENT
DTSTART;TZID=Europe/Stockholm:20250225T130000
DTEND;TZID=Europe/Stockholm:20250225T150000
DTSTAMP:20260421T085605
CREATED:20250217T141538Z
LAST-MODIFIED:20250217T141538Z
UID:9047-1740488400-1740495600@karlstad.schack.se
SUMMARY:Sportlovsschack på stadsbilblioteket
DESCRIPTION:Öppet för allmänheten\, alla är välkomna.
URL:https://karlstad.schack.se/evenemang/sportlovsschack-pa-stadsbilblioteket/
LOCATION:Stadsbiblioteket\, Västra Torggatan\, Karlstad\, 652 24
ORGANIZER;CN="Karlstads Allm%C3%A4nna Schacks%C3%A4llskap":MAILTO:karlstad.schacksallskap@gmail.com
END:VEVENT
BEGIN:VEVENT
DTSTART;TZID=Europe/Stockholm:20250225T190000
DTEND;TZID=Europe/Stockholm:20250225T213000
DTSTAMP:20260421T085605
CREATED:20250213T043826Z
LAST-MODIFIED:20250213T044429Z
UID:8893-1740510000-1740519000@karlstad.schack.se
SUMMARY:Nybörjare + Fischer Random
DESCRIPTION:Vår klubblokal har två separata spelrum\, det finns därför möjlighet till parallell verksamhet.\nEna spelrummet är lite bättre anpassat för lärande och analys\, i det andra brukar vi ha turneringar av olika form. \nKvällens turnering är Fischer Random\, 5 ronder med betänketiden 15 min.
URL:https://karlstad.schack.se/evenemang/nyborjare-fischer-random/
END:VEVENT
END:VCALENDAR