BEGIN:VCALENDAR
VERSION:2.0
PRODID:-//Karlstads Allmänna Schacksällskap - ECPv6.15.20//NONSGML v1.0//EN
CALSCALE:GREGORIAN
METHOD:PUBLISH
X-WR-CALNAME:Karlstads Allmänna Schacksällskap
X-ORIGINAL-URL:https://karlstad.schack.se
X-WR-CALDESC:Händelser för Karlstads Allmänna Schacksällskap
REFRESH-INTERVAL;VALUE=DURATION:PT1H
X-Robots-Tag:noindex
X-PUBLISHED-TTL:PT1H
BEGIN:VTIMEZONE
TZID:Europe/Stockholm
BEGIN:DAYLIGHT
TZOFFSETFROM:+0100
TZOFFSETTO:+0200
TZNAME:CEST
DTSTART:20240331T010000
END:DAYLIGHT
BEGIN:STANDARD
TZOFFSETFROM:+0200
TZOFFSETTO:+0100
TZNAME:CET
DTSTART:20241027T010000
END:STANDARD
BEGIN:DAYLIGHT
TZOFFSETFROM:+0100
TZOFFSETTO:+0200
TZNAME:CEST
DTSTART:20250330T010000
END:DAYLIGHT
BEGIN:STANDARD
TZOFFSETFROM:+0200
TZOFFSETTO:+0100
TZNAME:CET
DTSTART:20251026T010000
END:STANDARD
BEGIN:DAYLIGHT
TZOFFSETFROM:+0100
TZOFFSETTO:+0200
TZNAME:CEST
DTSTART:20260329T010000
END:DAYLIGHT
BEGIN:STANDARD
TZOFFSETFROM:+0200
TZOFFSETTO:+0100
TZNAME:CET
DTSTART:20261025T010000
END:STANDARD
END:VTIMEZONE
BEGIN:VEVENT
DTSTART;TZID=Europe/Stockholm:20250128T183000
DTEND;TZID=Europe/Stockholm:20250128T203000
DTSTAMP:20260421T115403
CREATED:20250112T140931Z
LAST-MODIFIED:20250113T003213Z
UID:8450-1738089000-1738096200@karlstad.schack.se
SUMMARY:Nybörjarkväll
DESCRIPTION:Nybörjarkvällen är i första hand tänkt för vuxna eller juniorer ca 15+\, för yngre juniorer föreslår vi istället juniorgruppen. \nÄr du nyfiken på schack\, men inte spelat så mycket tidigare?\nDu kanske sett filmer som The Queen’s Gambit\, eller streamare som GothamChess\, GMHikaru?\nKanske har du testat att spela lite grann på nätet\, ex chess.com?\nEller har du nästan ingen erfarenhet alls men vill veta mer? \nVi kommer den här kvällen att ha särskilt fokus på att hjälpa nya spelare\, och anpassa efter behov.\nVi bjuder som vanligt på fika/dryck\, och det kostar ingenting att prova på. \nVarmt välkommen!
URL:https://karlstad.schack.se/evenemang/nyborjarkvall-vuxna-juniorer-15/
LOCATION:Karlstad AS spellokal\, Sundbergsgatan 12b\, Karlstad\, 652 19\, Sverige
ORGANIZER;CN="Karlstads Allm%C3%A4nna Schacks%C3%A4llskap":MAILTO:karlstad.schacksallskap@gmail.com
END:VEVENT
END:VCALENDAR